Workbook
Name CDP: [1]!Tabla3[CDP]
Name CDPPROYECTO: [1]!Tabla3[PROYECTO]
Name CODIGO: [1]!Tabla2[CÓDIGO DE PROYECTO BPIN]
Name estado: [1]!Tabla7[Estado]
Name Frecuencia: [1]!Tabla6[Frecuencia]
Name PROYECTO: [1]!Tabla2[PROYECTO DE INVERSIÓN]
Name PROYECTOS: [1]!Tabla2[PROYECTO DE INVERSIÓN]
Name RP: [1]!Tabla5[RP]

Sheet INSTRUCTIVO
B1: INSTRUCTIVO PARA EL DILIGENCIAMIENTO DEL PLAN DE ACCIÓN INSTITUCIONAL VIGENCIA 2024
B2: PLANTEAMIENTO ESTRATÉGICO PLAN DE ACCIÓN INSTITUCIONAL (Hoja 1)
B3: OBJETIVO DE DESARROLLO SOSTENIBLE | C3: Ingrese en esta casilla el ODS con el que se articula el programa de su competencia según el Acuerdo 139 que adopta el Plan de Desarrollo Distrital 2024-2027 'Cartagena, Ciudad de Derechos'.
B4: OBJETIVO ESTRATÉGICO | C4: Ingrese en esta casilla el objetivo estratégico definido en la plataforma estratégica, relacionado con su proceso y con la línea estratégica en la cual el Acuerdo 139 del 2024 le asignó su responsabilidad.
B5: LINEA ESTRATÉGICA | C5: Ingrese en esta casilla la línea estratégica correspondiente al programa de su competencia según el Acuerdo 139 que adopta el Plan de Desarrollo Distrital 2024-2027 'Cartagena, Ciudad de Derechos'.
B6: IMPULSOR DE AVANCE | C6: Ingrese en esta casilla el impulsor de avance que facilita el logro del objetivo del programa de su competencia según el Acuerdo 139 que adopta el Plan de Desarrollo Distrital 2024-2027 'Cartagena, Ciudad de Derechos'.
B7: META DE RESULTADO | C7: Ingrese en esta casilla la meta de resultado esperada del programa de su competencia según el Acuerdo 139 que adopta el Plan de Desarrollo Distrital 2024-2027 'Cartagena, Ciudad de Derechos'.
B8: PROGRAMA | C8: Ingrese en esta casilla el nombre de los programas de su competencia según el Acuerdo 139 que adopta el Plan de Desarrollo Distrital 2024-2027 'Cartagena, Ciudad de Derechos' (revise e incorpore los programas del Capítulo de los Pueblos y Comunidades Étnicas donde tienen compromisos, así como sus metas compartidas con otras dependencias).
B9: CÓDIGO DE PROGRAMA | C9: Ingrese en esta casilla el código del programa establecido en el Plan Operativo Anual de Inversiones.
B10: INDICADOR DE PRODUCTO SEGÚN PDD | C10: Ingrese en este casilla el indicador definido para cumplir la meta de producto en el Plan de Desarrollo según el Acuerdo 139 que adopta el Plan de Desarrollo Distrital 2024-2027 'Cartagena, Ciudad de Derechos'
B11: UNIDAD DE MEDIDA DEL INDICADOR DE PRODUCTO | C11: Ingrese en esta casilla la expresion fisica con la que se mostrará el resultado de la meta propuesta. (Ejemplo: número, porcentaje, kilometro).
B12: LINEA BASE SEGUN PDD | C12: Ingrese en esta casilla el valor que se encuentra en el Acuerdo 139 que adopta el Plan de Desarrollo Distrital 2024-2027 'Cartagena, Ciudad de Derechos', como el punto de partida para definir el alcance de la meta producto.
B13: DESCRIPCION DE LA META PRODUCTO 2024-2027 | C13: Ingrese en esta casilla lo que persigue el indicador en el cuatrenio, se encuentra plasmado en el Acuerdo 139 que adopta el Plan de Desarrollo Distrital 2024-2027 'Cartagena, Ciudad de Derechos'
B14: PONDERACION DE LA META PRODUCTO | C14: Ingrese en esta casilla el valor porcentual asignado a la meta producto
... B18: PROGRAMACIÓN META PRODUCTO A 2024 | C18: Ingrese en esta casilla, la cantidad de la meta propuesta para la actual vigencia, relacionada con el Plan Indicativo.
B20: GESTIÓN ADMINISTRATIVA MIPG (Hoja 2)
B21: El objetivo principal del Modelo Integrado de Planeación y Gestión - MIPG es dinamizar la gestión de las organizaciones públicas para generar bienes y servicios que resuelvan efectivamente las necesidades de la ciudadanía en el marco de la integralidad y la legalidad y la promoción de acciones que contribuyan a la lucha contra la corrupcion. Por lo que el principal beneficio del actual Modelo Integrado de Planeación y Gestión - MIPG es su contribución al fortalecimiento de las capacidades de las organizaciones, ya que se focaliza en las prácticas y procesos clave que ellas adelantan para convertir insumos en resultados, apuntando a transformar el Estado Colombiano, de un Estado legislativo a un Estado prestador de servicios. En relacion a lo anterior pretendemos que se identifique desde su dependencia como se relaciona el trabajo que se efectua para lograr lo propuesto.
B22: META DE RESULTADO | C22: Ingrese en esta casilla la meta de resultado esperada del programa de su competencia según el Acuerdo 139 que adopta el Plan de Desarrollo Distrital 2024-2027 'Cartagena, Ciudad de Derechos'.
B23: DIMENSIONES DE MIPG | C23: Ingrese en esta casilla la dimensión identificada: Definir desde la competencia de la dependencia y sus procesos con que dimensión se identifican de las 7 que componen el modelo. Como son: 1. Talento Humano 2. Direccionamiento Estrategico 3. Gestion con Valores por Resultados 4. Evaluacion de Resultados 5. Informacion y Comunicación 6. Gestion del Conocimiento 7. Control Interno
B24: POLÍTICAS DE GESTIÓN Y DESEMPEÑO INSTITUCIONAL | C24: Relacione en esta casilla la política de gestión y desempeño institucional alineada a su proceso (Éstas se ubican en una de las siete dimensiones de MIPG y las 19 políticas)
B25: PROCESO ASOCIADO A PROGRAMA Y PRODUCTO | C25: Relacione en esta casilla el proceso de gestión asociado al programa y al producto (Identifique el proceso de su competencia en el mapa de interrelacion de procesos alineado con su dependencia).
B26: SUBPROCESO ASOCIADO | C26: Relacione en esta casilla el subproceso de su competencia (Identifique esto en el mapa de interrelación de procesos).
B27: OBJETIVO DEL SUBPROCESO | C27: Descripcion del objetivo del subproceso al cual pertenece
B28: NOMBRE DEL INDICADOR | C28: Ingrese en esta casilla el nombre del indicador asociado a los objetivos estratégicos de la entidad, de acuerdo al proceso o subproceso de su competencia.
B29: PROPÓSITO | C29: Describa en esta casilla la meta que espera lograr a partir del indicador mencionado en la casilla anterior.
B30: FRECUENCIA | C30: Describa en esta casilla la frecuencia con la que se hará el reporte.
B31: TIPO DE INDICADOR | C31: Describa en esta casilla el tipo de indicador relacionado, según su naturaleza (eficiencia, eficaz, efectividad, etc).
B32: GRUPOS DE VALOR | C32: Defina en esta casilla con una X a qué grupo de valor pertenece, ya sea entidades, ciudadanía, servidores-interno.
B33: PLANES DECRETO 612 DE 2018 | C33: Indique a cuál Plan Institucional, de los establecidos en el Decreto 612 del 2018, le aporta este producto.
B34: POLÍTICA DE ADMINISTRACION DE RIESGOS
B35: “Establece los lineamientos y parámetros en la Alcaldía Mayor de Cartagena de Indias para la identificación, análisis, evaluación, tratamiento, monitoreo, revisión, valoración, comunicación, consulta y seguimiento de los riesgos a los que se expone y pueden afectar el cumplimiento de los objetivos institucionales en el marco de los procesos, planes y proyectos de la entidad debido a eventos potenciales y que pueden llevar a la posibilidad de incurrir en pérdidas o afectaciones a nivel económico o reputaciones por deficiencias, fallas o inadecuaciones, en el recurso humano, procesos, tecnología, infraestructura o por la ocurrencia de acontecimientos externos.”
B36: RIESGOS ASOCIADOS AL PROCESO | C36: Ingrese en esta casilla cada uno de los riesgos identificados en el proceso definido, y desarrollado en la caracterización de la gestión por proceso
B37: CONTROLES ESTABLECIDOS PARA LOS RIESGOS | C37: Ingrese en esta casilla cada uno de los controles formulados para cada riesgo identificado en el proceso definido
B39: PLAN DE ACCION - INVERSIÓN (Hoja 3)
B40: PROYECTO DE INVERSIÓN | C40: Ingrese en esta casilla el nombre del proyecto a partir del cual se desarrollará el programa con el que se articula.
B41: CÓDIGO DE PROYECTO BPIN | C41: Ingrese en esta casilla el número BPIN del proyecto a partir del cual se desarrollará el programa con el que se articula.
B42: OBJETIVO GENERAL DEL PROYECTO | C42: Ingrese en esta casilla el fin general del proyecto a partir del cual se desarrollará el programa con el que se articula.
B43: OBJETIVO ESPECÍFICO DEL PROYECTO | C43: Ingrese en esta casilla el objetivo específico asociado al objetivo general diligenciado en la casilla anterior.
B44: PRODUCTO DEL PROYECTO | C44: Ingrese en esta casilla el producto que materializa el objetivo específico relacionado en la casilla anterior.
B45: PONDERACIÓN DE PRODUCTO | C45: Ingrese en esta casilla la ponderacion asignada al producto en cuestión.
...

Sheet ESTRATÉGICO
C1: ALCALDIA DISTRITAL DE CARTAGENA DE INDIAS | AG1: Código: PTDGI01-F001
C2: MACROPROCESO: PLANEACIÓN TERRITORIAL Y DIRECCIONAMIENTO ESTRATEGICO | AG2: Versión: 1.0
C3: PROCESO / SUBPROCESO: GESTIÓN DE LA INVERSIÓN PUBLICA / GESTIÓN DEL PLAN DE DESARROLLO Y SUS INSTRUMENTOS DE EJECUCIÓN | AG3: Fecha: 16/07/2024
C4: FORMATO DE REPORTE DE INFORMACIÓN PLAN DE ACCIÓN INSTITUCIOANAL | AG4: Página: 1 de 3
A5: DEPENDENCIA: | C5: SECRETARÍA DE EDUCACIÓN DISTRITAL
A6: PLANTEAMIENTO ESTRATÉGICO- PLAN DE DESARROLLO
A7: DATOS GENERALES | P7: PROGRAMACIÓN META PRODUCTO | T7: ACUMULADOS | Y7: REPORTES META PRODUCTO
A8: OBJETIVO DE DESARROLLO SOSTENIBLE | B8: OBJETIVO ESTRATÉGICO | C8: LÍNEA ESTRATÉGICA | D8: IMPULSOR DE AVANCE | E8: META RESULTADO | F8: PROGRAMA | G8: CÓDIGO DE PROGRAMA | H8: INDICADOR DE PRODUCTO SEGÚN PDD | I8: UNIDAD DE MEDIDA DEL INDICADOR DE PRODUCTO | J8: LÍNEA BASE SEGUN PDD | K8: DESCRIPCIÓN DE LA META PRODUCTO 2024-2027 | L8: PONDERACIÓN DE LA META PRODUCTO | M8: DENOMINACIÓN DEL PRODUCTO | N8: ENTREGABLE INDICADOR DE PRODUCTO SEGÚN CATALOGO DE PRODUCTO | O8: VALOR DE LA META PRODUCTO 2024-2027 | P8: PROGRAMACIÓN META PRODUCTO 2024 | Q8: PROGRAMACIÓN META PRODUCTO 2025 | R8: PROGRAMACIÓN META PRODUCTO 2026 | S8: PROGRAMACIÓN META PRODUCTO 2027 | T8: ACUMULADO 2024 | U8: ACUMULADO 2025 | V8: ACUMULADO 2026 | W8: ACUMULADO 2027 | X8: ACUMULADO CUATRIENIO | Y8: REPORTE META PRODUCTO DE MARZO 2026 | Z8: REPORTE META PRODUCTO DE JUNIO 2026 | AA8: REPORTE META PRODUCTO DE SEPTIEMBRE 2026 | AB8: REPORTE META PRODUCTO DE DICIEMBRE 2026 | AC8: AVANCE META PRODUCTO AL AÑO (PONDERADO) | AD8: AVANCE META PRODUCTO AL CUATRIENIO (PONDERADO) | AE8: AVANCE META PRODUCTO AL AÑO (SIMPLE) | AF8: AVANCE META PRODUCTO AL CUATRIENIO (SIMPLE) | AG8: OBSERVACIONES TRIMESTRE ENERO A MARZO 2026 | AI8: OBSERVACIONES TRIMESTRE ABRIL A JUNIO 2026
A9: 4. Educación de Calidad | B9: 2. Dignificar la Vida de los habitantes del Distrito de Cartagena de Indias con el desarrollo y fortalecimiento de la infraestructura educativa, la calidad y la cobertura de la educación en las instituciones públicas, y la reducción de la pobreza multidimensional con la disminución del déficit habitacional, ampliación de la cobertura del saneamiento básico, y garantizando una vivienda digna para toda la población, durante el período de gobierno 2024-2027. | C9: VIDA DIGNA | D9: EDUCACION | E9: Incrementar la tasa de cobertura neta sin extraedad global al 95% | F9: Modernización De La Infraestructura Educativa | G9: 02-02-03 | H9: Plan Maestro de Infraestructura Educativa formulado e implementado. | I9: Porcentaje | J9: 91,37% de cobertura neta sin extraedad global Fuente: Secretaría de Educación Distrital, 2023 | K9: Formular e implementar un (1) Plan Maestro de Infraestructura Educativa. | L9: 0.1 | M9: Servicio | N9: 220100104 Documentos operativos formulados | O9: 1 | P9: NP | Q9: 0.3 | R9: 0.7 | S9: 0.2 | T9: 0 | U9: 0.1 | V9: =+Y9+Z9+AA9+AB9 -> 0.2 | X9: =+T9+U9+V9+W9 -> 0.3 | Y9: 0 | Z9: 0.2 | AC9: =(V9/R9)*L9 -> 0.028571429 | AD9: =(X9/O9)*L9 -> 0.03 | AE9: =V9/R9 -> 0.28571429 | AF9: =X9/O9 -> 0.3 | AG9: Con respecto al período anterior, no se registraron avances. El Plan Maestro de Infraestructura Educativa se estructura en dos capítulos: 1) Técnico y 2) Social. En el capítulo técnico, un equipo de estudiantes del programa de Ingeniería Civil de la Universidad del Sinú ha venido realizando visitas a las Instituciones Educativas (IE) con el fin de levantar y actualizar la información diagnóstica. En cuanto al capítulo social, se está proyectando un cronograma de socialización dirigido a los diferentes grupos de interés, tales como el gobierno escolar, asociaciones de padres de familia (Asopadres), Juntas de Acción Comunal (JAC), rectores, coordinadores, Unidades de Administración Local de Educación (Unaldes), entre otros. Se espera reportar avances en el próximo período. Se cuenta con la estructura del documento, avance que corresponde al 10% dentro del 50% de la Formulacion del mismo. | AI9: • Se reporta avance en cuanto a la formulación del plan el cual fue evaluado por parte del Ministerio de Educación obteniendo buenos comentarios. En cuanto al aspecto técnico se ha adelantado la evaluación diagnostica de 6 instituciones educativas.
A10: 4. Educación de Calidad | B10: 2. Dignificar la Vida de los habitantes del Distrito de Cartagena de Indias con el desarrollo y fortalecimiento de la infraestructura educativa, la calidad y la cobertura de la educación en las instituciones públicas, y la reducción de la pobreza multidimensional con la disminución del déficit habitacional, ampliación de la cobertura del saneamiento básico, y garantizando una vivienda digna para toda la población, durante el período de gobierno 2024-2027. | C10: VIDA DIGNA | D10: EDUCACION | E10: Incrementar la tasa de cobertura neta sin extraedad global al 95% | F10: Modernización De La Infraestructura Educativa | G10: 02-02-04 | H10: Número de predios de IEO legalizados | I10: Número | J10: 91,37% de cobertura neta sin extraedad global Fuente: Secretaría de Educación Distrital, 2023 | K10: Legalizar sesenta (60) predios de Instituciones Educativas Oficiales. | L10: 0.1 | M10: Servicio | N10: 229905600 Documentos normativos realizados | O10: 60 | P10: 5 | Q10: 17 | R10: 21 | S10: 21 | T10: 1 | U10: 3 | V10: =+Y10+Z10+AA10+AB10 -> 0 | X10: =+T10+U10+V10+W10 -> 4 | Y10: 0 | Z10: 0 | AC10: =(V10/R10)*L10 -> 0 | AD10: =(X10/O10)*L10 -> 0.0066666667 | AE10: =V10/R10 -> 0 | AF10: =X10/O10 -> 0.066666667 | AG10: Se celebró contrato MC-SED-PS-003-2025 suscrito entre VALOR CORP SAS y la ALCALDIA DISTRITAL DE CARTAGENA DE INDIAS para avalúo de inmuebles de Fe y Alegría y la Boquilla. Teniendo en cuenta el rezago de esta meta se realizó un desglose de actividades asi: 1 - Organizacion de expedientes: Se viene avanzando en esta actividad, se prevee culminar en el mes de Abril 2 - Actualizacion de estudio juridico 3 - Remision de expedientes a entidad correspondiente 4 - Seguimiento 5 - Mesas de trabajo Con el equipo juridico se han venido realizando mesas de trabajo con el fin de avanzar en las tareas propuestas | AI10: No se reporta avance
A11: 4. Educación de Calidad | B11: 2. Dignificar la Vida de los habitantes del Distrito de Cartagena de Indias con el desarrollo y fortalecimiento de la infraestructura educativa, la calidad y la cobertura de la educación en las instituciones públicas, y la reducción de la pobreza multidimensional con la disminución del déficit habitacional, ampliación de la cobertura del saneamiento básico, y garantizando una vivienda digna para toda la población, durante el período de gobierno 2024-2027. | C11: VIDA DIGNA | D11: EDUCACION | E11: Incrementar la tasa de cobertura neta sin extraedad global al 95% | F11: Modernización De La Infraestructura Educativa | G11: 02-02-05 | H11: Número de nuevas Instituciones Educativas Oficiales construidas | I11: Número | J11: 91,37% de cobertura neta sin extraedad global Fuente: Secretaría de Educación Distrital, 2023 | K11: Construir cinco (5) nuevas Instituciones Educativas Oficiales. | L11: 0.2 | M11: Bien | N11: 220105100 Sedes educativas nuevas construidas | O11: 5 | P11: 1 | Q11: 1 | R11: 1.05 | S11: 1 | T11: 1 | U11: 0.95 | V11: =+Y11+Z11+AA11+AB11 -> 0.05 | X11: =+T11+U11+V11+W11 -> 2 | Y11: 0.04 | Z11: 0.01 | AC11: =(V11/R11)*L11 -> 0.0095238095 | AD11: =(X11/O11)*L11 -> 0.08 | AE11: =V11/R11 -> 0.047619048 | AF11: =X11/O11 -> 0.4 | AG11: IE Cecilia Porras cuenta con un avance del 99%, en la vigencia anterior se reportó un avance del 95% (0,95). Probable entrega mes de Abril. Se encuentra en ejecucion el proceso LP-SED-001-2025, correspondiente a la complementación, ajuste, elaboración de estudios y diseños definitivos, y ejecución de la obra de construcción y dotación de cinco nuevas instituciones educativas oficiales en distintas Unidades Comuneras de Gobierno del Distrito de Cartagena contando con los siguientes avances de acuerdo a reporte de seguimiento mensual emitido por la interventoría: * Parque Heredia: 50,10% * Ciudadela de la Paz: 47,90% * Antonio Jose de Sucre: 45,06 * Bayunca; 38,64% * Pasacaballos 17,94% | AI11: • IE Cecilia Porras inicia su funcionamiento y prestación del servicio. Se reporta como completada en este trimestre. • Se encuentra en ejecución el proceso LP-SED-001-2025, correspondiente a la complementación, ajuste, elaboración de estudios y diseños definitivos, y ejecución de la obra de construcción y dotación de cinco nuevas instituciones educativas oficiales en distintas Unidades Comuneras de Gobierno del Distrito de Cartagena contando con los siguientes avances de acuerdo a reporte de seguimiento semanal emitido por la interventoría: 1. Parque Heredia: 85,79% 2. Ciudadela de la Paz: 82,81% 3. Antonio Jose de Sucre: 80,81% 4. Bayunca; 60,81% 5. Pasacaballos 29,26%
A12: 4. Educación de Calidad | B12: 2. Dignificar la Vida de los habitantes del Distrito de Cartagena de Indias con el desarrollo y fortalecimiento de la infraestructura educativa, la calidad y la cobertura de la educación en las instituciones públicas, y la reducción de la pobreza multidimensional con la disminución del déficit habitacional, ampliación de la cobertura del saneamiento básico, y garantizando una vivienda digna para toda la población, durante el período de gobierno 2024-2027. | C12: VIDA DIGNA | D12: EDUCACION | E12: Incrementar la tasa de cobertura neta sin extraedad global al 95% | F12: Modernización De La Infraestructura Educativa | G12: 02-02-06 | H12: Número de sedes educativas reconstruidas y/o con ampliación de la infraestructura | I12: Número | J12: 91,37% de cobertura neta sin extraedad global Fuente: Secretaría de Educación Distrital, 2023 | K12: Reconstruir y/o ampliar quince (15) sedes educativas. | L12: 0.3 | M12: Bien | N12: 220105200 Sedes educativas mejoradas | O12: 15 | P12: 2 | Q12: 4 | R12: 5 | S12: 5 | T12: 1 | U12: 5 | V12: =+Y12+Z12+AA12+AB12 -> 0 | X12: =+T12+U12+V12+W12 -> 6 | Y12: 0 | Z12: 0 | AC12: =(V12/R12)*L12 -> 0 | AD12: =(X12/O12)*L12 -> 0.12 | AE12: =V12/R12 -> 0 | AF12: =X12/O12 -> 0.4 | AG12: Se está en los trámites administrativos para transferir recursos para la construccion de aulas modulares para ampliación de ambientes de aprendizaje en la institucion educativa de Ararca. IE Fernandez Baena Se encuentra en proceso de contratación en estado BORRADOR y en trámite de licencia. | AI12: • Se realizaron transferencias enfocadas en la ampliación de las siguientes IE por medio de aulas modulares: 1. San Francisco de Asís 2. Ararca 3. Archipiélago de San Bernardo (Fase2) • IE FERNANDEZ BAENA: Se selecciona contratista y se adelantan trámites administrativos de contratación de la interventoría. A la fecha se cuenta con Licencia de Construcción. • INEM: Las intervenciones en esta IE presentan al finalizar el trimestre un avance de 52.15%
A13: 4. Educación de Calidad | B13: 2. Dignificar la Vida de los habitantes del Distrito de Cartagena de Indias con el desarrollo y fortalecimiento de la infraestructura educativa, la calidad y la cobertura de la educación en las instituciones públicas, y la reducción de la pobreza multidimensional con la disminución del déficit habitacional, ampliación de la cobertura del saneamiento básico, y garantizando una vivienda digna para toda la población, durante el período de gobierno 2024-2027. | C13: VIDA DIGNA | D13: EDUCACION | E13: Incrementar la tasa de cobertura neta sin extraedad global al 95% | F13: Modernización De La Infraestructura Educativa | G13: 02-02-07 | H13: Número de sedes educativas mejoradas y/o adecuadas | I13: Número | J13: 91,37% de cobertura neta sin extraedad global Fuente: Secretaría de Educación Distrital, 2023 | K13: Mejorar y/o adecuar ochenta (80) sedes educativas. | L13: 0.2 | M13: Bien | N13: 220105200 Sedes educativas mejoradas | O13: 80 | P13: 8 | Q13: 22 | R13: 19 | S13: 24 | T13: 10 | U13: 31 | V13: =+Y13+Z13+AA13+AB13 -> 13 | X13: =+T13+U13+V13+W13 -> 54 | Y13: 9 | Z13: 4 | AC13: =(V13/R13)*L13 -> 0.13684211 | AD13: =(X13/O13)*L13 -> 0.135 | AE13: =V13/R13 -> 0.68421053 | AF13: =X13/O13 -> 0.675 | AG13: Se encuentra en ejecución trabajos de mejoramiento en las instituciones relacionadas a continuacion donde se muestra el porcentaje de avance indicado: Jorge Artel 100% Manuela Beltrán 100% Maria Reina 100% Nuestra señora del Perpetuo Socorro 100% Madre Laura Sede Castilla y Rada 100% Santa Maria 100% San Juan de Damasco 74,4% 20 de Julio Sede Yira Castro 71,70% Liceo Bolivar (FASE 1) 100% San Juan Bautista 5,90% En el marco del convenio 1424 con el FFIE se encuentran en ejecucion por medio del contrato 1380-2056-2025 las intervenciones a las instituciones: Maria Reina SAC 7 - 100% Camilo Torres Sede Nuevo Horizonte: 100% Valores Unidos: 53,63% Luis Carlos Galán: 71,24% Manuela Vergara de Curi: 74,55% Nuestro Esfuerzo: 0% Camilo Torres Principal: 2,58% La Libertad: 0,23% Antonia Santos sede Juan Salvador Gaviota: Por definir alcance | AI13: • Por medio del proceso LP-SED-001-2026 cuyo alcance es OBRAS DE MEJORAMIENTO, MANTENIMIENTO Y ADECUACIÓN EN LAS INSTITUCIONES EDUCATIVAS OFICIALES DEL DISTRITO DE CARTAGENA se pretende intervenir 35 colegios. A 30 de Junio ya se designó contratista de obra y se espera en el mes de Julio contratar la interventoría • Proceso de mantenimientos 2025 culminado (Se reportan 2IE) 1. Jorge Artel 100% - Reportado trimestre anterior 2. Manuela Beltrán 100% - Reportado trimestre anterior 3. Maria Reina 100% - Reportado trimestre anterior 4. Nuestra señora del Perpetuo Socorro 100% - Reportado trimestre anterior 5. Madre Laura Sede Castilla y Rada 100% - Reportado trimestre anterior 6. Santa Maria 100% - Reportado trimestre anterior 7. Liceo Bolívar (FASE 1) 100% - Reportado trimestre anterior 8. San Juan de Damasco 100% 9. 20 de Julio Sede Yira Castro 100% • En el marco del convenio 1424 con el FFIE se encuentran en ejecución por medio del contrato 1380-2056-2025 las intervenciones a las instituciones: (Se reportan 2IE) 1. Maria Reina SAC 7 - 100% - Reportado trimestre anterior 2. Camilo Torres Sede Nuevo Horizonte: 100% - Reportado trimestre anterior 3. Valores Unidos: 61,42% 4. Luis Carlos Galán: 100% 5. Manuela Vergara de Curi: 100% 6. Nuestro Esfuerzo: 4,87% 7. Camilo Torres Principal: 49,35% 8. La Libertad: 8,59% 9. Antonia Santos sede Juan Salvador Gaviota: 2% • Se realizaron transferencias enfocadas en mejoramientos de ambientes de aprendizaje en las instituciones educativas: 1. Fernando de la Vega 2. Pedro Romero 3. Cecilia Porras • Contratación e inicio de ejecución del contrato MC-SED-PS-003-2026, derivado del proceso de selección de mínima cuantía MC-SED-003-2026, cuyo objeto consiste en: "Contratar el mantenimiento preventivo y correctivo, así como la puesta en marcha de los ascensores y equipos elevadores de las Instituciones Educativas Oficiales Valores Unidos, Politécnico El Pozón, San Felipe Neri, Nuevo Bosque y Gabriel García Márquez, en el marco del proyecto de modernización de la infraestructura educativa del Distrito de Cartagena de Indias."
A14: 4. Educación de Calidad | B14: 2. Dignificar la Vida de los habitantes del Distrito de Cartagena de Indias con el desarrollo y fortalecimiento de la infraestructura educativa, la calidad y la cobertura de la educación en las instituciones públicas, y la reducción de la pobreza multidimensional con la disminución del déficit habitacional, ampliación de la cobertura del saneamiento básico, y garantizando una vivienda digna para toda la población, durante el período de gobierno 2024-2027. | C14: VIDA DIGNA | D14: EDUCACION | E14: Incrementar la tasa de cobertura neta sin extraedad global al 95% | F14: Modernización De La Infraestructura Educativa | G14: 02-02-08 | H14: Número de aulas con dotación de mobiliario escolar y material pedagógico | I14: Número | J14: 91,37% de cobertura neta sin extraedad global Fuente: Secretaría de Educación Distrital, 2023 | K14: Dotar mil (1.000) aulas con mobiliario escolar, aires acondicionados, abanicos y material pedagógico. | L14: 0.1 | M14: Bien | N14: 220106900 Sedes educativas mejoradas | O14: 1000 | P14: 160 | Q14: 255 | R14: 340 | S14: 303 | T14: 89 | U14: 232 | V14: =+Y14+Z14+AA14+AB14 -> 196 | X14: =+T14+U14+V14+W14 -> 517 | Y14: 95 | Z14: 101 | AC14: =(V14/R14)*L14 -> 0.057647059 | AD14: =(X14/O14)*L14 -> 0.0517 | AE14: =V14/R14 -> 0.57647059 | AF14: =X14/O14 -> 0.517 | AG14: En el periodo se dotaron las siguientes instituciones educativas: - JORGE ARTEL - SANTA MARÍA - MARÍA REINA - NUESTRA SRA. DEL PERPETUO SOCORRO - MANUELA BELTRÁN - MADRE LAURA - CECILIA PORRAS | AI14: • Durante el periodo reportado se realizaron visitas de diagnóstico por necesidad de mobiliario en las instituciones: 1. Madre Gabriela de San Martin 2. Ambientalista de Cartagena • Por medio de Orden de Compra No. 164451 se contrató la ADQUISICIÓN DE EQUIPOS DE VENTILACIÓN COMO VENTILADORES Y EQUIPOS DE AIRE ACONDICIONADO PARA MEJORAR Y/O ADECUAR AMBIENTES DE APRENDIZAJE suministrados a las instituciones educativas relacionadas a continuación: (Se reportan 101 aulas)
B15: Avance Programa Modernización De La Infraestructura Educativa | AC15: =SUM(AC9:AC14) -> 0.2325844 | AD15: =SUM(AD9:AD14) -> 0.42336667 | AE15: =AVERAGE(AE9:AE14) -> 0.26566907 | AF15: =AVERAGE(AF9:AF14) -> 0.39311111
A16: 4. Educación de Calidad | B16: 2. Dignificar la Vida de los habitantes del Distrito de Cartagena de Indias con el desarrollo y fortalecimiento de la infraestructura educativa, la calidad y la cobertura de la educación en las instituciones públicas, y la reducción de la pobreza multidimensional con la disminución del déficit habitacional, ampliación de la cobertura del saneamiento básico, y garantizando una vivienda digna para toda la población, durante el período de gobierno 2024-2027. | C16: VIDA DIGNA | D16: EDUCACION | E16: Incrementar a 40% el porcentaje de las Instituciones Educativas Oficiales con oferta en Educación Inicial para la atención de la primera infancia | F16: Avanzando desde el comienzo. | G16: 02-02-04 | H16: Número de Instituciones Educativas Oficiales con oferta de educación inicial para la atención a la primera infancia implementada | I16: Porcentaje | J16: 2 Instituciones Educativas Oficiales con oferta de educación inicial para la atención de la primera infancia en el Distrito implementada. Fuente: Secretaría de Educación, 2023. | K16: Implementar en cuarenta (40) Instituciones Educativas Oficiales la oferta de educación inicial para la atención a la primera infancia. | L16: 0.6 | M16: Servicio | N16: 220103700 Instituciones educativas oficiales que implementan el nivel preescolar en el marco de la atención integral | O16: 40 | P16: 15 | Q16: 10 | R16: 10 | S16: 5 | T16: 15 | U16: 10 | V16: =+Y16+Z16+AA16+AB16 -> 10 | X16: =+T16+U16+V16+W16 -> 35 | Y16: 10 | Z16: 0 | AC16: =(V16/R16)*L16 -> 0.6 | AD16: =(X16/O16)*L16 -> 0.525 | AE16: =V16/R16 -> 1 | AF16: =X16/O16 -> 0.875 | AG16: Para el presente reporte, 25 IEO vienen de continuidad con la nueva oferta educativa y 10 mas dierón apertura. Para un total de 35 IEO con nueva oferta en el nivel de preescolar. | AI16: La meta se encuentra cumplida.
A17: 4. Educación de Calidad | B17: 2. Dignificar la Vida de los habitantes del Distrito de Cartagena de Indias con el desarrollo y fortalecimiento de la infraestructura educativa, la calidad y la cobertura de la educación en las instituciones públicas, y la reducción de la pobreza multidimensional con la disminución del déficit habitacional, ampliación de la cobertura del saneamiento básico, y garantizando una vivienda digna para toda la población, durante el período de gobierno 2024-2027. | C17: VIDA DIGNA | D17: EDUCACION | E17: Incrementar a 40% el porcentaje de las Instituciones Educativas Oficiales con oferta en Educación Inicial para la atención de la primera infancia | F17: Avanzando desde el comienzo. | G17: 02-02-05 | H17: Número de Instituciones Educativas Oficiales asesoradas con estrategias de articulación institucional para asegurar el tránsito armónico de niños y niñas desde los programas de atención a la primera infancia del ICBF al sistema educativo oficial | I17: Porcentaje | J17: 80 Instituciones Educativas Oficiales asesoradas con estrategias de articulación institucional para asegurar el tránsisto armónico de niños y niñas desde los programas de atención a la primera infancia del ICBF al sistema educativo oficial en el cuatrienio 2020-2023 | K17: Asesorar a cinto (105) Instituciones Educativas Oficiales con estrategias de articulaión institucional para asegurar el tránsito armónico de los niños y niñas desde los programas de atención a la primera infancia del ICBF al sistema educativo oficial | L17: 0.4 | M17: Servicio | N17: 220108900 Servicio de asistencia técnica | O17: 105 | P17: 30 | Q17: 25 | R17: 25 | S17: 25 | T17: 10 | U17: 45 | V17: =+Y17+Z17+AA17+AB17 -> 0 | X17: =+T17+U17+V17+W17 -> 55 | Y17: 0 | Z17: 0 | AC17: =(V17/R17)*L17 -> 0 | AD17: =(X17/O17)*L17 -> 0.20952381 | AE17: =V17/R17 -> 0 | AF17: =X17/O17 -> 0.52380952 | AG17: Para el cuatrienio se lleva un acumulado de 55 IEO asesoradas con con estrategias de articulaión institucional para asegurar el tránsito armónico de los niños y niñas desde los programas de atención a la primera infancia del ICBF al sistema educativo oficial. Para este periodo 2026, 25 IEO se suman a las asesorias por parte de la secretaría de educación a través de las asistencias técnicas. Estas asistencias aún no inician, sin embargo, ya se seleccionarón a las 25 IEO que se suman en la vigencia 2026. | AI17: No se ha dado inicio, Teniendo en cuenta que la resolución a matricula no había sido expedida y en ella se dictan disposiciones importantes para ser abordadas en las asistencias técnicas, aun no se da inicio a estas. Sin embargo, ya se emitió la resolución 5657 del 16 de junio del 2026, se tiene previsto iniciar las asistencias técnicas al regreso del receso escolar de las instituciones educativas.
B18: Avance Programa Avanzando desde el comienzo | AC18: =SUM(AC16:AC17) -> 0.6 | AD18: =SUM(AD16:AD17) -> 0.73452381 | AE18: =AVERAGE(AE16:AE17) -> 0.5 | AF18: =AVERAGE(AF16:AF17) -> 0.69940476
A19: 4. Educación de Calidad | B19: 2. Dignificar la Vida de los habitantes del Distrito de Cartagena de Indias con el desarrollo y fortalecimiento de la infraestructura educativa, la calidad y la cobertura de la educación en las instituciones públicas, y la reducción de la pobreza multidimensional con la disminución del déficit habitacional, ampliación de la cobertura del saneamiento básico, y garantizando una vivienda digna para toda la población, durante el período de gobierno 2024-2027. | C19: VIDA DIGNA | D19: EDUCACION | E19: Reducir la tasa de deserción en educación preescolar, básica y media de Instituciones Educativas Oficiales a 2,47% | F19: Me Quedo Porque Me Quedo | G19: 02-02-05 | H19: Número de niños, niñas y adolescentes vinculados con estrategias para el acceso al sistema educativo oficial | I19: Porcentaje | J19: 182.465 niños, niñas y adolescentes vinculados al sistema con estrategias de acceso. Fuente: SIMAT, 2023. | K19: Vincular a dos mil trescientos noventa (2.390) niños, niñas y adolescente adicionales con estrategias para el acceso al sistema educativo oficial. | L19: 0.1 | M19: Servicio | N19: 220101700 Personas beneficiadas con estrategias de fomento para el acceso a la educación inicial, preescolar, básica y media. | O19: 2390 | P19: NP | Q19: 585 | R19: 878 | S19: 927 | T19: 0 | U19: 0 | V19: =+Y19+Z19+AA19+AB19 -> 0 | X19: =+T19+U19+V19+W19 -> 0 | Y19: 0 | Z19: 0 | AC19: =(V19/R19)*L19 -> 0 | AD19: =(X19/O19)*L19 -> 0 | AE19: =V19/R19 -> 0 | AF19: =X19/O19 -> 0 | AG19: A la fecha se logró la suscripción 49.673 cupos, a traves de la suscripción de 53 contratos. distribuidos de la siguiente manera: Banco de oferentes: 25.667 estudiantes, a traves de 45 contratos, que representan 45 instituciones educativas. Confesiones releigiosas: 24.006, estudiantes, a traves de 8 contratos, que representan 16 instituciones educativas. Anexo 2: FUC aprobado por el MEN para la contratación de cupos educativos. | AI19: A la fecha se logró la suscripción 49.673 cupos, a traves de la suscripción de 53 contratos. distribuidos de la siguiente manera: Banco de oferentes: 25.667 estudiantes, a traves de 45 contratos, que representan 45 instituciones educativas. Confesiones releigiosas: 24.006, estudiantes, a traves de 8 contratos, que representan 16 instituciones educativas. Anexo 4: FUC aprobado por el MEN para la contratación de cupos educativos.
A20: 4. Educación de Calidad | B20: 2. Dignificar la Vida de los habitantes del Distrito de Cartagena de Indias con el desarrollo y fortalecimiento de la infraestructura educativa, la calidad y la cobertura de la educación en las instituciones públicas, y la reducción de la pobreza multidimensional con la disminución del déficit habitacional, ampliación de la cobertura del saneamiento básico, y garantizando una vivienda digna para toda la población, durante el período de gobierno 2024-2027. | C20: VIDA DIGNA | D20: EDUCACION | E20: Reducir la tasa de deserción en educación preescolar, básica y media de Instituciones Educativas Oficiales a 2,47% | F20: Me Quedo Porque Me Quedo | G20: 02-02-06 | H20: Número de estudiantes de Instituciones Educativas Oficiales atendidos con Programa de Alimentación Escolar como estrategia de permanencia | I20: Porcentaje | J20: 98.842 estudiantes atendidos con PAE como estrategia de permanencia a corte 2023. Fuente: Secretaría de Educación, 2023. | K20: Atender a ciento seis mil cuatrocientos ochenta y siete (106.487) estudiantes anualmente con el Programa de Alimentación Escolar como estrategia de permanencia. | L20: 0.4 | M20: Servicio | N20: 220102805 Estudiantes beneficiados del programa de alimentación escolar | O20: 425948 | P20: 106487 | Q20: 106487 | R20: 106487 | S20: 106487 | T20: 100207 | U20: 106487 | V20: =+Z20 -> 106487 | X20: =+T20+U20+V20+W20 -> 313181 | Y20: 106487 | Z20: 106487 | AC20: =(V20/R20)*L20 -> 0.4 | AD20: =(X20/O20)*L20 -> 0.29410257 | AE20: =(V20/R20)*0.5 -> 0.5 | AF20: =48.5%+6.25%+6.25% -> 0.61 | AG20: se realizó la entrega de los compelementos cómo se puede evidenciar en la facturas | AI20: Se realizó la entrega de los complementos cómo se puede evidenciar en la facturas.
A21: 4. Educación de Calidad | B21: 2. Dignificar la Vida de los habitantes del Distrito de Cartagena de Indias con el desarrollo y fortalecimiento de la infraestructura educativa, la calidad y la cobertura de la educación en las instituciones públicas, y la reducción de la pobreza multidimensional con la disminución del déficit habitacional, ampliación de la cobertura del saneamiento básico, y garantizando una vivienda digna para toda la población, durante el período de gobierno 2024-2027. | C21: VIDA DIGNA | D21: EDUCACION | E21: Reducir la tasa de deserción en educación preescolar, básica y media de Instituciones Educativas Oficiales a 2,47% | F21: Me Quedo Porque Me Quedo | G21: 02-02-07 | H21: Número de estudiantes de Instituciones Educativas Oficiales atendidos con transporte escolar | I21: Porcentaje | J21: 3.524 estudiantes atendido con transporte escolar a corte 2023. Fuente: Secretaría de Educación, 2023. | K21: Atender a cinco mil quinientso (5.500) estudiantes anualmente con transporte escolar. | L21: 0.2 | M21: Servicio | N21: 220102900 Beneficiarios de transporte escolar | O21: 22000 | P21: 5500 | Q21: 5500 | R21: 5500 | S21: 5500 | T21: 5011 | U21: 3954 | V21: =+Y21+Z21+AA21+AB21 -> 2880 | X21: =+T21+U21+V21+W21 -> 11845 | Y21: 2880 | Z21: 0 | AC21: =(V21/R21)*L21 -> 0.10472727 | AD21: =(X21/O21)*L21 -> 0.10768182 | AE21: =V21/R21 -> 0.52363636 | AF21: =X21/O21 -> 0.53840909 | AG21: Con los recursos asignados se ha dado un alcance para atender a 2880 estudiantes con transporte maritimo y terrestre, priorizando a los estudiantes de las zonas insulares, rurales, la población con discapacidad y las zonas con deficiencia en oferta educativa, sumando a la población afectada por la intervención que se realiza a la infraestructura educativa, vale la pena aclarar que los recursos no son suficientes para atender a esta población durante todo el calendario escolar. | AI21: Con los recursos asignados se ha dado un alcance para atender a 2880 estudiantes con transporte maritimo y terrestre, priorizando a los estudiantes de las zonas insulares, rurales, la población con discapacidad y las zonas con deficiencia en oferta educativa, sumando a la población afectada por la intervención que se realiza a la infraestructura educativa, vale la pena aclarar que los recursos no son suficientes para atender a esta población durante todo el calendario escolar.
A22: 4. Educación de Calidad | B22: 2. Dignificar la Vida de los habitantes del Distrito de Cartagena de Indias con el desarrollo y fortalecimiento de la infraestructura educativa, la calidad y la cobertura de la educación en las instituciones públicas, y la reducción de la pobreza multidimensional con la disminución del déficit habitacional, ampliación de la cobertura del saneamiento básico, y garantizando una vivienda digna para toda la población, durante el período de gobierno 2024-2027. | C22: VIDA DIGNA | D22: EDUCACION | E22: Reducir la tasa de deserción en educación preescolar, básica y media de Instituciones Educativas Oficiales a 2,47% | F22: Me Quedo Porque Me Quedo | G22: 02-02-08 | H22: Número de estudiantes de Instituciones Educativas Oficiales atendidos con otras estrategias de permanencia (kits escolares, uniformes, y jornadas escolares complementarias) | I22: Porcentaje | J22: 5.473 estudiantes atendidos con otras estratgias de permanencia. Fuente: Secretaría de Educación, 2023. | K22: Atender a diez mil (10.000) estudiantes anualmente con otras estrategías de permanencia. | L22: 0.25 | M22: Servicio | N22: 220103300 Personas beneficiarias de estrategias de permanencia | O22: 40000 | P22: 10000 | Q22: 10000 | R22: 10000 | S22: 10000 | T22: 11786 | U22: 10025 | V22: =+Y22+Z22+AA22+AB22 -> 10000 | X22: =+T22+U22+V22+W22 -> 31811 | Y22: 7000 | Z22: 3000 | AC22: =(V22/R22)*L22 -> 0.25 | AD22: =(X22/O22)*L22 -> 0.19881875 | AE22: =V22/R22 -> 1 | AF22: =X22/O22 -> 0.795275 | AG22: Se hicieron entrega de kits escolares beneficiando a mas de 7000 estudiantes con el apoyo de la empresa ecopetrol, llegando a impactar alredodor de 15 establecimientos educativos de la zona insular y urbana ubicados en la zona de influencia de dicha empresa. | AI22: Se hizo entrega de kits escolares beneficiando a mas de 9000 estudiantes con el apoyo de la empresa ecopetrol, llegando a impactar alredodor de 15 establecimientos, educativos de la zona insular y urbana ubicados en la zona de influencia de dicha empresa. Así mismo se inicio la implementación de Jornada Escolar Complementaria en articulación con las cajas de compensación comfenalco y comfamiliar.
A23: 4. Educación de Calidad | B23: 2. Dignificar la Vida de los habitantes del Distrito de Cartagena de Indias con el desarrollo y fortalecimiento de la infraestructura educativa, la calidad y la cobertura de la educación en las instituciones públicas, y la reducción de la pobreza multidimensional con la disminución del déficit habitacional, ampliación de la cobertura del saneamiento básico, y garantizando una vivienda digna para toda la población, durante el período de gobierno 2024-2027. | C23: VIDA DIGNA | D23: EDUCACION | E23: Reducir la tasa de deserción en educación preescolar, básica y media de Instituciones Educativas Oficiales a 2,47% | F23: Me Quedo Porque Me Quedo | G23: 02-02-09 | H23: Planes Institucionales de Permanencia Escolar – PIPE, formulados e implementados en Instituciones Educativas Oficiales | I23: Porcentaje | J23: 10 Instituciones Educativas Oficiales con Planes Institucionales de Permanencia Escolar-PIPE formulado e implementado a corte 2023. Fuente: Secretaría de Educación, 2023. | K23: Formular e implementar Planes Institucionales de Permanencia Escolar-PIPE en cuarenta y cinco (45) Instituciones Educativas Oficiales. | L23: 0.05 | M23: Servicio | N23: 220101202 Documentos sobre evaluación de permanencia en la educación preescolar, básica y media elaborados | O23: 45 | P23: 10 | Q23: 15 | R23: 15 | S23: 5 | T23: 10 | U23: 15 | V23: =+Y23+Z23+AA23+AB23 -> 7 | X23: =+T23+U23+V23+W23 -> 32 | Y23: 0 | Z23: 7 | AC23: =(V23/R23)*L23 -> 0.023333333 | AD23: =(X23/O23)*L23 -> 0.035555556 | AE23: =V23/R23 -> 0.46666667 | AF23: =X23/O23 -> 0.71111111 | AG23: En esta primera fase se avanzó en retomar el proceso con las 25 IE que vienen siendo atendidas desde esta estrategia y se realizó la focalización de las 15 que entrarán en el proceso en la presente vigencia. | AI23: Se inicia el proceso de implementación de la estrategia PIPE con las asistencias técnicas en 7 de las 15 Instituciones Educativas focalizadas, en donde se inicio con la primera fase de la construcción del plan de permanencia.
B24: Avance programa Me Quedo Porque Me Quedo | AC24: =SUM(AC19:AC23) -> 0.77806061 | AD24: =SUM(AD19:AD23) -> 0.63615869 | AE24: =AVERAGE(AE19:AE23) -> 0.49806061 | AF24: =AVERAGE(AF19:AF23) -> 0.53095904
A25: 4. Educación de Calidad | B25: 2. Dignificar la Vida de los habitantes del Distrito de Cartagena de Indias con el desarrollo y fortalecimiento de la infraestructura educativa, la calidad y la cobertura de la educación en las instituciones públicas, y la reducción de la pobreza multidimensional con la disminución del déficit habitacional, ampliación de la cobertura del saneamiento básico, y garantizando una vivienda digna para toda la población, durante el período de gobierno 2024-2027. | C25: VIDA DIGNA | D25: EDUCACION | E25: Incrementar a 67% el porcentaje de Instituciones Educativas Oficiales que cuentan con fortalecimiento de educación inclusiva | F25: Yo Cuento | G25: 02-02-06 | H25: Número de Instituciones Educativas Oficiales vinculadas a estrategias para el fortalecimiento de la oferta de educación inclusiva para preescolar, básica y media | I25: Porcentaje | J25: 45 Instituciones Educativas Oficiales con estrategias para el fortalecimiento de la oferta de educación inclusiva para preescolar, básica y media a corte 2023 Fuente: Secretaría de Educación, 2023 | K25: Vincular a setenta y dos (72) Instituciones Educativas Oficiales a estrategias para el fortalecimiento de la oferta de educación inclusiva para preescolar, básica y media | L25: 0.1 | M25: Servicio | N25: 220108400 Establecimientos educativos en operación | O25: 72 | P25: 48 | Q25: 8 | R25: 8 | S25: 8 | T25: 48 | U25: 8 | V25: =+Y25+AA25+AB25 -> 64 | X25: =+T25+U25+V25+W25 -> 120 | Y25: 64 | Z25: 64 | AC25: 0.1 | AD25: 0.1 | AE25: 1 | AF25: 1 | AG25: Se focalizan 64 Establecimiento Educativos con fortalecimiento de la oferta educaciva para la inclusión. De estos 21 cuentan con docentes de Apoyo Pedagogico en planta temporal, 2 en prestación del servicio. 40 Establecimientos con asistencia técnica y acompañamiento. | AI25: Se continúa con la ejecución del Plan de Asistencia Técnica para el fortalecimiento de la educación inclusiva en 64 establecimientos educativos focalizados con oferta de educación inclusiva, mediante acciones de acompañamiento en los componentes pedagógico, administrativo y comunitario, orientadas a garantizar el acceso, la permanencia, la participación y el aprendizaje de los estudiantes con discapacidad. En el componente pedagógico, se brinda asistencia técnica para el análisis y estudio de casos, el diseño, implementación y seguimiento del Plan Individual de Ajustes Razonables (PIAR), así como el fortalecimiento de estrategias pedagógicas inclusivas y la eliminación de barreras para el aprendizaje y la participación. En el componente administrativo, se acompaña a los establecimientos educativos en la actualización de la caracterización de los estudiantes con discapacidad y trastornos, el fortalecimiento de los procesos de registro y reporte en el Sistema Integrado de Matrícula (SIMAT) y la organización de la información necesaria para la planeación y seguimiento de la oferta educativa inclusiva. En el componente comunitario, se desarrollan procesos de orientación y acompañamiento a las familias, fortaleciendo su participación en la trayectoria educativa de los estudiantes, así como el apoyo en los procesos de certificación de discapacidad y la articulación con las entidades del sector salud. La asistencia técnica fortalece las diferentes modalidades de atención definidas por la Secretaría de Educación Distrital, entre ellas la oferta general de educación inclusiva, educación domiciliaria, educación hospitalaria, oferta bilingüe-bicultural para estudiantes sordos, atención educativa para estudiantes con discapacidad visual y estrategias para la identificación y atención de estudiantes con capacidades y talentos excepcionales. Los establecimientos educativos focalizados son: IE Juan José Nieto; IE Playas de Acapulco; IE Soledad Román de Núñez; IE Ciudad de Tunja; IE María Auxiliadora; IE Técnica de Pasacaballos; IE Santana; IE José María Córdoba; IE 20 de Julio; IE Villa de Aranjuez; IE Fulgencio Lequerica; IE Fredonia; IE Fe y Alegría; IE Ambientalista de Cartagena; IE Gabriel García Márquez; IE Puerto Rey; IE La Boquilla; IE Manzanillo del Mar; IE Bayunca; IE Nuevo Bosque; IE INEM José Manuel Rodríguez Torices; IE Fernández Baena; IE San Lucas; IE Fernando de la Vega; IE Nuestro Esfuerzo; IE La Milagrosa; IE Santa María; IE Ternera; IE Jorge Artel; IE Antonia Santos; IE San Felipe Neri; IE San Juan de Damasco; IE Camilo Torres; IE Líbano; IE Pontezuela; IE Arroyo Grande; IE Arroyo de Piedra; IE Tierra Baja; IE Liceo de Bolívar; IE Olga González Arraut; IE Madre Gabriela de San Martín; IE Clemente Manuel Zabala; IE Caño del Oro; IE Rafael Núñez; Escuela Normal Superior de Cartagena; IE Mercedes Ábrego; IE Soledad Acosta de Samper; IE Antonio Nariño; Colegio Naval de Crespo; CADS Manuela Beltrán; IE Foco Rojo; IE Tierra Bomba; IE Francisco de Paula Santander; IE Promoción Social; IE John F. Kennedy; IE Valores Unidos; IE Villa Estrella; IE La Libertad; IE Manuela Beltrán e IE Omaira Sánchez.
A26: 4. Educación de Calidad | B26: 2. Dignificar la Vida de los habitantes del Distrito de Cartagena de Indias con el desarrollo y fortalecimiento de la infraestructura educativa, la calidad y la cobertura de la educación en las instituciones públicas, y la reducción de la pobreza multidimensional con la disminución del déficit habitacional, ampliación de la cobertura del saneamiento básico, y garantizando una vivienda digna para toda la población, durante el período de gobierno 2024-2027. | C26: VIDA DIGNA | D26: EDUCACION | E26: Incrementar a 67% el porcentaje de Instituciones Educativas Oficiales que cuentan con fortalecimiento de educación inclusiva | F26: Yo Cuento | G26: 02-02-07 | H26: Número de aulas hospitalarias para la atención de niños, niñas, adolescentes y jóvenes en condición de enfermedad habilitadas | I26: Porcentaje | J26: 1 Aula Hospitalaria habilitada para la atención de niños, niñas, adolescentes y jóvenes en condición de enfermedad. Fuente: Secretaría de Educación, 2023 | K26: Habilitar cuatro (4) Aulas Hospitalarias para la atención de niños, niñas, adolescentes y jóvenes en condición de enfermedad | L26: 0.15 | M26: Servicio | N26: 220107000 Ambientes de aprendizaje dotados | O26: 4 | P26: 2 | Q26: 1 | R26: 1 | S26: 0 | T26: 3 | U26: 1 | V26: =+Y26+Z26+AA26+AB26 -> 2 | X26: 4 | Y26: 1 | Z26: 1 | AC26: =(V26/R26)*L26 -> 0.3 | AD26: 0.15 | AE26: 1 | AF26: 1 | AG26: A corte de 31 de marzo se cuenta con 4 aulas hospitalarias: clinica blas de Lezo, Hospital Infantil Napoleon Franco Pareja, Clinica la Misericordia, Clinica Serena del Mar. Esta última se encuentra en proceso de socialización de la modalidad de atención. | AH26: 1 (SERENA DEL MAR) | AI26: Se continúa con la implementación de la oferta de atención educativa hospitalaria y domiciliaria, en articulación con la Fundación Universitaria Los Libertadores y la Universidad de San Buenaventura, garantizando la continuidad de los procesos educativos de estudiantes en condición de enfermedad. La estrategia se desarrolla en las Aulas Hospitalarias de Blas de Lezo, Casa del Niño, Clínica La Misericordia, Fundevida, Funvivir y Serena del Mar, fortaleciendo el acceso, la permanencia y el ejercicio efectivo del derecho a la educación mediante un trabajo articulado entre los sectores de educación y salud.
A27: 4. Educación de Calidad | B27: 2. Dignificar la Vida de los habitantes del Distrito de Cartagena de Indias con el desarrollo y fortalecimiento de la infraestructura educativa, la calidad y la cobertura de la educación en las instituciones públicas, y la reducción de la pobreza multidimensional con la disminución del déficit habitacional, ampliación de la cobertura del saneamiento básico, y garantizando una vivienda digna para toda la población, durante el período de gobierno 2024-2027. | C27: VIDA DIGNA | D27: EDUCACION | E27: Incrementar a 67% el porcentaje de Instituciones Educativas Oficiales que cuentan con fortalecimiento de educación inclusiva | F27: Yo Cuento | G27: 02-02-08 | H27: Número de Instituciones Educativas Oficiales con estudiantes con capacidades excepcionales vinculados a Escuela de Talentos | I27: Porcentaje | J27: 0 Fuente: Secretaría de Educación, 2023. | K27: Vincular estudiantes con capacidades excepcionales a la Escuela de Talentos en cincuenta (50) Instituciones Educativas Oficiales | L27: 0.05 | M27: Servicio | N27: 220108400 Sedes educativas con apoyo pedagógico para la oferta de educación inclusiva para preescolar, básica y media | O27: 50 | P27: 12 | Q27: 12 | R27: 13 | S27: 13 | T27: 12 | U27: 12 | V27: =+Y27+AA27+AB27 -> 13 | X27: =+T27+U27+V27+W27 -> 37 | Y27: 13 | Z27: 13 | AC27: =(V27/R27)*L27 -> 0.05 | AD27: =(X27/O27)*L27 -> 0.037 | AE27: =V27/R27 -> 1 | AF27: =X27/O27 -> 0.74 | AG27: Se focalizaron 13 Establecimientos Educativos para implementación de la ruta de atención a la población con capacidades y talentos excepcionales. 223 Estudiantes han sido caracterizados. | AI27: Se completó la caracterización de los estudiantes con capacidades y talentos excepcionales, consolidando la información necesaria para su atención educativa. De igual manera, se registra un avance del 50 % en la construcción de los portafolios, herramienta fundamental para el seguimiento, la planificación de apoyos y el fortalecimiento de sus capacidades.
A28: 4. Educación de Calidad | B28: 2. Dignificar la Vida de los habitantes del Distrito de Cartagena de Indias con el desarrollo y fortalecimiento de la infraestructura educativa, la calidad y la cobertura de la educación en las instituciones públicas, y la reducción de la pobreza multidimensional con la disminución del déficit habitacional, ampliación de la cobertura del saneamiento básico, y garantizando una vivienda digna para toda la población, durante el período de gobierno 2024-2027. | C28: VIDA DIGNA | D28: EDUCACION | E28: Reducir la tasa de extraedad en el Distrito al 9% | F28: Yo Cuento | G28: 02-02-09 | H28: Número de Instituciones Educativas Oficiales con modelos educativos flexibles implementados | I28: Porcentaje | J28: 22 Instituciones educativas Oficiales con modelos educativos flexibles implementados en el Distrito Fuente: Secretaría de Educación, 2023 | K28: Implementar en veintisiete (27) Instituciones Educativas Oficiales los modelos educativos flexibles | L28: 0.2 | M28: Servicio | N28: 220105700 Modelos educativos flexibles validados | O28: 27 | P28: 2 | Q28: 2 | R28: 3 | S28: 2 | T28: 20 | U28: 5 | V28: =+Y28+Z28+AA28+AB28 -> 0 | X28: =+T28+U28+V28+W28 -> 25 | Y28: 0 | Z28: 0 | AC28: =(V28/R28)*L28 -> 0 | AD28: =(X28/O28)*L28 -> 0.18518519 | AE28: =V28/R28 -> 0 | AF28: =X28/O28 -> 0.92592593 | AG28: Durante la vigencia 2026 contamos con un total de 24 EE dado que por condiciones de infraestructura una institución, la I.E Valores unidos en el marco de su autonomia decidió no continuar la implementación MEF.
A29: 4. Educación de Calidad | B29: 2. Dignificar la Vida de los habitantes del Distrito de Cartagena de Indias con el desarrollo y fortalecimiento de la infraestructura educativa, la calidad y la cobertura de la educación en las instituciones públicas, y la reducción de la pobreza multidimensional con la disminución del déficit habitacional, ampliación de la cobertura del saneamiento básico, y garantizando una vivienda digna para toda la población, durante el período de gobierno 2024-2027. | C29: VIDA DIGNA | D29: EDUCACION | E29: Reducir la tasa de extraedad en el Distrito al 9% | F29: Yo Cuento | G29: 02-02-10 | H29: Número de niños, niñas, adolescentes y jóvenes en extraedad que se encuentran dentro de la oferta regular, atendidos con modelos educativos flexibles en el sistema educativo oficial | I29: Porcentaje | J29: 1.052 niños, niñas, adolescentes y jóvenes atendidos Fuente: Secretaría de Educación Distrital, 2023 | K29: Atender con modelos educativos flexibles a cuatro mil (4.000) niños, niñas, adolescentes y jóvenes en extraedad, que se encuentran dentro de la oferta regular del sistema educativo oficial. | L29: 0.2 | M29: Servicio | N29: 220103000 Beneficiarios atendidos con modelos educativos flexibles | O29: 4000 | P29: 1000 | Q29: 1000 | R29: 1000 | S29: 1000 | T29: 0 | U29: 821 | V29: =+Y29+Z29+AA29+AB29 -> 928 | X29: =+T29+U29+V29+W29 -> 1749 | Y29: 928 | Z29: 0 | AC29: =(V29/R29)*L29 -> 0.1856 | AD29: =(X29/O29)*L29 -> 0.08745 | AE29: =V29/R29 -> 0.928 | AF29: =X29/O29 -> 0.43725 | AG29: En el marco de la reorganización que se adelanta en el Distrito de Cartagena, se aumenta el numero de aulas que implementan MEF con docentes en planta fija, lo cual representa la oportunidad para disminuir los indices de extraedad de estudiantes de la ciudad. | AI29: Durante el periodo se mantiene la matricula de Niños niñas y adolescentes en extraedad, atendidos por la planta de docentes fija. Sin embargo, en comparaciòn con la matricula de planta temporal, èsta es significativamente mayor. Este aumento en la matrìcula e implementaciòn de MEF representa una mejor capacidad de respuesta por parte de la ETC para garantizar los derechos de loas niños, niñas con esta condiciòn.
A30: 4. Educación de Calidad | B30: 2. Dignificar la Vida de los habitantes del Distrito de Cartagena de Indias con el desarrollo y fortalecimiento de la infraestructura educativa, la calidad y la cobertura de la educación en las instituciones públicas, y la reducción de la pobreza multidimensional con la disminución del déficit habitacional, ampliación de la cobertura del saneamiento básico, y garantizando una vivienda digna para toda la población, durante el período de gobierno 2024-2027. | C30: VIDA DIGNA | D30: EDUCACION | E30: Reducir la tasa de extraedad en el Distrito al 9% | F30: Yo Cuento | G30: 02-02-11 | H30: Número de niños, niñas, adolescentes y jóvenes en extraedad que se encuentran por fuera del sistema educativo oficial atendidos con modelos educativos flexibles | I30: Porcentaje | J30: 0 Fuente: Secretaría de Educación Distrital, 2023 | K30: Atender con modelos educativos flexibles a tres mil seiscientos noventa (3.690) niños, niñas, adolescentes y jóvenes en extraedad, que se encuentran por fuera del sistema educativo oficial. | L30: 0.25 | M30: Servicio | N30: 220103001 Beneficiarios atendidos con modelos educativos flexibles | O30: 3690 | P30: 922 | Q30: 1230 | R30: 920 | S30: 723 | T30: 908 | U30: 422 | V30: =+Y30+Z30+AA30+AB30 -> 381 | X30: =+T30+U30+V30+W30 -> 1711 | Y30: 317 | Z30: 64 | AC30: =(V30/R30)*L30 -> 0.10353261 | AD30: =(X30/O30)*L30 -> 0.11592141 | AE30: =V30/R30 -> 0.41413043 | AF30: =X30/O30 -> 0.46368564 | AG30: Se contrató una planta temporal de 13 docentes que atienden estudiantes en extraedad con MEF. | AI30: Se mantiene la planta temporal
A31: 4. Educación de Calidad | B31: 2. Dignificar la Vida de los habitantes del Distrito de Cartagena de Indias con el desarrollo y fortalecimiento de la infraestructura educativa, la calidad y la cobertura de la educación en las instituciones públicas, y la reducción de la pobreza multidimensional con la disminución del déficit habitacional, ampliación de la cobertura del saneamiento básico, y garantizando una vivienda digna para toda la población, durante el período de gobierno 2024-2027. | C31: VIDA DIGNA | D31: EDUCACION | E31: Reducir la tasa de analfabetismo en el Distrito al 0,9% | F31: Yo Cuento | G31: 02-02-12 | H31: Número de personas atendidas con modelos de alfabetización | I31: Porcentaje | J31: 1.200 personas atendidas con modelos de alfabetización a corte 2023 Fuente: Secretaría de Educación, 2023 | K31: Atender a ocho mil cuatrocientas (8.400) personas con modelos de alfabetización | L31: 0.05 | M31: Servicio | N31: 220103200 Personas beneficiarias con modelos de alfabetización | O31: 8400 | P31: 400 | Q31: 2700 | R31: 2700 | S31: 2600 | T31: 400 | U31: 310 | V31: =+Y31+Z31+AA31+AB31 -> 335 | X31: =+T31+U31+V31+W31 -> 1045 | Y31: 106 | Z31: 229 | AC31: =(V31/R31)*L31 -> 0.0062037037 | AD31: =(X31/O31)*L31 -> 0.0062202381 | AE31: =V31/R31 -> 0.12407407 | AF31: =X31/O31 -> 0.12440476 | AG31: Aun se encuentra en proceso de Busqueda activa y matricula de personas a alfabetizar | AI31: El proceso de búsqueda activa ha permitido incrementar la matrícula en la estrategia de alfabetización; sin embargo, persisten retos para identificar y vincular personas con la motivación suficiente para permanecer en el proceso. Aunque la articulación con la Secretaría de Participación y los Centros de Vida ha favorecido principalmente la matrícula de población adulta, se hace necesario fortalecer las estrategias de búsqueda activa para mejorar la identificación, captación y permanencia de la población objetivo.
B32: Avance Programa Yo Cuento | AC32: =SUM(AC25:AC31) -> 0.74533631 | AD32: =SUM(AD25:AD31) -> 0.68177683 | AE32: =AVERAGE(AE25:AE31) -> 0.63802922 | AF32: =AVERAGE(AF25:AF31) -> 0.6701809
