Workbook
Name CDP: [1]!Tabla3[CDP]
Name CDPPROYECTO: [1]!Tabla3[PROYECTO]
Name CODIGO: [1]!Tabla2[CÓDIGO DE PROYECTO BPIN]
Name estado: [1]!Tabla7[Estado]
Name Frecuencia: [1]!Tabla6[Frecuencia]
Name PROYECTO: [1]!Tabla2[PROYECTO DE INVERSIÓN]
Name PROYECTOS: [1]!Tabla2[PROYECTO DE INVERSIÓN]
Name RP: [1]!Tabla5[RP]

Sheet INSTRUCTIVO
B1: INSTRUCTIVO PARA EL DILIGENCIAMIENTO DEL PLAN DE ACCIÓN INSTITUCIONAL VIGENCIA 2024
B2: PLANTEAMIENTO ESTRATÉGICO PLAN DE ACCIÓN INSTITUCIONAL (Hoja 1)
B3: OBJETIVO DE DESARROLLO SOSTENIBLE | C3: Ingrese en esta casilla el ODS con el que se articula el programa de su competencia según el Acuerdo 139 que adopta el Plan de Desarrollo Distrital 2024-2027 'Cartagena, Ciudad de Derechos'.
B4: OBJETIVO ESTRATÉGICO | C4: Ingrese en esta casilla el objetivo estratégico definido en la plataforma estratégica, relacionado con su proceso y con la línea estratégica en la cual el Acuerdo 139 del 2024 le asignó su responsabilidad.
B5: LINEA ESTRATÉGICA | C5: Ingrese en esta casilla la línea estratégica correspondiente al programa de su competencia según el Acuerdo 139 que adopta el Plan de Desarrollo Distrital 2024-2027 'Cartagena, Ciudad de Derechos'.
B6: IMPULSOR DE AVANCE | C6: Ingrese en esta casilla el impulsor de avance que facilita el logro del objetivo del programa de su competencia según el Acuerdo 139 que adopta el Plan de Desarrollo Distrital 2024-2027 'Cartagena, Ciudad de Derechos'.
B7: META DE RESULTADO | C7: Ingrese en esta casilla la meta de resultado esperada del programa de su competencia según el Acuerdo 139 que adopta el Plan de Desarrollo Distrital 2024-2027 'Cartagena, Ciudad de Derechos'.
B8: PROGRAMA | C8: Ingrese en esta casilla el nombre de los programas de su competencia según el Acuerdo 139 que adopta el Plan de Desarrollo Distrital 2024-2027 'Cartagena, Ciudad de Derechos' (revise e incorpore los programas del Capítulo de los Pueblos y Comunidades Étnicas donde tienen compromisos, así como sus metas compartidas con otras dependencias).
B9: CÓDIGO DE PROGRAMA | C9: Ingrese en esta casilla el código del programa establecido en el Plan Operativo Anual de Inversiones.
B10: INDICADOR DE PRODUCTO SEGÚN PDD | C10: Ingrese en este casilla el indicador definido para cumplir la meta de producto en el Plan de Desarrollo según el Acuerdo 139 que adopta el Plan de Desarrollo Distrital 2024-2027 'Cartagena, Ciudad de Derechos'
B11: UNIDAD DE MEDIDA DEL INDICADOR DE PRODUCTO | C11: Ingrese en esta casilla la expresion fisica con la que se mostrará el resultado de la meta propuesta. (Ejemplo: número, porcentaje, kilometro).
B12: LINEA BASE SEGUN PDD | C12: Ingrese en esta casilla el valor que se encuentra en el Acuerdo 139 que adopta el Plan de Desarrollo Distrital 2024-2027 'Cartagena, Ciudad de Derechos', como el punto de partida para definir el alcance de la meta producto.
B13: DESCRIPCION DE LA META PRODUCTO 2024-2027 | C13: Ingrese en esta casilla lo que persigue el indicador en el cuatrenio, se encuentra plasmado en el Acuerdo 139 que adopta el Plan de Desarrollo Distrital 2024-2027 'Cartagena, Ciudad de Derechos'
B14: PONDERACION DE LA META PRODUCTO | C14: Ingrese en esta casilla el valor porcentual asignado a la meta producto
... B18: PROGRAMACIÓN META PRODUCTO A 2024 | C18: Ingrese en esta casilla, la cantidad de la meta propuesta para la actual vigencia, relacionada con el Plan Indicativo.
B20: GESTIÓN ADMINISTRATIVA MIPG (Hoja 2)
B21: El objetivo principal del Modelo Integrado de Planeación y Gestión - MIPG es dinamizar la gestión de las organizaciones públicas para generar bienes y servicios que resuelvan efectivamente las necesidades de la ciudadanía en el marco de la integralidad y la legalidad y la promoción de acciones que contribuyan a la lucha contra la corrupcion. Por lo que el principal beneficio del actual Modelo Integrado de Planeación y Gestión - MIPG es su contribución al fortalecimiento de las capacidades de las organizaciones, ya que se focaliza en las prácticas y procesos clave que ellas adelantan para convertir insumos en resultados, apuntando a transformar el Estado Colombiano, de un Estado legislativo a un Estado prestador de servicios. En relacion a lo anterior pretendemos que se identifique desde su dependencia como se relaciona el trabajo que se efectua para lograr lo propuesto.
B22: META DE RESULTADO | C22: Ingrese en esta casilla la meta de resultado esperada del programa de su competencia según el Acuerdo 139 que adopta el Plan de Desarrollo Distrital 2024-2027 'Cartagena, Ciudad de Derechos'.
B23: DIMENSIONES DE MIPG | C23: Ingrese en esta casilla la dimensión identificada: Definir desde la competencia de la dependencia y sus procesos con que dimensión se identifican de las 7 que componen el modelo. Como son: 1. Talento Humano 2. Direccionamiento Estrategico 3. Gestion con Valores por Resultados 4. Evaluacion de Resultados 5. Informacion y Comunicación 6. Gestion del Conocimiento 7. Control Interno
B24: POLÍTICAS DE GESTIÓN Y DESEMPEÑO INSTITUCIONAL | C24: Relacione en esta casilla la política de gestión y desempeño institucional alineada a su proceso (Éstas se ubican en una de las siete dimensiones de MIPG y las 19 políticas)
B25: PROCESO ASOCIADO A PROGRAMA Y PRODUCTO | C25: Relacione en esta casilla el proceso de gestión asociado al programa y al producto (Identifique el proceso de su competencia en el mapa de interrelacion de procesos alineado con su dependencia).
B26: SUBPROCESO ASOCIADO | C26: Relacione en esta casilla el subproceso de su competencia (Identifique esto en el mapa de interrelación de procesos).
B27: OBJETIVO DEL SUBPROCESO | C27: Descripcion del objetivo del subproceso al cual pertenece
B28: NOMBRE DEL INDICADOR | C28: Ingrese en esta casilla el nombre del indicador asociado a los objetivos estratégicos de la entidad, de acuerdo al proceso o subproceso de su competencia.
B29: PROPÓSITO | C29: Describa en esta casilla la meta que espera lograr a partir del indicador mencionado en la casilla anterior.
B30: FRECUENCIA | C30: Describa en esta casilla la frecuencia con la que se hará el reporte.
B31: TIPO DE INDICADOR | C31: Describa en esta casilla el tipo de indicador relacionado, según su naturaleza (eficiencia, eficaz, efectividad, etc).
B32: GRUPOS DE VALOR | C32: Defina en esta casilla con una X a qué grupo de valor pertenece, ya sea entidades, ciudadanía, servidores-interno.
B33: PLANES DECRETO 612 DE 2018 | C33: Indique a cuál Plan Institucional, de los establecidos en el Decreto 612 del 2018, le aporta este producto.
B34: POLÍTICA DE ADMINISTRACION DE RIESGOS
B35: “Establece los lineamientos y parámetros en la Alcaldía Mayor de Cartagena de Indias para la identificación, análisis, evaluación, tratamiento, monitoreo, revisión, valoración, comunicación, consulta y seguimiento de los riesgos a los que se expone y pueden afectar el cumplimiento de los objetivos institucionales en el marco de los procesos, planes y proyectos de la entidad debido a eventos potenciales y que pueden llevar a la posibilidad de incurrir en pérdidas o afectaciones a nivel económico o reputaciones por deficiencias, fallas o inadecuaciones, en el recurso humano, procesos, tecnología, infraestructura o por la ocurrencia de acontecimientos externos.”
B36: RIESGOS ASOCIADOS AL PROCESO | C36: Ingrese en esta casilla cada uno de los riesgos identificados en el proceso definido, y desarrollado en la caracterización de la gestión por proceso
B37: CONTROLES ESTABLECIDOS PARA LOS RIESGOS | C37: Ingrese en esta casilla cada uno de los controles formulados para cada riesgo identificado en el proceso definido
B39: PLAN DE ACCION - INVERSIÓN (Hoja 3)
B40: PROYECTO DE INVERSIÓN | C40: Ingrese en esta casilla el nombre del proyecto a partir del cual se desarrollará el programa con el que se articula.
B41: CÓDIGO DE PROYECTO BPIN | C41: Ingrese en esta casilla el número BPIN del proyecto a partir del cual se desarrollará el programa con el que se articula.
B42: OBJETIVO GENERAL DEL PROYECTO | C42: Ingrese en esta casilla el fin general del proyecto a partir del cual se desarrollará el programa con el que se articula.
B43: OBJETIVO ESPECÍFICO DEL PROYECTO | C43: Ingrese en esta casilla el objetivo específico asociado al objetivo general diligenciado en la casilla anterior.
B44: PRODUCTO DEL PROYECTO | C44: Ingrese en esta casilla el producto que materializa el objetivo específico relacionado en la casilla anterior.
B45: PONDERACIÓN DE PRODUCTO | C45: Ingrese en esta casilla la ponderacion asignada al producto en cuestión.
...

Sheet Matriz Gestores de Metas
A1: GESTOR DE LA META | B1: OBJETIVO ESTRATÉGICO | C1: META | D1: LÍNEA ESTRATÉGICA | E1: IMPULSOR DE AVANCE | F1: META RESULTADO | G1: PROGRAMA | H1: CÓDIGO DE PROGRAMA | I1: INDICADOR DE PRODUCTO SEGÚN PDD | J1: UNIDAD DE MEDIDA DEL INDICADOR DE PRODUCTO | K1: LÍNEA BASE SEGUN PDD | L1: DESCRIPCIÓN DE LA META PRODUCTO 2024-2027 | O1: PONDERACIÓN DE LA META PRODUCTO | P1: DENOMINACIÓN DEL PRODUCTO | Q1: ENTREGABLE INDICADOR DE PRODUCTO SEGÚN CATALOGO DE PRODUCTO | R1: VALOR DE LA META PRODUCTO 2024-2027 | S1: AVANCE A MARZO 31 DE 2024 | T1: AVANCE A JUNIO 30 DE 2024 | U1: AVANCE A SEPTIEMBRE 30 DE 2024 | V1: AVANCE A DICIEMBRE 31 DE 2024 | W1: AVANCE A MARZO 31 DE 2025 | X1: AVANCE A JUNIO 30 DE 2025 | Y1: AVANCE A SEPTIEMBRE 15 DE 2025 | Z1: AVANCE A DICIEMBRE 31 DE 2025 | AA1: AVANCE A MARZO 31 DE 2026 | AB1: AVANCE A JUNIO 30 DE 2026 | AC1: AVANCE A SEPTIEMBRE 30 DE 2026 | AD1: AVANCE A DICIEMBRE 31 DE 2026 | AE1: AVANCE A MARZO 31 DE 2027 | AF1: AVANCE A JUNIO 30 DE 2027 | AG1: AVANCE A SEPTIEMBRE 30 DE 2027 | AH1: AVANCE A DICIEMBRE 31 DE 2027 | AI1: ACUMULADO 2024-2027 | AJ1: CUMPLIMIENTO % 2024 | AK1: CUMPLIMIENTO % 2025 | AL1: CUMPLIMIENTO % 2026 | AM1: CUMPLIMIENTO % 2027 | AN1: CUMPLIMIENTO % 2024-2027
A2: Frank Ricaurte Sossa | I2: GASTOS DE FUNCIONAMIENTO JUNTA ADMINISTRADORA LOCAL
A3: Frank Ricaurte Sossa | I3: Honorarios Ediles
A4: Frank Ricaurte Sossa | I4: Aportes a Seguridad Social Ediles (Salud, Pensión y ARL)
I5: LÍNEAS ESTRATÉGICAS: | O5: ='[2]Plan Indicativo'!CP15 -> 1
C6: Vida Digna e Inclusión Social y Cultural | D6: Vida Digna e Inclusión Social y Cultural | E6: Educación | I6: 1. LÍNEA ESTRATÉGICA: VIDA DIGNA E INCLUSIÓN SOCIAL Y CULTURAL | O6: ='[2]Plan Indicativo'!CP16 -> 0.42366932
C7: Vida Digna e Inclusión Social y Cultural | D7: Vida Digna e Inclusión Social y Cultural | E7: Educación | I7: 1.1 Componente Impulsor del Avance: Educación | O7: ='[2]Plan Indicativo'!CP17 -> 0.11644255
C8: Vida Digna e Inclusión Social y Cultural | D8: Vida Digna e Inclusión Social y Cultural | E8: Educación | G8: Tecnología y Educación en la Localidad Histórica y del Caribe Norte | I8: Programa: Tecnología y Educación en la Localidad Histórica y del Caribe Norte | O8: ='[2]Plan Indicativo'!CP18 -> 1
A9: Frank Ricaurte Sossa | B9: 1 | C9: 1 | D9: Vida Digna e Inclusión Social y Cultural | E9: Educación | G9: Tecnología y Educación en la Localidad Histórica y del Caribe Norte | I9: Número de computadores dotados a aulas educativas de IEO | J9: Número | K9: ND | L9: 500 computadores | M9: 300 computadores | N9: 800 computadores | O9: ='[2]Plan Indicativo'!CP19 -> 0.4 | P9: Bien | R9: 800 | S9: 0 | T9: 0 | U9: 0 | V9: 0 | W9: 0 | X9: 0 | Y9: 0 | AI9: =SUM(S9:AH9) -> 0 | AN9: =AI9/R9 -> 0
A10: ELIMINAR META | B10: 1 | C10: 2 | D10: Vida Digna e Inclusión Social y Cultural | E10: Educación | G10: Tecnología y Educación en la Localidad Histórica y del Caribe Norte | I10: Número de IEO de la localidad beneficiadas con actividades pedagógicas encaminadas al fortalecimiento de la comunidad estudiantil en los ejes de lecto - escritura | J10: Número | K10: ND | L10: 5 IEO de la localidad en los grados de 10 y 11 beneficiadas con actividades pedagógicas encaminadas en el fortalecimiento de la comunidad estudiantil | M10: 10 IEO de la localidad en los grados de 10 y 11 beneficiadas con actividades pedagógicas encaminadas en el fortalecimiento de la comunidad estudiantil en valores históricos, culturales y etnológicos | N10: 15 IEO de la localidad en los grados de 10 y 11 beneficiadas con actividades pedagógicas encaminadas en el fortalecimiento de la comunidad estudiantil en valores históricos, culturales y etnológicos | O10: ='[2]Plan Indicativo'!CP20 -> 0.05 | P10: Servicio | R10: 15 | S10: 0 | T10: 0 | U10: 0 | V10: 0 | W10: 0 | X10: 0 | Y10: 0 | AI10: =SUM(S10:AH10) -> 0 | AN10: =AI10/R10 -> 0
A11: Bernarda Correa Angela Mendoza | B11: 1 | C11: 3 | D11: Vida Digna e Inclusión Social y Cultural | E11: Educación | G11: Tecnología y Educación en la Localidad Histórica y del Caribe Norte | I11: Número de personas con formación técnica para el trabajo | J11: Número | K11: ND | L11: 300 personas con formación técnica para el trabajo | M11: 200 personas con formación técnica para el trabajo | N11: 500 personas con formación técnica para el trabajo | O11: ='[2]Plan Indicativo'!CP21 -> 0.05 | P11: Servicio | R11: 500 | S11: 0 | T11: 0 | U11: 0 | V11: 0 | W11: 0 | X11: 0 | Y11: 0 | AI11: =SUM(S11:AH11) -> 0 | AN11: =AI11/R11 -> 0
A12: Frank Ricaurte Sossa | B12: 1 | C12: 4 | D12: Vida Digna e Inclusión Social y Cultural | E12: Educación | G12: Tecnología y Educación en la Localidad Histórica y del Caribe Norte | I12: Número de instituciones educativas con infraestructura y ambientes educativos adecuados | J12: Número | K12: ND | M12: 5 instituciones educativas oficiales de la LHCN con infraestructura y ambientes educativos adecuados | N12: 5 instituciones educativas oficiales de la LHCN con infraestructura y ambientes educativos adecuados | O12: ='[2]Plan Indicativo'!CP22 -> 0.3 | P12: Bien | R12: 5 | S12: 0 | T12: 0 | U12: 0 | V12: 0 | W12: 0 | X12: 0 | Y12: 0 | AI12: =SUM(S12:AH12) -> 0 | AN12: =AI12/R12 -> 0
A13: Frank Ricaurte Sossa | B13: 1 | C13: 5 | D13: Vida Digna e Inclusión Social y Cultural | E13: Educación | G13: Tecnología y Educación en la Localidad Histórica y del Caribe Norte | I13: Número de aulas dotadas de IEO con materiales didácticos y mobiliario, equipos, etc. | J13: Número | K13: ND | M13: 5 instituciones educativas oficiales de la LHCN dotadas con materiales didácticos, mobiliario, equipos, etc. | N13: 5 instituciones educativas oficiales de la LHCN dotadas con materiales didácticos, mobiliario, equipos, etc. | O13: ='[2]Plan Indicativo'!CP23 -> 0.1 | P13: Bien | R13: 5 | S13: 0 | T13: 0 | U13: 0 | V13: 0 | W13: 0 | X13: 0 | Y13: 0 | AI13: =SUM(S13:AH13) -> 0 | AN13: =AI13/R13 -> 0
A14: Frank Ricaurte Sossa | B14: 1 | C14: 6 | D14: Vida Digna e Inclusión Social y Cultural | E14: Educación | G14: Tecnología y Educación en la Localidad Histórica y del Caribe Norte | I14: Número de IEO adecuadas para el acceso de estudiantes en condición de discapacidad | J14: Número | K14: ND | L14: 5 instituciones educativas oficiales de la LHCN sin barreras para la accesibilidad de sus estudiantes en condición de discapacidad | M14: 5 instituciones educativas oficiales de la LHCN sin barreras para la accesibilidad de sus estudiantes en condición de discapacidad | N14: 10 instituciones educativas oficiales de la LHCN sin barreras para la accesibilidad de sus estudiantes en condición de discapacidad | O14: ='[2]Plan Indicativo'!CP24 -> 0.1 | P14: Bien | R14: 10 | S14: 0 | T14: 0 | U14: 0 | V14: 0 | W14: 0 | X14: 0 | Y14: 0 | AI14: =SUM(S14:AH14) -> 0 | AN14: =AI14/R14 -> 0
A15: Frank Ricaurte Sossa | B15: 1 | C15: 7 | D15: Vida Digna e Inclusión Social y Cultural | E15: Cultura | G15: Artes y Cultura para el Desarrollo Humano y Social | I15: Número de infraestructuras culturales construidas o habilitadas, dotadas y funcionando | J15: Número | K15: ND | L15: 1 Centro Artístico y Cultural construido o habilitado, dotado y funcionando | N15: 1 Centro Artístico y Cultural construido o habilitado, dotado y funcionando | O15: ='[2]Plan Indicativo'!CP27 -> 0.4 | P15: Bien | R15: 1 | S15: 0 | T15: 0 | U15: 0 | V15: 0 | W15: 0 | X15: 0 | Y15: 0 | AI15: =SUM(S15:AH15) -> 0 | AN15: =AI15/R15 -> 0
A16: Dona Blanquicett | B16: 1 | C16: 8 | D16: Vida Digna e Inclusión Social y Cultural | E16: Cultura | G16: Artes y Cultura para el Desarrollo Humano y Social | I16: Número de corredores culturales habilitados | J16: Número | K16: ND | L16: 7 corredores culturales habilitados | M16: 3 corredores culturales habilitados | N16: 10 corredores culturales habilitados | O16: ='[2]Plan Indicativo'!CP28 -> 0.1 | P16: Servicio | R16: 10 | S16: 0 | T16: 0 | U16: 0 | V16: 0 | W16: 0 | X16: 0 | Y16: 0 | AI16: =SUM(S16:AH16) -> 0 | AN16: =AI16/R16 -> 0
A17: Dona Blanquicett | B17: 1 | C17: 9 | D17: Vida Digna e Inclusión Social y Cultural | E17: Cultura | G17: Artes y Cultura para el Desarrollo Humano y Social | I17: Número de cinematecas implementadas en la LHCN | J17: Número | K17: ND | L17: 9 cinematecas implementadas | M17: 3 cinematecas implementadas | N17: 12 cinematecas implementadas | O17: ='[2]Plan Indicativo'!CP29 -> 0.1 | P17: Bien | R17: 12 | S17: 0 | T17: 0 | U17: 0 | V17: 0 | W17: 0 | X17: 0 | Y17: 0 | AI17: =SUM(S17:AH17) -> 0 | AN17: =AI17/R17 -> 0
A18: Dona Blanquicett | B18: 1 | C18: 10 | D18: Vida Digna e Inclusión Social y Cultural | E18: Cultura | G18: Artes y Cultura para el Desarrollo Humano y Social | I18: Número actividades culturales en torno a la práctica del teatro en sus diferentes vertientes en la LHCN | J18: Número | K18: ND | L18: 7 actos teatrales en la LHCN | M18: 3 actos teatrales en la LHCN | N18: 10 actos teatrales en la LHCN | O18: ='[2]Plan Indicativo'!CP30 -> 0.1 | P18: Servicio | R18: 10 | S18: 0 | T18: 0 | U18: 0 | V18: 0 | W18: 0 | X18: 0 | Y18: 0 | AI18: =SUM(S18:AH18) -> 0 | AN18: =AI18/R18 -> 0
A19: Dona Blanquicett | B19: 1 | C19: 11 | D19: Vida Digna e Inclusión Social y Cultural | E19: Cultura | G19: Artes y Cultura para el Desarrollo Humano y Social | I19: Número de grupos culturales de la localidad dotados | J19: Número | K19: ND | L19: 7 grupos culturales dotados | M19: 3 grupos culturales dotados | N19: 10 grupos culturales dotados | O19: ='[2]Plan Indicativo'!CP31 -> 0.1 | P19: Bien | R19: 10 | S19: 0 | T19: 0 | U19: 0 | V19: 0 | W19: 0 | X19: 0 | Y19: 0 | AI19: =SUM(S19:AH19) -> 0 | AN19: =AI19/R19 -> 0
A20: Dona Blanquicett | B20: 1 | C20: 12 | D20: Vida Digna e Inclusión Social y Cultural | E20: Cultura | G20: Artes y Cultura para el Desarrollo Humano y Social | I20: Número de festivales gastronómicos impulsados y apoyados | J20: Número | K20: ND | L20: 3 festivales gastronómicos impulsados y apoyados | M20: 3 festivales gastronómicos impulsados y apoyados | N20: 6 festivales gastronómicos impulsados y apoyados | O20: ='[2]Plan Indicativo'!CP32 -> 0.1 | P20: Bien | R20: 6 | S20: 0 | T20: 0 | U20: 0 | V20: 0 | W20: 0 | X20: 0 | Y20: 0 | AI20: =SUM(S20:AH20) -> 0 | AN20: =AI20/R20 -> 0
A21: Dona Blanquicett | B21: 1 | C21: 13 | D21: Vida Digna e Inclusión Social y Cultural | E21: Cultura | G21: Artes y Cultura para el Desarrollo Humano y Social | I21: Número de eventos académicos sobre los usos y costumbres en la LHCN | J21: Número | K21: ND | L21: Llevar a cabo 1 evento académico sobre los usos y costumbres en la LHCN | N21: Llevar a cabo 1 evento académico sobre los usos y costumbres en la LHCN | O21: ='[2]Plan Indicativo'!CP33 -> 0.1 | P21: Servicio | R21: 1 | S21: 0 | T21: 0 | U21: 0 | V21: 0 | W21: 0 | X21: 0 | Y21: 0 | AI21: =SUM(S21:AH21) -> 0 | AN21: =AI21/R21 -> 0
A22: Dona Blanquicett | B22: 1 | C22: 14 | D22: Vida Digna e Inclusión Social y Cultural | E22: Deporte y Recreación | G22: Deporte y Recreación para Todos y Todas | I22: Número de eventos deportivos y/o recreativos | J22: Número | K22: ND | L22: 1.500 eventos deportivos y/o recreativos realizados | M22: 300 eventos deportivos y/o recreativos realizados | N22: 1.800 eventos deportivos y/o recreativos realizados | O22: ='[2]Plan Indicativo'!CP36 -> 0.05 | P22: Servicio | R22: 1800 | S22: 0 | T22: 0 | U22: 0 | V22: 0 | W22: 0 | X22: 0 | AI22: =SUM(S22:AH22) -> 0 | AN22: =AI22/R22 -> 0
A23: Dona Blanquicett | B23: 1 | C23: 15 | D23: Vida Digna e Inclusión Social y Cultural | E23: Deporte y Recreación | G23: Deporte y Recreación para Todos y Todas | I23: Número de eventos y/o torneos deportivos de los Consejos Comuneros de Gobierno y/o Juntas de Acción Comunal impulsados y apoyados | J23: Número | K23: ND | L23: 3 de eventos y/o torneos deportivos de los Consejos Comuneros de Gobierno y/o Juntas de Acción Comunal impulsados y apoyados | M23: 3 de eventos y/o torneos deportivos de los Consejos Comuneros de Gobierno y/o Juntas de Acción Comunal impulsados y apoyados | N23: 6 de eventos y/o torneos deportivos de los Consejos Comuneros de Gobierno y/o Juntas de Acción Comunal impulsados y apoyados | O23: ='[2]Plan Indicativo'!CP37 -> 0.05 | P23: Servicio | R23: 6 | S23: 0 | T23: 0 | U23: 0 | V23: 0 | W23: 0 | X23: 0 | Y23: 0 | AI23: =SUM(S23:AH23) -> 0 | AN23: =AI23/R23 -> 0
A24: Frank Ricaurte Sossa | B24: 1 | C24: 16 | D24: Vida Digna e Inclusión Social y Cultural | E24: Deporte y Recreación | G24: Deporte y Recreación para Todos y Todas | I24: Número de escenarios deportivos, canchas y/o parques nuevos mantenidos, adecuados y/o mejorados en la LHCN | J24: Número | K24: ND | L24: 10 escenarios deportivos, canchas y/o parques construidos, mantenidos y/o adecuados | M24: 8 escenarios deportivos, canchas y/o parques construidos, mantenidos y/o adecuados | N24: 18 escenarios deportivos, canchas y/o parques construidos, mantenidos y/o adecuados | O24: ='[2]Plan Indicativo'!CP38 -> 0.6 | P24: Bien | Q24: 70111700 – Parques, Jardines y Huertos 53270 Instalaciones al aire libre para deportes y esparcimiento 54270 Servicios generales de construcción de instalaciones al aire libre para deportes y esparcimiento | R24: 18 | S24: 0 | T24: 0 | U24: 0 | V24: 2 | W24: 4 | X24: 0 | Y24: 0 | AI24: =SUM(S24:AH24) -> 6 | AN24: =AI24/R24 -> 0.33333333
A25: Frank Ricaurte Sossa | B25: 1 | C25: 17 | D25: Vida Digna e Inclusión Social y Cultural | E25: Deporte y Recreación | G25: Deporte y Recreación para Todos y Todas | I25: Diseño y construcción del Parque de la Alegría y de 2 parques con temáticas ecológicas en la LHCN | J25: Número | K25: ND | L25: 1 parque diseñado y construido | M25: 2 parques con temáticas ecológicas diseñados y construidos | N25: 3 parques con temáticas ecológicas diseñados y construidos | O25: ='[2]Plan Indicativo'!CP39 -> 0.3 | P25: Bien | R25: 3 | S25: 0 | T25: 0 | U25: 0 | V25: 0 | W25: 0 | X25: 0 | Y25: 0 | AI25: =SUM(S25:AH25) -> 0 | AN25: =AI25/R25 -> 0
A26: Arleth Jiménez | B26: 1 | C26: 18 | D26: Vida Digna e Inclusión Social y Cultural | E26: Niñez, Adolescencia y Juventud | G26: Nuestros Niños, Niñas y Adolescentes Disfrutando de la Lúdica y la Recreación | I26: Número de padres, madres y/o cuidadores socializados en Rutas de Atención para NNA en: Trabajo Infantil, Víctimas de Violencia Sexual, Mendicidad, Situación de Calle y Trata de Personas | J26: Número | K26: ND | L26: 350 personas con rutas de atención socializada | M26: 100 personas con rutas de atención socializada | N26: 450 personas con rutas de atención socializada | O26: ='[2]Plan Indicativo'!CP42 -> 0.15 | P26: Servicio | R26: 450 | S26: 0 | T26: 0 | U26: 0 | V26: 100 | W26: 0 | X26: 58 | Y26: 0 | AI26: =SUM(S26:AH26) -> 158 | AN26: =AI26/R26 -> 0.35111111
A27: Arleth Jiménez Irene Pérez | B27: 1 | C27: 19 | D27: Vida Digna e Inclusión Social y Cultural | E27: Niñez, Adolescencia y Juventud | G27: Nuestros Niños, Niñas y Adolescentes Disfrutando de la Lúdica y la Recreación | I27: Número de padres, madres y/o cuidadores de niños, niñas y adultos mayores con acciones que promuevan el desarrollo de entornos protectores | J27: Número | K27: ND | L27: 350 padres, madres y/o cuidadores de niños, niñas y adultos mayores con acciones que promueven el desarrollo de entornos protectores | M27: 100 padres, madres y/o cuidadores de niños, niñas y adultos mayores con acciones que promueven el desarrollo de entornos protectores | N27: 450 padres, madres y/o cuidadores de niños, niñas y adultos mayores con acciones que promueven el desarrollo de entornos protectores | O27: ='[2]Plan Indicativo'!CP43 -> 0.15 | P27: Servicio | R27: 450 | S27: 0 | T27: 0 | U27: 0 | V27: 80 | W27: 20 | X27: 57 | Y27: 0 | AI27: =SUM(S27:AH27) -> 157 | AN27: =AI27/R27 -> 0.34888889
A28: Arleth Jiménez | B28: 1 | C28: 20 | D28: Vida Digna e Inclusión Social y Cultural | E28: Niñez, Adolescencia y Juventud | G28: Nuestros Niños, Niñas y Adolescentes Disfrutando de la Lúdica y la Recreación | I28: Número de acciones afirmativas de promoción de situaciones de Riesgo Social como son: Trabajo Infantil, Violencia Sexual, Maltrato Infantil realizadas | J28: Número | K28: ND | L28: 3 acciones afirmativas realizadas para la promoción de situaciones de Riesgo Social | M28: 1 acción afirmativa realizada para la promoción de situaciones de Riesgo Social | N28: 4 acciones afirmativas realizada para la promoción de situaciones de Riesgo Social | O28: ='[2]Plan Indicativo'!CP44 -> 0.15 | P28: Servicio | R28: 4 | S28: 0 | T28: 0 | U28: 0 | V28: 1 | W28: 0 | X28: 0 | Y28: 0 | AI28: =SUM(S28:AH28) -> 1 | AN28: =AI28/R28 -> 0.25
A29: Arleth Jiménez | B29: 1 | C29: 21 | D29: Vida Digna e Inclusión Social y Cultural | E29: Niñez, Adolescencia y Juventud | G29: Nuestros Niños, Niñas y Adolescentes Disfrutando de la Lúdica y la Recreación | I29: Número de acciones formativas con NNA para la Prevención del Consumo de SPA | J29: Número | K29: ND | L29: 12 acciones formativas con NNA para la Prevención del Consumo de SPA | M29: 2 acciones formativas con NNA para la Prevención del Consumo de SPA | N29: 14 acciones formativas con NNA para la Prevención del Consumo de SPA | O29: ='[2]Plan Indicativo'!CP45 -> 0.15 | P29: Servicio | R29: 14 | S29: 0 | T29: 0 | U29: 0 | V29: 0 | W29: 0 | X29: 0 | Y29: 0 | AI29: =SUM(S29:AH29) -> 0 | AN29: =AI29/R29 -> 0
A30: Arleth Jiménez | B30: 1 | C30: 22 | D30: Vida Digna e Inclusión Social y Cultural | E30: Niñez, Adolescencia y Juventud | G30: Nuestros Niños, Niñas y Adolescentes Disfrutando de la Lúdica y la Recreación | I30: Número de Acciones formativas con NNA para la Prevención del Fomento de Hábitos Saludables en Salud Oral | J30: Número | K30: ND | L30: 11 acciones formativas con NNA para la prevención del Fomento de Hábitos Saludables en Salud Oral | M30: 1 acción formativa con NNA para la prevención del Fomento de Hábitos Saludables en Salud Oral | N30: 12 acciones formativas con NNA para la prevención del Fomento de Hábitos Saludables en Salud Oral | O30: ='[2]Plan Indicativo'!CP46 -> 0.15 | P30: Servicio | R30: 12 | S30: 0 | T30: 0 | U30: 0 | V30: 2 | W30: 5 | X30: 2 | Y30: 0 | AI30: =SUM(S30:AH30) -> 9 | AN30: =AI30/R30 -> 0.75
A31: Arleth Jiménez | B31: 1 | C31: 23 | D31: Vida Digna e Inclusión Social y Cultural | E31: Niñez, Adolescencia y Juventud | G31: Nuestros Niños, Niñas y Adolescentes Disfrutando de la Lúdica y la Recreación | I31: Número de Acciones formativas con NNA para la Prevención del Suicidio | J31: Número | K31: ND | L31: 12 acciones formativas con NNA para la Prevención del Suicidio | M31: 3 acciones formativas con NNA para la Prevención del Suicidio | N31: 15 acciones formativas con NNA para la Prevención del Suicidio | O31: ='[2]Plan Indicativo'!CP47 -> 0.1 | P31: Servicio | R31: 15 | S31: 0 | T31: 0 | U31: 0 | V31: 3 | W31: 3 | X31: 2 | Y31: 2 | AI31: =SUM(S31:AH31) -> 10 | AN31: =AI31/R31 -> 0.66666667
A32: Arleth Jiménez | B32: 1 | C32: 24 | D32: Vida Digna e Inclusión Social y Cultural | E32: Niñez, Adolescencia y Juventud | G32: Nuestros Niños, Niñas y Adolescentes Disfrutando de la Lúdica y la Recreación | I32: Número de jornadas donde niños, niñas y adolescentes que participan y disfrutan de actividades lúdicas extramurales | J32: Número | K32: ND | L32: 9 jornadas lúdicas realizadas | M32: 3 jornadas lúdicas realizadas | N32: 12 jornadas lúdicas realizadas | O32: ='[2]Plan Indicativo'!CP48 -> 0.15 | P32: Servicio | R32: 12 | S32: 0 | T32: 0 | U32: 0 | V32: 7 | W32: 0 | X32: 3 | Y32: 0 | AI32: =SUM(S32:AH32) -> 10 | AN32: =AI32/R32 -> 0.83333333
A33: Frank Ricaurte Sossa | B33: 1 | C33: 25 | D33: Vida Digna e Inclusión Social y Cultural | E33: Niñez, Adolescencia y Juventud | G33: Casa de la Juventud: Fortaleciendo el Desarrollo Integral de los Adolescentes y Jóvenes | I33: Número de casas de la juventud con atención a adolescentes y jóvenes | J33: Número | K33: ND | L33: 1 Casa de la Juventud construida o habilitada y funcionando | N33: 1 Casa de la Juventud construida o habilitada y funcionando | O33: ='[2]Plan Indicativo'!CP50 -> 0.5 | P33: Bien | R33: 1 | S33: 0 | T33: 0 | U33: 0 | V33: 0 | W33: 0 | X33: 0 | Y33: 0 | AI33: =SUM(S33:AH33) -> 0 | AN33: =AI33/R33 -> 0
A34: Arleth Jiménez | B34: 1 | C34: 26 | D34: Vida Digna e Inclusión Social y Cultural | E34: Niñez, Adolescencia y Juventud | G34: Casa de la Juventud: Fortaleciendo el Desarrollo Integral de los Adolescentes y Jóvenes | I34: Número de jornadas de capacitación a adolescentes y jóvenes de la LHCN | J34: Número | K34: ND | L34: 6 jornadas de capacitación | M34: 3 jornadas de capacitación | N34: 9 jornadas de capacitación | O34: ='[2]Plan Indicativo'!CP51 -> 0.2 | P34: Servicio | R34: 9 | S34: 0 | T34: 0 | U34: 0 | V34: 5 | W34: 0 | X34: 3 | Y34: 2 | AI34: =SUM(S34:AH34) -> 10 | AN34: =AI34/R34 -> 1.1111111
A35: Arleth Jiménez | B35: 1 | C35: 27 | D35: Vida Digna e Inclusión Social y Cultural | E35: Niñez, Adolescencia y Juventud | G35: Casa de la Juventud: Fortaleciendo el Desarrollo Integral de los Adolescentes y Jóvenes | I35: Número de jornadas de atención integral a adolescentes y jóvenes de la LHCN | J35: Número | K35: ND | L35: 6 jornadas de atención integral a adolescentes y jóvenes de la LHCN | M35: 6 jornadas de atención integral a adolescentes y jóvenes de la LHCN | N35: 12 jornadas de atención integral a adolescentes y jóvenes de la LHCN | O35: ='[2]Plan Indicativo'!CP52 -> 0.3 | P35: Servicio | R35: 12 | S35: 0 | T35: 0 | U35: 0 | V35: 2 | W35: 2 | X35: 0 | Y35: 2 | AI35: =SUM(S35:AH35) -> 6 | AN35: =AI35/R35 -> 0.5
A36: Elix Gomezcasseres | B36: 1 | C36: 28 | D36: Vida Digna e Inclusión Social y Cultural | E36: Enfoque de Género y Diversidad | G36: Mujeres Empoderadas: Camino a la Igualdad | I36: Número de mujeres formadas en mecanismos para la protección de los derechos humanos y participación comunitaria con enfoque de género | J36: Número | K36: ND | L36: 500 de mujeres formadas en mecanismos para la protección de los derechos humanos y participación comunitaria con enfoque de género | M36: 300 de mujeres formadas en mecanismos para la protección de los derechos humanos y participación comunitaria con enfoque de género | N36: 800 de mujeres formadas en mecanismos para la protección de los derechos humanos y participación comunitaria con enfoque de género | O36: ='[2]Plan Indicativo'!CP55 -> 0.2 | P36: Servicio | R36: 800 | S36: 0 | T36: 0 | U36: 0 | V36: 50 | W36: 214 | X36: 151 | Y36: 87 | AI36: =SUM(S36:AH36) -> 502 | AN36: =AI36/R36 -> 0.6275
A37: Elix Gomezcasseres | B37: 1 | C37: 29 | D37: Vida Digna e Inclusión Social y Cultural | E37: Enfoque de Género y Diversidad | G37: Mujeres Empoderadas: Camino a la Igualdad | I37: Número de mujeres participando del proyecto Territorios Libres de Violencia | J37: Número | K37: ND | L37: 20 mujeres en el proyecto Territorios Libres de Violencia | M37: 5 mujeres en el proyecto Territorios Libres de Violencia | N37: 25 mujeres en el proyecto Territorios Libres de Violencia | O37: ='[2]Plan Indicativo'!CP56 -> 0.2 | P37: Servicio | R37: 25 | S37: 0 | T37: 0 | U37: 0 | V37: 25 | W37: 0 | X37: 0 | Y37: 0 | AI37: =SUM(S37:AH37) -> 25 | AN37: =AI37/R37 -> 1
A38: Elix Gomezcasseres | B38: 1 | C38: 30 | D38: Vida Digna e Inclusión Social y Cultural | E38: Enfoque de Género y Diversidad | G38: Mujeres Empoderadas: Camino a la Igualdad | I38: Número de actividades encaminadas al Fortalecimiento de la Red Local de Local de Prevención de las Violencias contra las Mujeres y Respeto por la Diversidad | J38: Número | K38: ND | L38: 4 actividades realizadas | M38: 2 actividades realizadas | N38: 6 actividades realizadas | O38: ='[2]Plan Indicativo'!CP57 -> 0.2 | P38: Servicio | R38: 6 | S38: 0 | T38: 0 | U38: 0 | V38: 2 | W38: 2 | X38: 2 | Y38: 1 | AI38: =SUM(S38:AH38) -> 7 | AN38: =AI38/R38 -> 1.1666667
A39: Elix Gomezcasseres | B39: 1 | C39: 31 | D39: Vida Digna e Inclusión Social y Cultural | E39: Enfoque de Género y Diversidad | G39: Mujeres Empoderadas: Camino a la Igualdad | I39: Número de ferias de empleabilidad para mujeres en estado de vulnerabilidad | J39: Número | K39: ND | L39: 3 ferias de empleabilidad para mujeres en estado de vulnerabilidad | M39: 1 feria de empleabilidad para mujeres en estado de vulnerabilidad | N39: 4 ferias de empleabilidad para mujeres en estado de vulnerabilidad | O39: ='[2]Plan Indicativo'!CP58 -> 0.2 | P39: Servicio | R39: 4 | S39: 0 | T39: 0 | U39: 0 | V39: 1 | W39: 1 | X39: 0 | Y39: 0 | AI39: =SUM(S39:AH39) -> 2 | AN39: =AI39/R39 -> 0.5
A40: Elix Gomezcasseres | B40: 1 | C40: 32 | D40: Vida Digna e Inclusión Social y Cultural | E40: Enfoque de Género y Diversidad | G40: Mujeres Empoderadas: Camino a la Igualdad | I40: Número de ferias de emprendimiento que les permitan a las mujeres artesanas de la localidad vender sus productos | J40: Número | K40: ND | L40: 2 ferias de emprendimiento para mujeres artesanas de la localidad | M40: 1 feria de emprendimiento para mujeres artesanas de la localidad | N40: 3 ferias de emprendimiento para mujeres artesanas de la localidad | O40: ='[2]Plan Indicativo'!CP59 -> 0.2 | P40: Servicio | R40: 3 | S40: 0 | T40: 0 | U40: 0 | V40: 0 | W40: 0 | X40: 1 | Y40: 2 | AI40: =SUM(S40:AH40) -> 3 | AN40: =AI40/R40 -> 1
...

Sheet Estratégico 2026
C1: ALCALDIA DISTRITAL DE CARTAGENA DE INDIAS | AI1: Código: PTDGI01-F001
C2: MACROPROCESO: PLANEACIÓN TERRITORIAL Y DIRECCIONAMIENTO ESTRATEGICO | AI2: Versión: 1.0
C3: PROCESO / SUBPROCESO: GESTIÓN DE LA INVERSIÓN PUBLICA / GESTIÓN DEL PLAN DE DESARROLLO Y SUS INSTRUMENTOS DE EJECUCIÓN | AI3: Fecha: 16/07/2024
C4: FORMATO PLAN DE ACCIÓN INSTITUCIONAL | AI4: Página: 1 de 3
A5: DEPENDENCIA: | C5: LOCALIDAD HISTORICA Y DEL CARIBE NORTE
A6: PLANTEAMIENTO ESTRATÉGICO- PLAN DE DESARROLLO
A7: OBJETIVO DE DESARROLLO SOSTENIBLE | B7: OBJETIVO ESTRATÉGICO | C7: LÍNEA ESTRATÉGICA | D7: IMPULSOR DE AVANCE | E7: META RESULTADO | F7: PROGRAMA | G7: CÓDIGO DE PROGRAMA | H7: INDICADOR DE PRODUCTO SEGÚN PDD | I7: UNIDAD DE MEDIDA DEL INDICADOR DE PRODUCTO | J7: LÍNEA BASE SEGUN PDD | K7: DESCRIPCIÓN DE LA META PRODUCTO 2024-2027 | N7: PONDERACIÓN DE LA META PRODUCTO | O7: DENOMINACIÓN DEL PRODUCTO | P7: ENTREGABLE INDICADOR DE PRODUCTO SEGÚN CATALOGO DE PRODUCTO | Q7: VALOR DE LA META PRODUCTO 2024-2027 | R7: PROGRAMACIÓN META PRODUCTO 2024 | S7: PROGRAMACIÓN META PRODUCTO 2025 | T7: PROGRAMACIÓN META PRODUCTO 2026 | U7: PROGRAMACIÓN META PRODUCTO 2027 | V7: ACUMULADO 2024 | W7: ACUMULADO 2025 | X7: ACUMULADO 2026 | Y7: ACUMULADO 2027 | Z7: ACUMULADO CUATRIENIO | AA7: REPORTE META PRODUCTO CORTE MARZO 2026 | AB7: REPORTE META PRODUCTO CORTE JUNIO 2026 | AC7: REPORTE META PRODUCTO DE SEPTIEMBRE 2026 | AD7: REPORTE META PRODUCTO DE DICIEMBRE 2026 | AE7: AVANCE META PRODUCTO AL AÑO PONDERADO | AF7: AVANCE META PRODUCTO AL CUATRIENIO PONDERADO | AG7: AVANCE META PRODUCTO AL AÑO SIMPLE | AH7: AVANCE META PRODUCTO AL CUATRIENIO SIMPLE | AI7: OBSERVACIONES | AM7: NOMBRE DEL RESPONSABLE 2 | AZ7: NOMBRE DEL RESPONSABLE 2
K8: Componente urbano | L8: Componente rural | M8: Total
A9: 4 | B9: 1 | C9: Vida Digna e Inclusión Social y Cultural | D9: Educación | F9: Tecnología y Educación en la Localidad Histórica y del Caribe Norte | H9: Número de computadores dotados a aulas educativas de IEO | I9: Número | J9: ND | K9: 500 computadores | L9: 300 computadores | M9: 800 computadores | N9: ='[2]Plan Indicativo'!CP19 -> 0.4 | O9: Bien | Q9: 800 | S9: ='E 2024'!U16 -> 0 | T9: 400 | U9: 400 | V9: 0 | W9: 0 | X9: =SUM(AA9:AD9) -> 0 | Z9: =+V9+W9+X9+Y9 -> 0 | AA9: 0 | AB9: 0 | AE9: NP | AF9: =(Z9/Q9)*N9 -> 0 | AG9: NP | AH9: =Z9/Q9 -> 0 | AM9: Frank Ricaurte Sossa | AZ9: Frank Ricaurte Sossa
A10: 4 | B10: 1 | C10: Vida Digna e Inclusión Social y Cultural | D10: Educación | F10: Tecnología y Educación en la Localidad Histórica y del Caribe Norte | H10: Número de IEO de la localidad beneficiadas con actividades pedagógicas encaminadas al fortalecimiento de la comunidad estudiantil en los ejes de lecto - escritura | I10: Número | J10: ND | K10: 5 IEO de la localidad en los grados de 10 y 11 beneficiadas con actividades pedagógicas encaminadas en el fortalecimiento de la comunidad estudiantil | L10: 10 IEO de la localidad en los grados de 10 y 11 beneficiadas con actividades pedagógicas encaminadas en el fortalecimiento de la comunidad estudiantil en valores históricos, culturales y etnológicos | M10: 15 IEO de la localidad en los grados de 10 y 11 beneficiadas con actividades pedagógicas encaminadas en el fortalecimiento de la comunidad estudiantil en valores históricos, culturales y etnológicos | N10: ='[2]Plan Indicativo'!CP20 -> 0.05 | O10: Servicio | Q10: 15 | S10: ='E 2024'!U17 -> 5 | T10: 5 | U10: 5 | V10: 0 | W10: 0 | X10: =SUM(AA10:AD10) -> 0 | Z10: =+V10+W10+X10+Y10 -> 0 | AA10: 0 | AB10: 0 | AE10: =(X10/T10)*N10 -> 0 | AF10: =(Z10/Q10)*N10 -> 0 | AG10: =X10/T10 -> 0 | AH10: =Z10/Q10 -> 0 | AI10: La meta programada no pudo ser ejecutada durante el periodo correspondiente,debido a que no se conto con un rubro presupuestal asignado para su desarrollo. | AM10: Bernarda Correa | AZ10: Bernarda Correa
A11: 4 | B11: 1 | C11: Vida Digna e Inclusión Social y Cultural | D11: Educación | F11: Tecnología y Educación en la Localidad Histórica y del Caribe Norte | H11: Número de personas con formación técnica para el trabajo | I11: Número | J11: ND | K11: 300 personas con formación técnica para el trabajo | L11: 200 personas con formación técnica para el trabajo | M11: 500 personas con formación técnica para el trabajo | N11: ='[2]Plan Indicativo'!CP21 -> 0.05 | O11: Servicio | Q11: 500 | S11: ='E 2024'!U18 -> 100 | T11: 200 | U11: 200 | V11: 0 | W11: 0 | X11: =SUM(AA11:AD11) -> 0 | Z11: =+V11+W11+X11+Y11 -> 0 | AA11: 0 | AB11: 0 | AE11: =(X11/T11)*N11 -> 0 | AF11: =(Z11/Q11)*N11 -> 0 | AG11: =X11/T11 -> 0 | AH11: =Z11/Q11 -> 0 | AM11: Bernarda Correa | AZ11: Bernarda Correa
A12: 4 | B12: 1 | C12: Vida Digna e Inclusión Social y Cultural | D12: Educación | F12: Tecnología y Educación en la Localidad Histórica y del Caribe Norte | H12: Número de instituciones educativas con infraestructura y ambientes educativos adecuados | I12: Número | J12: ND | L12: 5 instituciones educativas oficiales de la LHCN con infraestructura y ambientes educativos adecuados | M12: 5 instituciones educativas oficiales de la LHCN con infraestructura y ambientes educativos adecuados | N12: ='[2]Plan Indicativo'!CP22 -> 0.3 | O12: Bien | Q12: 5 | S12: ='E 2024'!U19 -> 1 | T12: 2 | U12: 2 | V12: 0 | W12: 0 | X12: =SUM(AA12:AD12) -> 0 | Z12: =+V12+W12+X12+Y12 -> 0 | AA12: 0 | AB12: 0 | AE12: =(X12/T12)*N12 -> 0 | AF12: =(Z12/Q12)*N12 -> 0 | AG12: =X12/T12 -> 0 | AH12: =Z12/Q12 -> 0 | AM12: Frank Ricaurte Sossa | AZ12: Frank Ricaurte Sossa
A13: 4 | B13: 1 | C13: Vida Digna e Inclusión Social y Cultural | D13: Educación | F13: Tecnología y Educación en la Localidad Histórica y del Caribe Norte | H13: Número de aulas dotadas de IEO con materiales didácticos y mobiliario, equipos, etc. | I13: Número | J13: ND | L13: 5 instituciones educativas oficiales de la LHCN dotadas con materiales didácticos, mobiliario, equipos, etc. | M13: 5 instituciones educativas oficiales de la LHCN dotadas con materiales didácticos, mobiliario, equipos, etc. | N13: ='[2]Plan Indicativo'!CP23 -> 0.1 | O13: Bien | Q13: 5 | S13: ='E 2024'!U20 -> 0 | T13: 5 | U13: 0 | V13: 0 | W13: 0 | X13: =SUM(AA13:AD13) -> 0 | Z13: =+V13+W13+X13+Y13 -> 0 | AA13: 0 | AB13: 0 | AE13: NP | AF13: =(Z13/Q13)*N13 -> 0 | AG13: NP | AH13: =Z13/Q13 -> 0 | AM13: Frank Ricaurte Sossa | AZ13: Frank Ricaurte Sossa
A14: 4 | B14: 1 | C14: Vida Digna e Inclusión Social y Cultural | D14: Educación | F14: Tecnología y Educación en la Localidad Histórica y del Caribe Norte | H14: Número de IEO adecuadas para el acceso de estudiantes en condición de discapacidad | I14: Número | J14: ND | K14: 5 instituciones educativas oficiales de la LHCN sin barreras para la accesibilidad de sus estudiantes en condición de discapacidad | L14: 5 instituciones educativas oficiales de la LHCN sin barreras para la accesibilidad de sus estudiantes en condición de discapacidad | M14: 10 instituciones educativas oficiales de la LHCN sin barreras para la accesibilidad de sus estudiantes en condición de discapacidad | N14: ='[2]Plan Indicativo'!CP24 -> 0.1 | O14: Bien | Q14: 10 | S14: ='E 2024'!U21 -> 0 | T14: 5 | U14: 5 | V14: 0 | W14: 0 | X14: =SUM(AA14:AD14) -> 0 | Z14: =+V14+W14+X14+Y14 -> 0 | AA14: 0 | AB14: 0 | AE14: NP | AF14: =(Z14/Q14)*N14 -> 0 | AG14: NP | AH14: =Z14/Q14 -> 0 | AM14: Frank Ricaurte Sossa | AZ14: Frank Ricaurte Sossa
F15: Avance Programa Tecnología y Educación en la Localidad Histórica y del Caribe Norte | AE15: =SUM(AE10:AE12) -> 0 | AF15: =SUM(AF10:AF12) -> 0 | AG15: =AVERAGE(AG10:AG12) -> 0 | AH15: =AVERAGE(AH10:AH12) -> 0
D16: Avance Impulsor de Avance EDUCACIÓN | AE16: =AE15 -> 0 | AF16: =AF15 -> 0 | AG16: =AG15 -> 0 | AH16: =AH15 -> 0
A17: 9 | B17: 1 | C17: Vida Digna e Inclusión Social y Cultural | D17: Cultura | F17: Artes y Cultura para el Desarrollo Humano y Social | H17: Número de infraestructuras culturales construidas o habilitadas, dotadas y funcionando | I17: Número | J17: ND | K17: 1 Centro Artístico y Cultural construido o habilitado, dotado y funcionando | M17: 1 Centro Artístico y Cultural construido o habilitado, dotado y funcionando | N17: ='[2]Plan Indicativo'!CP27 -> 0.4 | O17: Bien | Q17: 1 | S17: ='E 2024'!U24 -> 0 | T17: 0 | U17: 1 | V17: 0 | W17: 0 | X17: =+AA17+AB17+AC17+AD17 -> 0 | Z17: =+V17+W17+X17+Y17 -> 0 | AA17: 0 | AB17: 0 | AE17: NP | AF17: =(Z17/Q17)*N17 -> 0 | AG17: NP | AH17: =Z17/Q17 -> 0 | AM17: Frank Ricaurte Sossa | AZ17: Frank Ricaurte Sossa
A18: 9 | B18: 1 | C18: Vida Digna e Inclusión Social y Cultural | D18: Cultura | F18: Artes y Cultura para el Desarrollo Humano y Social | H18: Número de corredores culturales habilitados | I18: Número | J18: ND | K18: 7 corredores culturales habilitados | L18: 3 corredores culturales habilitados | M18: 10 corredores culturales habilitados | N18: ='[2]Plan Indicativo'!CP28 -> 0.1 | O18: Servicio | Q18: 10 | S18: ='E 2024'!U25 -> 0 | T18: 3 | U18: 6 | V18: 0 | W18: 0 | X18: =+AA18+AB18+AC18+AD18 -> 0 | Z18: =+V18+W18+X18+Y18 -> 0 | AA18: 0 | AB18: 0 | AE18: NP | AF18: =(Z18/Q18)*N18 -> 0 | AG18: =X18/T18 -> 0 | AH18: =Z18/Q18 -> 0 | AM18: Ernesto Rueda | AZ18: Ernesto Rueda
A19: 9 | B19: 1 | C19: Vida Digna e Inclusión Social y Cultural | D19: Cultura | F19: Artes y Cultura para el Desarrollo Humano y Social | H19: Número de cinematecas implementadas en la LHCN | I19: Número | J19: ND | K19: 9 cinematecas implementadas | L19: 3 cinematecas implementadas | M19: 12 cinematecas implementadas | N19: ='[2]Plan Indicativo'!CP29 -> 0.1 | O19: Bien | Q19: 12 | S19: ='E 2024'!U26 -> 2 | T19: 4 | U19: 4 | V19: 0 | W19: 0 | X19: =+AA19+AB19+AC19+AD19 -> 0 | Z19: =+V19+W19+X19+Y19 -> 0 | AA19: 0 | AB19: 0 | AE19: =(X19/T19)*N19 -> 0 | AF19: =(Z19/Q19)*N19 -> 0 | AG19: =X19/T19 -> 0 | AH19: =Z19/Q19 -> 0 | AM19: Ernesto Rueda | AZ19: Ernesto Rueda
A20: 9 | B20: 1 | C20: Vida Digna e Inclusión Social y Cultural | D20: Cultura | F20: Artes y Cultura para el Desarrollo Humano y Social | H20: Número actividades culturales en torno a la práctica del teatro en sus diferentes vertientes en la LHCN | I20: Número | J20: ND | K20: 7 actos teatrales en la LHCN | L20: 3 actos teatrales en la LHCN | M20: 10 actos teatrales en la LHCN | N20: ='[2]Plan Indicativo'!CP30 -> 0.1 | O20: Servicio | Q20: 10 | S20: ='E 2024'!U27 -> 2 | T20: 4 | U20: 4 | V20: 0 | W20: 0 | X20: =+AA20+AB20+AC20+AD20 -> 4 | Z20: =+V20+W20+X20+Y20 -> 4 | AA20: 2 | AB20: 2 | AE20: =(X20/T20)*N20 -> 0.1 | AF20: =(Z20/Q20)*N20 -> 0.04 | AG20: =X20/T20 -> 1 | AH20: =Z20/Q20 -> 0.4 | AM20: Ernesto Rueda | AZ20: Ernesto Rueda
A21: 9 | B21: 1 | C21: Vida Digna e Inclusión Social y Cultural | D21: Cultura | F21: Artes y Cultura para el Desarrollo Humano y Social | H21: Número de grupos culturales de la localidad dotados | I21: Número | J21: ND | K21: 7 grupos culturales dotados | L21: 3 grupos culturales dotados | M21: 10 grupos culturales dotados | N21: ='[2]Plan Indicativo'!CP31 -> 0.1 | O21: Bien | Q21: 10 | S21: ='E 2024'!U28 -> 0 | T21: 5 | U21: 5 | V21: 0 | W21: 0 | X21: =+AA21+AB21+AC21+AD21 -> 0 | Z21: =+V21+W21+X21+Y21 -> 0 | AA21: 0 | AB21: 0 | AE21: NP | AF21: =(Z21/Q21)*N21 -> 0 | AG21: =X21/T21 -> 0 | AH21: =Z21/Q21 -> 0 | AM21: Ernesto Rueda | AZ21: Ernesto Rueda
A22: 9 | B22: 1 | C22: Vida Digna e Inclusión Social y Cultural | D22: Cultura | F22: Artes y Cultura para el Desarrollo Humano y Social | H22: Número de festivales gastronómicos impulsados y apoyados | I22: Número | J22: ND | K22: 3 festivales gastronómicos impulsados y apoyados | L22: 3 festivales gastronómicos impulsados y apoyados | M22: 6 festivales gastronómicos impulsados y apoyados | N22: ='[2]Plan Indicativo'!CP32 -> 0.1 | O22: Bien | Q22: 6 | S22: ='E 2024'!U29 -> 1 | T22: 2 | U22: 3 | V22: 0 | W22: 1 | X22: =+AA22+AB22+AC22+AD22 -> 1 | Z22: =+V22+W22+X22+Y22 -> 2 | AA22: 1 | AB22: 0 | AE22: =(X22/T22)*N22 -> 0.05 | AF22: 0.1 | AG22: =X22/T22 -> 0.5 | AH22: =Z22/Q22 -> 0.33333333 | AM22: Ernesto Rueda | AZ22: Ernesto Rueda
A23: 11 | B23: 1 | C23: Vida Digna e Inclusión Social y Cultural | D23: Cultura | F23: Artes y Cultura para el Desarrollo Humano y Social | H23: Número de eventos académicos sobre los usos y costumbres en la LHCN | I23: Número | J23: ND | K23: Llevar a cabo 1 evento académico sobre los usos y costumbres en la LHCN | M23: Llevar a cabo 1 evento académico sobre los usos y costumbres en la LHCN | N23: ='[2]Plan Indicativo'!CP33 -> 0.1 | O23: Servicio | Q23: 1 | S23: ='E 2024'!U30 -> 0 | T23: 1 | U23: 0 | V23: 0 | W23: 0 | X23: =+AA23+AB23+AC23+AD23 -> 6 | Z23: =+V23+W23+X23+Y23 -> 6 | AA23: 2 | AB23: 4 | AE23: NP | AF23: 0.1 | AG23: 1 | AH23: 1 | AM23: Ernesto Rueda | AZ23: Ernesto Rueda
F24: Avance Programa Artes y Cultura para el Desarrollo Humano y Social | AE24: =SUM(AE19:AE22) -> 0.15 | AF24: =SUM(AF19:AF22) -> 0.14 | AG24: =AVERAGE(AG19:AG22) -> 0.375 | AH24: =AVERAGE(AH19:AH22) -> 0.18333333
D25: Avance Impulsor de Avance CULTURA | AE25: =+AE24 -> 0.15 | AF25: =+AF24 -> 0.14 | AG25: =+AG24 -> 0.375 | AH25: =+AH24 -> 0.18333333
A26: 3 | B26: 1 | C26: Vida Digna e Inclusión Social y Cultural | D26: Deporte y Recreación | F26: Deporte y Recreación para Todos y Todas | H26: Número de eventos deportivos y/o recreativos | I26: Número | J26: ND | K26: 1.500 eventos deportivos y/o recreativos realizados | L26: 300 eventos deportivos y/o recreativos realizados | M26: 1.800 eventos deportivos y/o recreativos realizados | N26: ='[2]Plan Indicativo'!CP36 -> 0.05 | O26: Servicio | Q26: 1800 | S26: ='E 2024'!U33 -> 500 | T26: 600 | U26: 700 | V26: 0 | W26: 0 | X26: =+AA26+AB26+AC26+AD26 -> 3 | Z26: =+V26+W26+X26+Y26 -> 3 | AA26: 1 | AB26: 2 | AE26: =(X26/T26)*N26 -> 0.00025 | AF26: =(Z26/Q26)*N26 -> 8.3333333e-05 | AG26: =X26/T26 -> 0.005 | AH26: =Z26/Q26 -> 0.0016666667 | AM26: Ernesto Rueda Angel Suárez | AZ26: Ernesto Rueda Angel Suárez
A27: 3 | B27: 1 | C27: Vida Digna e Inclusión Social y Cultural | D27: Deporte y Recreación | F27: Deporte y Recreación para Todos y Todas | H27: Número de eventos y/o torneos deportivos de los Consejos Comuneros de Gobierno y/o Juntas de Acción Comunal impulsados y apoyados | I27: Número | J27: ND | K27: 3 de eventos y/o torneos deportivos de los Consejos Comuneros de Gobierno y/o Juntas de Acción Comunal impulsados y apoyados | L27: 3 de eventos y/o torneos deportivos de los Consejos Comuneros de Gobierno y/o Juntas de Acción Comunal impulsados y apoyados | M27: 6 de eventos y/o torneos deportivos de los Consejos Comuneros de Gobierno y/o Juntas de Acción Comunal impulsados y apoyados | N27: ='[2]Plan Indicativo'!CP37 -> 0.05 | O27: Servicio | Q27: 6 | S27: ='E 2024'!U34 -> 0 | T27: 2 | U27: 2 | V27: 0 | W27: 0 | X27: =+AA27+AB27+AC27+AD27 -> 0 | Z27: =+V27+W27+X27+Y27 -> 0 | AA27: 0 | AB27: 0 | AE27: NP | AF27: =(Z27/Q27)*N27 -> 0 | AG27: =X27/T27 -> 0 | AH27: =Z27/Q27 -> 0 | AM27: Ernesto Rueda | AZ27: Ernesto Rueda
A28: 3 | B28: 1 | C28: Vida Digna e Inclusión Social y Cultural | D28: Deporte y Recreación | F28: Deporte y Recreación para Todos y Todas | H28: Número de escenarios deportivos, canchas y/o parques nuevos mantenidos, adecuados y/o mejorados en la LHCN | I28: Número | J28: ND | K28: 10 escenarios deportivos, canchas y/o parques construidos, mantenidos y/o adecuados | L28: 8 escenarios deportivos, canchas y/o parques construidos, mantenidos y/o adecuados | M28: 18 escenarios deportivos, canchas y/o parques construidos, mantenidos y/o adecuados | N28: ='[2]Plan Indicativo'!CP38 -> 0.6 | O28: Bien | P28: 70111700 – Parques, Jardines y Huertos 53270 Instalaciones al aire libre para deportes y esparcimiento 54270 Servicios generales de construcción de instalaciones al aire libre para deportes y esparcimiento | Q28: 18 | S28: 8 | T28: 5 | U28: 5 | V28: 2 | W28: 4 | X28: =+AA28+AB28+AC28+AD28 -> 2 | Z28: =+V28+W28+X28+Y28 -> 8 | AA28: 2 | AB28: 0 | AE28: =(X28/T28)*N28 -> 0.24 | AF28: =(Z28/Q28)*N28 -> 0.26666667 | AG28: =X28/T28 -> 0.4 | AH28: =Z28/Q28 -> 0.44444444 | AM28: Frank Ricaurte Sossa | AZ28: Frank Ricaurte Sossa
A29: 3 | B29: 1 | C29: Vida Digna e Inclusión Social y Cultural | D29: Deporte y Recreación | F29: Deporte y Recreación para Todos y Todas | H29: Diseño y construcción del Parque de la Alegría y de 2 parques con temáticas ecológicas en la LHCN | I29: Número | J29: ND | K29: 1 parque diseñado y construido | L29: 2 parques con temáticas ecológicas diseñados y construidos | M29: 3 parques con temáticas ecológicas diseñados y construidos | N29: ='[2]Plan Indicativo'!CP39 -> 0.3 | O29: Bien | Q29: 3 | S29: ='E 2024'!U36 -> 0 | T29: 2 | U29: 1 | V29: 0 | W29: 0 | X29: =+AA29+AB29+AC29+AD29 -> 0 | Z29: =+V29+W29+X29+Y29 -> 0 | AA29: 0 | AB29: 0 | AE29: NP | AF29: =(Z29/Q29)*N29 -> 0 | AG29: =X29/T29 -> 0 | AH29: =Z29/Q29 -> 0 | AM29: Frank Ricaurte Sossa | AZ29: Frank Ricaurte Sossa
F30: Avance Programa Deporte y Recreación para Todos y Todas | AE30: =SUM(AE26:AE28) -> 0.24025 | AF30: =SUM(AF26:AF29) -> 0.26675 | AG30: =AVERAGE(AG26:AG28) -> 0.135 | AH30: =AVERAGE(AH26:AH29) -> 0.11152778
D31: Avance Impulsor de Avance DEPORTE Y RECREACIÓN | AE31: =+AE30 -> 0.24025 | AF31: =+AF30 -> 0.26675 | AG31: =+AG30 -> 0.135 | AH31: =+AH30 -> 0.11152778
A32: 5 | B32: 1 | C32: Vida Digna e Inclusión Social y Cultural | D32: Niñez, Adolescencia y Juventud | F32: Nuestros Niños, Niñas y Adolescentes Disfrutando de la Lúdica y la Recreación | H32: Número de padres, madres y/o cuidadores socializados en Rutas de Atención para NNA en: Trabajo Infantil, Víctimas de Violencia Sexual, Mendicidad, Situación de Calle y Trata de Personas | I32: Número | J32: ND | K32: 350 personas con rutas de atención socializada | L32: 100 personas con rutas de atención socializada | M32: 450 personas con rutas de atención socializada | N32: ='[2]Plan Indicativo'!CP42 -> 0.15 | O32: Servicio | Q32: 450 | S32: ='E 2024'!U39 -> 150 | T32: 100 | U32: 100 | V32: 100 | W32: 146 | X32: =+AA32+AB32+AC32+AD32 -> 0 | Z32: =+V32+W32+X32+Y32 -> 246 | AA32: 0 | AB32: 0 | AE32: =(X32/T32)*N32 -> 0 | AF32: =(Z32/Q32)*N32 -> 0.082 | AG32: =X32/T32 -> 0 | AH32: =Z32/Q32 -> 0.54666667 | AM32: Arleth Jiménez | AZ32: Arleth Jiménez
A33: 5 | B33: 1 | C33: Vida Digna e Inclusión Social y Cultural | D33: Niñez, Adolescencia y Juventud | F33: Nuestros Niños, Niñas y Adolescentes Disfrutando de la Lúdica y la Recreación | H33: Número de padres, madres y/o cuidadores de niños, niñas y adultos mayores con acciones que promuevan el desarrollo de entornos protectores | I33: Número | J33: ND | K33: 350 padres, madres y/o cuidadores de niños, niñas y adultos mayores con acciones que promueven el desarrollo de entornos protectores | L33: 100 padres, madres y/o cuidadores de niños, niñas y adultos mayores con acciones que promueven el desarrollo de entornos protectores | M33: 450 padres, madres y/o cuidadores de niños, niñas y adultos mayores con acciones que promueven el desarrollo de entornos protectores | N33: ='[2]Plan Indicativo'!CP43 -> 0.15 | O33: Servicio | Q33: 450 | S33: ='E 2024'!U40 -> 150 | T33: 110 | U33: 110 | V33: 80 | W33: 163 | X33: =+AA33+AB33+AC33+AD33 -> 110 | Z33: =+V33+W33+X33+Y33 -> 353 | AA33: 0 | AB33: 110 | AE33: =(X33/T33)*N33 -> 0.15 | AF33: =(Z33/Q33)*N33 -> 0.11766667 | AG33: =X33/T33 -> 1 | AH33: =Z33/Q33 -> 0.78444444 | AM33: Arleth Jiménez | AZ33: Arleth Jiménez
A34: 5 | B34: 1 | C34: Vida Digna e Inclusión Social y Cultural | D34: Niñez, Adolescencia y Juventud | F34: Nuestros Niños, Niñas y Adolescentes Disfrutando de la Lúdica y la Recreación | H34: Número de acciones afirmativas de promoción de situaciones de Riesgo Social como son: Trabajo Infantil, Violencia Sexual, Maltrato Infantil realizadas | I34: Número | J34: ND | K34: 3 acciones afirmativas realizadas para la promoción de situaciones de Riesgo Social | L34: 1 acción afirmativa realizada para la promoción de situaciones de Riesgo Social | M34: 4 acciones afirmativas realizada para la promoción de situaciones de Riesgo Social | N34: ='[2]Plan Indicativo'!CP44 -> 0.15 | O34: Servicio | Q34: 4 | S34: ='E 2024'!U41 -> 1 | T34: 1 | U34: 1 | V34: 1 | W34: 1 | X34: =+AA34+AB34+AC34+AD34 -> 1 | Z34: =+V34+W34+X34+Y34 -> 3 | AA34: 0 | AB34: 1 | AE34: =(X34/T34)*N34 -> 0.15 | AF34: =(Z34/Q34)*N34 -> 0.1125 | AG34: =X34/T34 -> 1 | AH34: =Z34/Q34 -> 0.75 | AM34: Arleth Jiménez | AZ34: Arleth Jiménez
A35: 3 | B35: 1 | C35: Vida Digna e Inclusión Social y Cultural | D35: Niñez, Adolescencia y Juventud | F35: Nuestros Niños, Niñas y Adolescentes Disfrutando de la Lúdica y la Recreación | H35: Número de acciones formativas con NNA para la Prevención del Consumo de SPA | I35: Número | J35: ND | K35: 12 acciones formativas con NNA para la Prevención del Consumo de SPA | L35: 2 acciones formativas con NNA para la Prevención del Consumo de SPA | M35: 14 acciones formativas con NNA para la Prevención del Consumo de SPA | N35: ='[2]Plan Indicativo'!CP45 -> 0.15 | O35: Servicio | Q35: 14 | S35: ='E 2024'!U42 -> 4 | T35: 5 | U35: 5 | V35: 0 | W35: 1 | X35: =+AA35+AB35+AC35+AD35 -> 2 | Z35: =+V35+W35+X35+Y35 -> 3 | AA35: 0 | AB35: 2 | AE35: =(X35/T35)*N35 -> 0.06 | AF35: =(Z35/Q35)*N35 -> 0.032142857 | AG35: =X35/T35 -> 0.4 | AH35: =Z35/Q35 -> 0.21428571 | AM35: Arleth Jiménez Elix Gomezcasseres | AZ35: Elix Gomezcasseres
A36: 3 | B36: 1 | C36: Vida Digna e Inclusión Social y Cultural | D36: Niñez, Adolescencia y Juventud | F36: Nuestros Niños, Niñas y Adolescentes Disfrutando de la Lúdica y la Recreación | H36: Número de Acciones formativas con NNA para la Prevención del Fomento de Hábitos Saludables en Salud Oral | I36: Número | J36: ND | K36: 11 acciones formativas con NNA para la prevención del Fomento de Hábitos Saludables en Salud Oral | L36: 1 acción formativa con NNA para la prevención del Fomento de Hábitos Saludables en Salud Oral | M36: 12 acciones formativas con NNA para la prevención del Fomento de Hábitos Saludables en Salud Oral | N36: ='[2]Plan Indicativo'!CP46 -> 0.15 | O36: Servicio | Q36: 12 | S36: ='E 2024'!U43 -> 6 | T36: 2 | U36: 2 | V36: 2 | W36: 8 | X36: =+AA36+AB36+AC36+AD36 -> 2 | Z36: =+V36+W36+X36+Y36 -> 12 | AA36: 0 | AB36: 2 | AE36: =(X36/T36)*N36 -> 0.15 | AF36: =(Z36/Q36)*N36 -> 0.15 | AG36: =X36/T36 -> 1 | AH36: =Z36/Q36 -> 1 | AM36: Arleth Jiménez Elix Gomezcasseres | AZ36: Elix Gomezcasseres
A37: 3 | B37: 1 | C37: Vida Digna e Inclusión Social y Cultural | D37: Niñez, Adolescencia y Juventud | F37: Nuestros Niños, Niñas y Adolescentes Disfrutando de la Lúdica y la Recreación | H37: Número de Acciones formativas con NNA para la Prevención del Suicidio | I37: Número | J37: ND | K37: 12 acciones formativas con NNA para la Prevención del Suicidio | L37: 3 acciones formativas con NNA para la Prevención del Suicidio | M37: 15 acciones formativas con NNA para la Prevención del Suicidio | N37: ='[2]Plan Indicativo'!CP47 -> 0.1 | O37: Servicio | Q37: 15 | S37: ='E 2024'!U44 -> 5 | T37: 5 | U37: 2 | V37: 3 | W37: 6 | X37: =+AA37+AB37+AC37+AD37 -> 0 | Z37: =+V37+W37+X37+Y37 -> 9 | AA37: 0 | AB37: 0 | AE37: =(X37/T37)*N37 -> 0 | AF37: =(Z37/Q37)*N37 -> 0.06 | AG37: =X37/T37 -> 0 | AH37: =Z37/Q37 -> 0.6 | AM37: Arleth Jiménez Elix Gomezcasseres | AZ37: Elix Gomezcasseres
A38: 5 | B38: 1 | C38: Vida Digna e Inclusión Social y Cultural | D38: Niñez, Adolescencia y Juventud | F38: Nuestros Niños, Niñas y Adolescentes Disfrutando de la Lúdica y la Recreación | H38: Número de jornadas donde niños, niñas y adolescentes que participan y disfrutan de actividades lúdicas extramurales | I38: Número | J38: ND | K38: 9 jornadas lúdicas realizadas | L38: 3 jornadas lúdicas realizadas | M38: 12 jornadas lúdicas realizadas | N38: ='[2]Plan Indicativo'!CP48 -> 0.15 | O38: Servicio | Q38: 12 | S38: ='E 2024'!U45 -> 3 | T38: 2 | U38: 0 | V38: 7 | W38: 5 | X38: =+AA38+AB38+AC38+AD38 -> 2 | Z38: =+V38+W38+X38+Y38 -> 14 | AA38: 0 | AB38: 2 | AE38: =(X38/T38)*N38 -> 0.15 | AF38: 0.15 | AG38: =X38/T38 -> 1 | AH38: 1 | AM38: Arleth Jiménez | AZ38: Arleth Jiménez
F39: Avance Programa Nuestros Niños, Niñas y Adolescentes Disfrutando de la Lúdica y la Recreación | AE39: =SUM(AE32:AE38) -> 0.66 | AF39: =SUM(AF32:AF38) -> 0.70430952 | AG39: =AVERAGE(AG32:AG38) -> 0.62857143 | AH39: =AVERAGE(AH32:AH38) -> 0.6993424
A40: 9 | B40: 1 | C40: Vida Digna e Inclusión Social y Cultural | D40: Niñez, Adolescencia y Juventud | F40: Casa de la Juventud: Fortaleciendo el Desarrollo Integral de los Adolescentes y Jóvenes | H40: Número de casas de la juventud con atención a adolescentes y jóvenes | I40: Número | J40: ND | K40: 1 Casa de la Juventud construida o habilitada y funcionando | M40: 1 Casa de la Juventud construida o habilitada y funcionando | N40: ='[2]Plan Indicativo'!CP50 -> 0.5 | O40: Bien | Q40: 1 | S40: ='E 2024'!U47 -> 0 | T40: 0 | U40: 1 | V40: 0 | W40: 0 | X40: =+AA40+AB40+AC40+AD40 -> 0 | Z40: =+V40+W40+X40+Y40 -> 0 | AA40: 0 | AB40: 0 | AE40: NP | AF40: =(Z40/Q40)*N40 -> 0 | AG40: NP | AH40: =Z40/Q40 -> 0 | AM40: Frank Ricaurte Sossa | AZ40: Frank Ricaurte Sossa
...

Sheet Inversión 2026
C1: ALCALDIA DISTRITAL DE CARTAGENA DE INDIAS | AU1: Código: PTDGI01-F001
C2: MACROPROCESO: PLANEACIÓN TERRITORIAL Y DIRECCIONAMIENTO ESTRATEGICO | AU2: Versión: 1.0
C3: PROCESO / SUBPROCESO: GESTIÓN DE LA INVERSIÓN PUBLICA / GESTIÓN DEL PLAN DE DESARROLLO Y SUS INSTRUMENTOS DE EJECUCIÓN | AU3: Fecha: 16/07/2024
C4: FORMATO PLAN DE ACCIÓN INSTITUCIONAL | AU4: Página: 3 de 3
A5: DEPENDENCIA :
A6: PROYECTO DE INVERSIÓN | AE6: PLAN ANUAL DE ADQUISICIONES | AK6: PROGRAMACIÓN PRESUPUESTAL
