Workbook
Name CDP: [1]!Tabla3[CDP]
Name CDPPROYECTO: [1]!Tabla3[PROYECTO]
Name CODIGO: [1]!Tabla2[CÓDIGO DE PROYECTO BPIN]
Name estado: [1]!Tabla7[Estado]
Name Frecuencia: [1]!Tabla6[Frecuencia]
Name PROYECTO: [1]!Tabla2[PROYECTO DE INVERSIÓN]
Name PROYECTOS: [1]!Tabla2[PROYECTO DE INVERSIÓN]
Name RP: [1]!Tabla5[RP]

Sheet Hoja1
C2: Avance estrategico | E2: Ejecucion Presupuestal
B3: PROGRAMA | C3: Avance programa vigencia 2026 | D3: Avance acumulado programa Cuatrienio | E3: Compromisos | F3: Obligaciones
B4: Unidos por una Vivienda para ti | C4: =+'1. ESTRATÉGICO'!AE9 -> 0.024586597 | D4: =+'1. ESTRATÉGICO'!AF9 -> 0.0966 | E4: =+'3. INVERSIÓN '!AO18 -> 0.24757201 | F4: =+'3. INVERSIÓN '!AQ18 -> 0.13453702
B5: Mi Casa Avanza | C5: =+'1. ESTRATÉGICO'!AE11 -> 0.06083151 | D5: =+'1. ESTRATÉGICO'!AF11 -> 0.30737255 | E5: =+'3. INVERSIÓN '!AO24 -> 0.15528689 | F5: =+'3. INVERSIÓN '!AQ24 -> 0.033973797
B6: Mi Casa con propiedad | C6: =+'1. ESTRATÉGICO'!AE13 -> 0.054268696 | D6: =+'1. ESTRATÉGICO'!AF13 -> 0.3254 | E6: =+'3. INVERSIÓN '!AO31 -> 0.8219676 | F6: =+'3. INVERSIÓN '!AQ31 -> 0.17185385
B7: Mi Territorio en orden | C7: =+'1. ESTRATÉGICO'!AE16 -> 0.22 | D7: =+'1. ESTRATÉGICO'!AF16 -> 0.4246 | E7: =+'3. INVERSIÓN '!AO41 -> 0.69547185 | F7: =+'3. INVERSIÓN '!AQ41 -> 0.13656621
B8: Desarrollo Humano y Bienestar Social de las Comunidades Negras, Afrocolombianas, Raizales y Palenqueras | C8: =+'1. ESTRATÉGICO'!AE18 -> 0.80753701 | D8: =+'1. ESTRATÉGICO'!AF18 -> 0.50833333 | E8: =+'3. INVERSIÓN '!AO47 -> 0 | F8: =+'3. INVERSIÓN '!AQ47 -> 0
B9: Territorio Propio | C9: =+'1. ESTRATÉGICO'!AE20 -> 0 | D9: =+'1. ESTRATÉGICO'!AF20 -> 0.19111111 | E9: =+'3. INVERSIÓN '!AO53 -> 0 | F9: =+'3. INVERSIÓN '!AQ53 -> 0
C22: APROPIACIÓN INICIAL (DEC. 1969 27 DIC 2024) (en pesos) | D22: APROPACIÓN DEFINITIVA POR PROYECTO (MARZO) | E22: PRESUPUESTO EJECUTADO MARZO COMPROMISOS | F22: PRESUPUESTO EJECUTADO MARZO OBLIGACIONES | G22: PORCENTAJE EJECUTADO MARZO SEGÚN OBLIGACIONES
C23: =+'3. INVERSIÓN '!AI54 -> 15070945156 | D23: =+'3. INVERSIÓN '!AJ54 -> 15070945156 | E23: =+'3. INVERSIÓN '!AN54 -> 4038923190 | F23: =+'3. INVERSIÓN '!AP54 -> 1180847000 | G23: =+F23/D23 -> 0.078352551
A29: Concepto | B29: Avance marzo | C29: Avance DIC 2025 | D29: Avance Sept 15 | L29: Concepto | M29: Avance junio | N29: Avance septiembre | O29: Crecimiento
A30: Plan de Desarrollo al año 2026 | B30: =+'1. ESTRATÉGICO'!AE21 -> 0.1945373 | C30: =+'[2]1. ESTRATÉGICO'!$AE$21 -> 0.86851096 | L30: Plan de Acción Institucional 2025 | M30: 0.53 | N30: 0.735 | O30: 0.205
A31: Ejecución de Proyectos | B31: =+'3. INVERSIÓN '!T54 -> 0.4862046 | C31: =+'[2]3. INVERSIÓN'!$T$54 -> 0.75560981 | L31: Ejecución de Proyectos | M31: 0.546 | N31: 0.726 | O31: 0.18
A32: Ejecución Presupuestal por Compromisos | B32: =+'3. INVERSIÓN '!AO54 -> 0.26799402 | C32: =+'[2]3. INVERSIÓN'!$BC$54 -> 0.59929761 | L32: Ejecución Presupuestal por Compromisos | M32: 0.472 | N32: 0.737 | O32: 0.265
A33: Ejecución Presupuestal por Obligaciones | B33: =+'3. INVERSIÓN '!AQ54 -> 0.078352551 | C33: =+'[2]3. INVERSIÓN'!$BE$54 -> 0.59929761 | L33: Ejecución Presupuestal por Obligaciones | M33: 0.293 | N33: 0.466 | O33: 0.133
A34: Plan de Desarrollo al Cuatrienio | B34: =+'1. ESTRATÉGICO'!AF21 -> 0.30890283 | C34: =+'[2]1. ESTRATÉGICO'!$AF$21 -> 0.27301329 | L34: Plan de Desarrollo al Cuatrienio | M34: 0.333 | N34: 0.429 | O34: 0.096
A44: AVANCE META PRODUCTO AL AÑO 2026. CORTE MARZO. | B44: =+'1. ESTRATÉGICO'!AE21 -> 0.1945373
A45: AVANCE META PRODUCTO AL CUATRIENIO. CORTE MARZO 2026. | B45: =+'1. ESTRATÉGICO'!AF21 -> 0.30890283
A46: Ejecución Proyectos Corvivienda a Marzo | B46: =+'3. INVERSIÓN '!T54 -> 0.4862046
A47: Ejecución Presupuestal Según Compromisos | B47: =+'3. INVERSIÓN '!AO54 -> 0.26799402
A48: Ejecución Presupuestal Según Obligaciones | B48: =+'3. INVERSIÓN '!AQ54 -> 0.078352551
A58: Proyecto | B58: Apropiación Inicial | C58: Apropiación Definitiva Marzo | D58: Avance fisico marzo | E58: Ejecución de ppto (compromisos) | F58: Ejecución de ppto (obligaciones)
A59: Subsidio familiar de vivienda de interés social del Programa "Unidos Por Una Vivienda Para Ti" del Distrito de Cartagena de Indias | B59: =+'3. INVERSIÓN '!AI18 -> 5124121354 | C59: =+'3. INVERSIÓN '!AJ18 -> 4124121354 | D59: =+'3. INVERSIÓN '!T18 -> 0.47830229 | E59: =+'3. INVERSIÓN '!AN18 -> 1021017000 | F59: =+'3. INVERSIÓN '!AP18 -> 554847000
A60: Mejoramiento de viviendas para la población priorizada del Programa “Mi Casa Avanza” del Distrito de Cartagena de Indias | B60: =+'3. INVERSIÓN '!AI24 -> 5425540256 | C60: =+'3. INVERSIÓN '!AJ24 -> 6425540256 | D60: =+'3. INVERSIÓN '!T24 -> 0.52027717 | E60: =+'3. INVERSIÓN '!AN24 -> 997802190 | F60: =+'3. INVERSIÓN '!AP24 -> 218300000
A61: Titulación de Predios para la población priorizada del Programa “Mi Casa con Propiedad” del Distrito de Cartagena de Indias | B61: =+'3. INVERSIÓN '!AI31 -> 1054966161 | C61: =+'3. INVERSIÓN '!AJ31 -> 1054966161 | D61: =+'3. INVERSIÓN '!T31 -> 0.69444444 | E61: =+'3. INVERSIÓN '!AN31 -> 867148000 | F61: =+'3. INVERSIÓN '!AP31 -> 181300000
A62: Desarrollo del Programa "Mi Territorio en Orden" para el mejoramiento del hábitat en el Distrito de Cartagena de Indias | B62: =+'3. INVERSIÓN '!AI41 -> 1657803967 | C62: =+'3. INVERSIÓN '!AJ41 -> 1657803967 | D62: =+'3. INVERSIÓN '!T41 -> 0.41666667 | E62: =+'3. INVERSIÓN '!AN41 -> 1152956000 | F62: =+'3. INVERSIÓN '!AP41 -> 226400000
A63: Mejoramiento de Viviendas para la Población Étnica Priorizada del Programa “Desarrollo Humano y Bienestar Social de las Comunidades Negras, Afrocolombianas, Raizales y Palenqueras” del Cartagena de Indias | B63: =+'3. INVERSIÓN '!AI47 -> 904256709 | C63: =+'3. INVERSIÓN '!AJ47 -> 904256709 | D63: =+'3. INVERSIÓN '!T47 -> 0.80753701 | E63: =+'3. INVERSIÓN '!AN47 -> 0 | F63: =+'3. INVERSIÓN '!AP47 -> 0
A64: Mejoramiento de Viviendas para la Población Indígena Priorizada del Programa “Territorio Propio” del Cartagena de Indias | B64: =+'3. INVERSIÓN '!AI53 -> 904256709 | C64: =+'3. INVERSIÓN '!AJ53 -> 904256709 | D64: =+'3. INVERSIÓN '!T53 -> 0 | E64: =+'3. INVERSIÓN '!AN53 -> 0 | F64: =+'3. INVERSIÓN '!AP53 -> 0
B65: =SUM(B59:B64) -> 15070945156 | C65: =SUM(C59:C64) -> 15070945156 | D65: =AVERAGE(D59:D64) -> 0.4862046 | E65: =SUM(E59:E64) -> 4038923190 | F65: =SUM(F59:F64) -> 1180847000
A82: Apropiaciones presupuestales | C82: Ejecucion pptal porcentual Marzo
A83: Apropiacion Inicial | B83: =+'3. INVERSIÓN '!AI54 -> 15070945156
A84: Apropiacion Vigente | B84: =+'3. INVERSIÓN '!AJ54 -> 15070945156
A85: Ejecucion por compromisos | B85: =+'3. INVERSIÓN '!AN54 -> 4038923190 | C85: =+'3. INVERSIÓN '!AO54 -> 0.26799402
A86: Ejecucion por obligaciones | B86: =+'3. INVERSIÓN '!AP54 -> 1180847000 | C86: =+'3. INVERSIÓN '!AQ54 -> 0.078352551

Sheet INSTRUCTIVO
A1: INSTRUCTIVO PARA EL DILIGENCIAMIENTO DEL PLAN DE ACCIÓN INSTITUCIONAL VIGENCIA 2025
A2: PLANTEAMIENTO ESTRATÉGICO PLAN DE ACCIÓN INSTITUCIONAL (Hoja 1)
A3: OBJETIVO DE DESARROLLO SOSTENIBLE | B3: Ingrese en esta casilla el ODS con el que se articula el programa de su competencia según el Acuerdo 139 que adopta el Plan de Desarrollo Distrital 2024-2027 'Cartagena, Ciudad de Derechos'.
A4: OBJETIVO ESTRATÉGICO | B4: Ingrese en esta casilla el objetivo estratégico definido en la plataforma estratégica, relacionado con su proceso y con la línea estratégica en la cual el Acuerdo 139 del 2024 le asignó su responsabilidad.
A5: LINEA ESTRATÉGICA | B5: Ingrese en esta casilla la línea estratégica correspondiente al programa de su competencia según el Acuerdo 139 que adopta el Plan de Desarrollo Distrital 2024-2027 'Cartagena, Ciudad de Derechos'.
A6: IMPULSOR DE AVANCE | B6: Ingrese en esta casilla el impulsor de avance que facilita el logro del objetivo del programa de su competencia según el Acuerdo 139 que adopta el Plan de Desarrollo Distrital 2024-2027 'Cartagena, Ciudad de Derechos'.
A7: META DE RESULTADO | B7: Ingrese en esta casilla la meta de resultado esperada del programa de su competencia según el Acuerdo 139 que adopta el Plan de Desarrollo Distrital 2024-2027 'Cartagena, Ciudad de Derechos'.
A8: PROGRAMA | B8: Ingrese en esta casilla el nombre de los programas de su competencia según el Acuerdo 139 que adopta el Plan de Desarrollo Distrital 2024-2027 'Cartagena, Ciudad de Derechos' (revise e incorpore los programas del Capítulo de los Pueblos y Comunidades Étnicas donde tienen compromisos, así como sus metas compartidas con otras dependencias).
A9: CÓDIGO DE PROGRAMA | B9: Ingrese en esta casilla el código del programa establecido en el Plan Operativo Anual de Inversiones.
A10: INDICADOR DE PRODUCTO SEGÚN PDD | B10: Ingrese en este casilla el indicador definido para cumplir la meta de producto en el Plan de Desarrollo según el Acuerdo 139 que adopta el Plan de Desarrollo Distrital 2024-2027 'Cartagena, Ciudad de Derechos'
A11: UNIDAD DE MEDIDA DEL INDICADOR DE PRODUCTO | B11: Ingrese en esta casilla la expresion fisica con la que se mostrará el resultado de la meta propuesta. (Ejemplo: número, porcentaje, kilometro).
A12: LINEA BASE SEGUN PDD | B12: Ingrese en esta casilla el valor que se encuentra en el Acuerdo 139 que adopta el Plan de Desarrollo Distrital 2024-2027 'Cartagena, Ciudad de Derechos', como el punto de partida para definir el alcance de la meta producto.
A13: DESCRIPCION DE LA META PRODUCTO 2024-2027 | B13: Ingrese en esta casilla lo que persigue el indicador en el cuatrenio, se encuentra plasmado en el Acuerdo 139 que adopta el Plan de Desarrollo Distrital 2024-2027 'Cartagena, Ciudad de Derechos'
A14: PONDERACION DE LA META PRODUCTO | B14: Ingrese en esta casilla el valor porcentual asignado a la meta producto
... A18: PROGRAMACIÓN META PRODUCTO A 2024 | B18: Ingrese en esta casilla, la cantidad de la meta propuesta para la actual vigencia, relacionada con el Plan Indicativo.
A20: GESTIÓN ADMINISTRATIVA MIPG (Hoja 2)
A21: El objetivo principal del Modelo Integrado de Planeación y Gestión - MIPG es dinamizar la gestión de las organizaciones públicas para generar bienes y servicios que resuelvan efectivamente las necesidades de la ciudadanía en el marco de la integralidad y la legalidad y la promoción de acciones que contribuyan a la lucha contra la corrupcion. Por lo que el principal beneficio del actual Modelo Integrado de Planeación y Gestión - MIPG es su contribución al fortalecimiento de las capacidades de las organizaciones, ya que se focaliza en las prácticas y procesos clave que ellas adelantan para convertir insumos en resultados, apuntando a transformar el Estado Colombiano, de un Estado legislativo a un Estado prestador de servicios. En relacion a lo anterior pretendemos que se identifique desde su dependencia como se relaciona el trabajo que se efectua para lograr lo propuesto.
A22: META DE RESULTADO | B22: Ingrese en esta casilla la meta de resultado esperada del programa de su competencia según el Acuerdo 139 que adopta el Plan de Desarrollo Distrital 2024-2027 'Cartagena, Ciudad de Derechos'.
A23: DIMENSIONES DE MIPG | B23: Ingrese en esta casilla la dimensión identificada: Definir desde la competencia de la dependencia y sus procesos con que dimensión se identifican de las 7 que componen el modelo. Como son: 1. Talento Humano 2. Direccionamiento Estrategico 3. Gestion con Valores por Resultados 4. Evaluacion de Resultados 5. Informacion y Comunicación 6. Gestion del Conocimiento 7. Control Interno
A24: POLÍTICAS DE GESTIÓN Y DESEMPEÑO INSTITUCIONAL | B24: Relacione en esta casilla la política de gestión y desempeño institucional alineada a su proceso (Éstas se ubican en una de las siete dimensiones de MIPG y las 19 políticas)
A25: PROCESO ASOCIADO A PROGRAMA Y PRODUCTO | B25: Relacione en esta casilla el proceso de gestión asociado al programa y al producto (Identifique el proceso de su competencia en el mapa de interrelacion de procesos alineado con su dependencia).
A26: SUBPROCESO ASOCIADO | B26: Relacione en esta casilla el subproceso de su competencia (Identifique esto en el mapa de interrelación de procesos).
A27: OBJETIVO DEL SUBPROCESO | B27: Descripcion del objetivo del subproceso al cual pertenece
A28: NOMBRE DEL INDICADOR | B28: Ingrese en esta casilla el nombre del indicador asociado a los objetivos estratégicos de la entidad, de acuerdo al proceso o subproceso de su competencia.
A29: PROPÓSITO | B29: Describa en esta casilla la meta que espera lograr a partir del indicador mencionado en la casilla anterior.
A30: FRECUENCIA | B30: Describa en esta casilla la frecuencia con la que se hará el reporte.
A31: TIPO DE INDICADOR | B31: Describa en esta casilla el tipo de indicador relacionado, según su naturaleza (eficiencia, eficaz, efectividad, etc).
A32: GRUPOS DE VALOR | B32: Defina en esta casilla con una X a qué grupo de valor pertenece, ya sea entidades, ciudadanía, servidores-interno.
A33: PLANES DECRETO 612 DE 2018 | B33: Indique a cuál Plan Institucional, de los establecidos en el Decreto 612 del 2018, le aporta este producto.
A34: POLÍTICA DE ADMINISTRACION DE RIESGOS
A35: “Establece los lineamientos y parámetros en la Alcaldía Mayor de Cartagena de Indias para la identificación, análisis, evaluación, tratamiento, monitoreo, revisión, valoración, comunicación, consulta y seguimiento de los riesgos a los que se expone y pueden afectar el cumplimiento de los objetivos institucionales en el marco de los procesos, planes y proyectos de la entidad debido a eventos potenciales y que pueden llevar a la posibilidad de incurrir en pérdidas o afectaciones a nivel económico o reputaciones por deficiencias, fallas o inadecuaciones, en el recurso humano, procesos, tecnología, infraestructura o por la ocurrencia de acontecimientos externos.”
A36: RIESGOS ASOCIADOS AL PROCESO | B36: Ingrese en esta casilla cada uno de los riesgos identificados en el proceso definido, y desarrollado en la caracterización de la gestión por proceso
A37: CONTROLES ESTABLECIDOS PARA LOS RIESGOS | B37: Ingrese en esta casilla cada uno de los controles formulados para cada riesgo identificado en el proceso definido
A39: PLAN DE ACCION - INVERSIÓN (Hoja 3)
A40: PROYECTO DE INVERSIÓN | B40: Ingrese en esta casilla el nombre del proyecto a partir del cual se desarrollará el programa con el que se articula.
A41: CÓDIGO DE PROYECTO BPIN | B41: Ingrese en esta casilla el número BPIN del proyecto a partir del cual se desarrollará el programa con el que se articula.
A42: OBJETIVO GENERAL DEL PROYECTO | B42: Ingrese en esta casilla el fin general del proyecto a partir del cual se desarrollará el programa con el que se articula.
A43: OBJETIVO ESPECÍFICO DEL PROYECTO | B43: Ingrese en esta casilla el objetivo específico asociado al objetivo general diligenciado en la casilla anterior.
A44: PRODUCTO DEL PROYECTO | B44: Ingrese en esta casilla el producto que materializa el objetivo específico relacionado en la casilla anterior.
A45: PONDERACIÓN DE PRODUCTO | B45: Ingrese en esta casilla la ponderacion asignada al producto en cuestión.
...

Sheet 1. ESTRATÉGICO
C1: ALCALDIA DISTRITAL DE CARTAGENA DE INDIAS | AF1: Código: PTDGI01-F001
C2: MACROPROCESO: PLANEACIÓN TERRITORIAL Y DIRECCIONAMIENTO ESTRATEGICO | AF2: Versión: 1.0
C3: PROCESO / SUBPROCESO: GESTIÓN DE LA INVERSIÓN PUBLICA / GESTIÓN DEL PLAN DE DESARROLLO Y SUS INSTRUMENTOS DE EJECUCIÓN | AF3: Fecha: 16/07/2024
C4: FORMATO PLAN DE ACCIÓN INSTITUCIONAL | AF4: Página: 1 de 3
A5: DEPENDENCIA: | C5: Fondo de Vivienda de interés Social y Reforma Urbana Distrital - CORVIVIENDA
A6: PLANTEAMIENTO ESTRATÉGICO- PLAN DE DESARROLLO
A7: OBJETIVO DE DESARROLLO SOSTENIBLE | B7: OBJETIVO ESTRATÉGICO | C7: LÍNEA ESTRATÉGICA | D7: IMPULSOR DE AVANCE | E7: META RESULTADO | F7: PROGRAMA | G7: CÓDIGO DE PROGRAMA | H7: INDICADOR DE PRODUCTO SEGÚN PDD | I7: UNIDAD DE MEDIDA DEL INDICADOR DE PRODUCTO | J7: LÍNEA BASE SEGUN PDD | K7: DESCRIPCIÓN DE LA META PRODUCTO 2024-2027 | L7: PONDERACIÓN DE LA META PRODUCTO | M7: DENOMINACIÓN DEL PRODUCTO | N7: ENTREGABLE INDICADOR DE PRODUCTO SEGÚN CATALOGO DE PRODUCTO | O7: VALOR DE LA META PRODUCTO 2024-2027 | P7: PROGRAMACIÓN META PRODUCTO 2024 | Q7: PROGRAMACIÓN META PRODUCTO 2025 | R7: PROGRAMACIÓN META PRODUCTO 2026 | S7: PROGRAMACIÓN META PRODUCTO 2027 | T7: ACUMULADO 2024 | U7: ACUMULADO 2025 | V7: ACUMULADO 2026 | W7: ACUMULADO 2027 | X7: ACUMULADO CUATRIENIO | Y7: REPORTE META PRODUCTO A MARZO 2026 | Z7: REPORTE META PRODUCTO A JUNIO 2026 | AA7: REPORTE META PRODUCTO A SEPTIEMBRE 2026 | AB7: REPORTE META PRODUCTO A DICIEMBRE 2026 | AC7: AVANCE META PRODUCTO AL AÑO (PONDERADO) | AD7: AVANCE META PRODUCTO AL CUATRIENIO (PONDERADO) | AE7: AVANCE META PRODUCTO AL AÑO (SIMPLE) | AF7: AVANCE META PRODUCTO AL CUATRIENIO (SIMPLE)
A8: 11. Ciudades y comunidades sostenibles 13. Acción climática urgente | B8: Dignificar la vida de los habitantes del Distrito de Cartagena de Indias, reducir la pobreza multidimensional, el déficit habitacional, y ampliar la cobertura del saneamiento básico, a través de la implementación de estrategias integrales focalizadas en el fortalecimiento de la infraestructura educativa, en el fomento de las condiciones habitacionales adecuada y en el acceso de calidad de los servicios públicos, garantizando una vida digna para toda la población, durante el período de gobierno 2024-2027. | C8: Vida Digna | D8: Vivienda Digna y Hábitat | E8: Reducir el déficit cuantitativo de vivienda a 6,45% | F8: UNIDOS POR UNA VIVIENDA PARA TI | G8: 02-01-01 | H8: Hogares beneficiados con adquisición de vivienda | I8: Número de subsidios de vivienda nueva asignados | J8: Déficit cuantitativo de vivienda: 26.804 hogares Fuente: DANE, 2018 | K8: Beneficiar a diez mil (10.000) hogares con subsidios familiares de adquisición de vivienda de interés social | L8: 1 | M8: Bien | N8: Hogares beneficiados con adquisición de vivienda | O8: 10000 | P8: 359 | Q8: 450 | R8: 4596 | S8: 4595 | T8: 359 | U8: 494 | V8: =+Y8+Z8+AA8+AB8 -> 113 | X8: =(T8+U8+V8+W8) -> 966 | Y8: 14 | Z8: 99 | AC8: =+(V8/R8)*L8 -> 0.024586597 | AD8: =X8/O8*L8 -> 0.0966 | AE8: =+V8/R8 -> 0.024586597 | AF8: =+X8/O8 -> 0.0966
G9: AVANCE PROGRAMA UNIDOS POR UNA VIVIENDA PARA TI | AC9: =+AC8 -> 0.024586597 | AD9: =+AD8 -> 0.0966 | AE9: =+AE8 -> 0.024586597 | AF9: =+AF8 -> 0.0966
A10: 11. Ciudades y comunidades sostenibles 13. Acción climática urgente | B10: Dignificar la vida de los habitantes del Distrito de Cartagena de Indias, reducir la pobreza multidimensional, el déficit habitacional, y ampliar la cobertura del saneamiento básico, a través de la implementación de estrategias integrales focalizadas en el fortalecimiento de la infraestructura educativa, en el fomento de las condiciones habitacionales adecuada y en el acceso de calidad de los servicios públicos, garantizando una vida digna para toda la población, durante el período de gobierno 2024-2027. | C10: Vida Digna | D10: Vivienda Digna y Hábitat | E10: Reducir el déficit cualitativo de vivienda a 22,66% | F10: MI CASA AVANZA | G10: 02-01-02 | H10: Hogares beneficiados con mejoramiento de vivienda | I10: Número de subsidios de mejoramiento de vivienda asignados | J10: Déficit cualitativo: 73.985 hogares Fuente: DANE, 2018 | K10: Beneficiar a doce mil setecientos cincuenta (12.750) hogares con subsidios familiares para mejoramiento de vivienda urbana | L10: 1 | M10: Bien | N10: Hogares beneficiados con mejoramiento de una vivienda | O10: 12750 | P10: 2881 | Q10: 750 | R10: 4570 | S10: 4569 | T10: 2881 | U10: 760 | V10: =+Y10+Z10+AA10+AB10 -> 278 | X10: =(T10+U10+V10+W10) -> 3919 | Y10: 2 | Z10: 276 | AC10: =+(V10/R10)*L10 -> 0.06083151 | AD10: =+(X10/O10)*L10 -> 0.30737255 | AE10: =+V10/R10 -> 0.06083151 | AF10: =+X10/O10 -> 0.30737255 | AH10: Bien | AQ10: SEDD
G11: AVANCE PROGRAMA MI CASA AVANZA | AC11: =+AC10 -> 0.06083151 | AD11: =+AD10 -> 0.30737255 | AE11: =+AE10 -> 0.06083151 | AF11: =+AF10 -> 0.30737255
A12: 11. Ciudades y comunidades sostenibles 13. Acción climática urgente | B12: Dignificar la vida de los habitantes del Distrito de Cartagena de Indias, reducir la pobreza multidimensional, el déficit habitacional, y ampliar la cobertura del saneamiento básico, a través de la implementación de estrategias integrales focalizadas en el fortalecimiento de la infraestructura educativa, en el fomento de las condiciones habitacionales adecuada y en el acceso de calidad de los servicios públicos, garantizando una vida digna para toda la población, durante el período de gobierno 2024-2027. | C12: Vida Digna | D12: Vivienda Digna y Hábitat | E12: Disminuir el déficit de legalización y/o titulación de predios a 43% | F12: MI CASA CON PROPIEDAD | G12: 02-01-03 | H12: Número de predios legalizados o titulados | I12: Número de predios titulados | J12: Déficit de legalización y/o titulación de predios: 11.639 hogares Fuente: Corvivenda, 2023 | K12: Titular o legalizar cinco mil (5.000) predios | L12: 1 | M12: Bien | N12: Asistencias técnicas y jurídicas realizadas | O12: 5000 | P12: 979 | Q12: 1000 | R12: 1511 | S12: 1510 | T12: 979 | U12: 566 | V12: =+Y12+Z12+AA12+AB12 -> 82 | X12: =(T12+U12+V12+W12) -> 1627 | Y12: 27 | Z12: 55 | AC12: =+(V12/R12)*L12 -> 0.054268696 | AD12: =X12/O12*L12 -> 0.3254 | AE12: =V12/R12 -> 0.054268696 | AF12: =+X12/O12 -> 0.3254 | AH12: Servicio
G13: AVANCE PROGRAMA MI CASA CON PROPIEDAD | AC13: =+AC12 -> 0.054268696 | AD13: =+AD12 -> 0.3254 | AE13: =+AE12 -> 0.054268696 | AF13: =+AF12 -> 0.3254
A14: 11. Ciudades y comunidades sostenibles 13. Acción climática urgente | B14: Dignificar la vida de los habitantes del Distrito de Cartagena de Indias, reducir la pobreza multidimensional, el déficit habitacional, y ampliar la cobertura del saneamiento básico, a través de la implementación de estrategias integrales focalizadas en el fortalecimiento de la infraestructura educativa, en el fomento de las condiciones habitacionales adecuada y en el acceso de calidad de los servicios públicos, garantizando una vida digna para toda la población, durante el período de gobierno 2024-2027. | C14: Vida Digna | D14: Vivienda Digna y Hábitat | E14: Aumentar el número de solicitudes de legalización urbanística de barrios | F14: MI TERRITORIO EN ORDEN | G14: 02-01-04 | H14: Número de Documentos Técnicos de Soporte - DTS para la legalización urbanística elaborados | I14: Número de documentos elaborados | J14: 1 DTS elaborado a corte 2023 Fuente: Corvivienda, 2023 | K14: Elaborar cinco (5) Documentos Técnicos de Soporte para la solicitud de legalización de 100 hectáreas en los asentamientos humanos priorizados del Distrito | L14: 0.6 | M14: Bien | N14: Documentos de planeación elaborados | O14: 5 | P14: 0.48 | Q14: 1.52 | R14: 1 | S14: 2 | T14: 0.48 | U14: 0.481 | V14: =+Y14+Z14+AA14+AB14 -> 0.16 | X14: =(T14+U14+V14+W14) -> 1.121 | Y14: 0.11 | Z14: 0.05 | AC14: =+(V14/R14)*L14 -> 0.096 | AD14: =X14/O14*L14 -> 0.13452 | AE14: =V14/R14 -> 0.16 | AF14: =+X14/O14 -> 0.2242
A15: 11. Ciudades y comunidades sostenibles 13. Acción climática urgente | B15: Dignificar la vida de los habitantes del Distrito de Cartagena de Indias, reducir la pobreza multidimensional, el déficit habitacional, y ampliar la cobertura del saneamiento básico, a través de la implementación de estrategias integrales focalizadas en el fortalecimiento de la infraestructura educativa, en el fomento de las condiciones habitacionales adecuada y en el acceso de calidad de los servicios públicos, garantizando una vida digna para toda la población, durante el período de gobierno 2024-2027. | C15: Vida Digna | D15: Vivienda Digna y Hábitat | E15: Actualizar en un 100% el sistema de información de vivienda | F15: MI TERRITORIO EN ORDEN | G15: 02-01-04 | H15: Número de sistemas de información de vivienda actualizados | I15: Número de sistemas de información actualizados | J15: 1 sistema de información de vivienda creado a corte 2023 Fuente: Corvivienda, 2023 | K15: Actualizar un (1) sistema de información de vivienda | L15: 0.4 | M15: Bien | N15: Sistemas de información actualizados | O15: 1 | P15: 1 | Q15: 1 | R15: 1 | S15: 1 | T15: 1 | U15: 1 | V15: =+Y15+Z15+AA15+AB15 -> 0.28 | X15: 1 | Y15: 0.14 | Z15: 0.14 | AC15: =+(V15/R15)*L15 -> 0.112 | AD15: =X15/O15*L15 -> 0.4 | AE15: =V15/R15 -> 0.28 | AF15: 0.625
G16: AVANCE PROGRAMA MI TERRITORIO EN ORDEN | AC16: =+AVERAGE(AC14:AC15) -> 0.104 | AD16: =+AVERAGE(AD14:AD15) -> 0.26726 | AE16: =+AVERAGE(AE14:AE15) -> 0.22 | AF16: =+AVERAGE(AF14:AF15) -> 0.4246
A17: 10. Reducción de la Desigualdades 16. Paz, justicia e instituciones sólidas | B17: Dignificar la vida de los habitantes del Distrito de Cartagena de Indias, reducir la pobreza multidimensional, el déficit habitacional, y ampliar la cobertura del saneamiento básico, a través de la implementación de estrategias integrales focalizadas en el fortalecimiento de la infraestructura educativa, en el fomento de las condiciones habitacionales adecuada y en el acceso de calidad de los servicios públicos, garantizando una vida digna para toda la población, durante el período de gobierno 2024-2027. | C17: De los Pueblos y Comunidades Étnicas | D17: Fortalecimiento al desarrollo afro-territorial de la población negra, afrocolombiana, raizal y palenquera. | E17: Porcentaje de población afro, negra, raizal, palenquera que habita el Distrito vinculada a procesos de fortalecimiento y reconocimiento de sus derechos, diversidad étnica y cultural como un principio fundamental cualitativo de vivienda a 22,66% | F17: DESARROLLO HUMANO Y BIENESTAR SOCIAL DE LAS COMUNIDADES NEGRAS, AFROCOLOMBIANAS, RAIZALES Y PALENQUERAS | G17: 06-01-02 | H17: Hogares beneficiados con mejoramiento de vivienda | I17: Número de subsidios de mejoramiento de vivienda asignados | J17: N.D. | K17: Otorgar cuatrocientos cincuenta (450) subsidios para mejoramiento de vivienda anual focalizado en las comunidades negras, afrodescendientes, raizales y palenqueros del Distrito | L17: 1 | M17: Bien | N17: Hogares beneficiados con mejoramiento de una vivienda | O17: 1800 | Q17: 315 | R17: 743 | S17: 742 | T17: 0 | U17: 315 | V17: =+Y17+Z17+AA17+AB17 -> 600 | X17: =(T17+U17+V17+W17) -> 915 | Y17: 0 | Z17: 600 | AC17: =+(V17/R17)*L17 -> 0.80753701 | AD17: =X17/O17*L17 -> 0.50833333 | AE17: =V17/R17 -> 0.80753701 | AF17: =+X17/O17 -> 0.50833333
G18: AVANCE PROGRAMA DESARROLLO HUMANO Y BIENESTAR SOCIAL DE LAS COMUNIDADES NEGRAS, AFROCOLOMBIANAS, RAIZALES Y PALENQUERAS | AC18: =+AC17 -> 0.80753701 | AD18: =+AD17 -> 0.50833333 | AE18: =+AE17 -> 0.80753701 | AF18: =+AF17 -> 0.50833333
A19: 10. Reducción de la Desigualdades 16. Paz, justicia e instituciones sólidas | B19: Dignificar la vida de los habitantes del Distrito de Cartagena de Indias, reducir la pobreza multidimensional, el déficit habitacional, y ampliar la cobertura del saneamiento básico, a través de la implementación de estrategias integrales focalizadas en el fortalecimiento de la infraestructura educativa, en el fomento de las condiciones habitacionales adecuada y en el acceso de calidad de los servicios públicos, garantizando una vida digna para toda la población, durante el período de gobierno 2024-2027. | C19: De los Pueblos y Comunidades Étnicas | D19: Territorio sitio de paz y pensamiento colectivo | E19: Porcentaje de población Indígena que habita el Distrito de Cartagena vinculada procesos de fortalecimiento y reconocimiento de sus derechos, diversidad étnica y cultural como un principio fundamental | F19: TERRITORIO PROPIO | G19: 06-02-02 | H19: Hogares beneficiados con mejoramiento de vivienda | I19: Número de subsidios de mejoramiento de vivienda asignados | J19: N.D. | K19: Otorgar cuatrocientos cincuenta (450) de subsidios para mejoramiento de vivienda a miembros de los cabildos indígenas ubicados en el Distrito | L19: 1 | M19: Bien | N19: Hogares beneficiados con mejoramiento de una vivienda | O19: 450 | Q19: 86 | R19: 182 | S19: 182 | T19: 0 | U19: 86 | V19: =+Y19+Z19+AA19+AB19 -> 0 | X19: =(T19+U19+V19+W19) -> 86 | Y19: 0 | Z19: 0 | AC19: =+(V19/R19)*L19 -> 0 | AD19: =X19/O19*L19 -> 0.19111111 | AE19: =V19/R19 -> 0 | AF19: =+X19/O19 -> 0.19111111
G20: AVANCE PROGRAMA TERRITORIO PROPIO | AC20: =+AC19 -> 0 | AD20: =+AD19 -> 0.19111111 | AE20: =+AE19 -> 0 | AF20: =+AF19 -> 0.19111111
A21: AVANCE ESTRATEGICO DE CORVIVIENDA JUNIO 30 2026 | AC21: =+AVERAGE(AC9,AC11,AC13,AC16,AC18,AC20) -> 0.17520397 | AD21: =+AVERAGE(AD9,AD11,AD13,AD16,AD18,AD20) -> 0.2826795 | AE21: =+AVERAGE(AE9,AE11,AE13,AE16,AE18,AE20) -> 0.1945373 | AF21: =+AVERAGE(AF9,AF11,AF13,AF16,AF18,AF20) -> 0.30890283

Sheet 2. GESTIÓN-MIPG 
C1: ALCALDIA DISTRITAL DE CARTAGENA DE INDIAS | N1: Código: PTDGI01-F001
C2: MACROPROCESO: PLANEACIÓN TERRITORIAL Y DIRECCIONAMIENTO ESTRATEGICO | N2: Versión: 1.0
C3: PROCESO / SUBPROCESO: GESTIÓN DE LA INVERSIÓN PUBLICA / GESTIÓN DEL PLAN DE DESARROLLO Y SUS INSTRUMENTOS DE EJECUCIÓN | N3: Fecha: 16/07/2024
C4: FORMATO SALIDA DE INFORMACION RESULTADOS DE SEGUIMIENTO Y EVALUACIÓN DE PLAN DE ACCIÓN INSTITUCIONAL | N4: Página: 2 de 3
A5: DEPENDENCIA : | C5: FONDO DE VIVIENDA DE INTERÉS SOCIAL Y REFORMA URBANA DISTRITAL CORVIVIENDA
A6: GESTIÓN ADMINISTRATIVA - MIPG | M6: ADMINISTRACIÓN DE RIESGOS
A8: META DE RESULTADO | B8: DIMENSIÓN (ES) DE MIPG | C8: POLÍTICA DE GESTIÓN Y DESEMPEÑO INSTITUCIONAL | D8: PROCESO ASOCIADO | E8: SUBPROCESO ASOCIADO | F8: OBJETIVO DEL SUBPROCESO | G8: NOMBRE DEL INDICADOR | H8: PROPÓSITO | I8: FRECUENCIA | J8: TIPO DE INDICADOR | K8: GRUPO DE VALOR | L8: PLANES DECRETO 612 DE 2018 | M8: RIESGOS ASOCIADOS AL PROCESO | N8: CONTROLES ESTABLECIDOS PARA LOS RIESGOS
A9: Reducir el déficit cuantitativo de vivienda a 6,45% | B9: Direccionamiento Estratégico y Planeación | C9: Política de Planeación institucional Política de Compras y Contratación Pública . | D9: Gestión de vivienda | E9: N/A | F9: Cooperar con la disminución del déficit cuantitativo de vivienda a través de la adquisición de una vivienda nueva en el Distrito de Cartagena a través de la asignación de Subsidios. | G9: Disminuir el deficit cuantitativo de vivienda= No de subsidios adjudicados / No total del deficit cuantitativo habitacional de vivienda | H9: Disminuir el deficit cuantitativo de vivienda | I9: SEMESTRAL | J9: Efectividad | K9: CIUDADANÍA | L9: Plan anual de inversión | M9: R1. Posibilidad de pérdida Económica y Reputacional por atrasos en el cronograma y sobrecostos debido a cambios naturales en el entorno global R2. Posibilidad de pérdida Económica y Reputacional por incumplimiento de especificaciones de obra debido a inadecuada calidad de los materiales | N9: R1. El Director Técnico identifica las posibles desviaciones que generan afectación a los precios a través de una proyección de los costos de la obra por el tiempo de duración. El Director Técnico establece con claridad las condiciones de uso de los AUI en la obra a través de un documento que contemple dichas condiciones El Director Técnico identifica los posibles eventos relacionados a sobrecostos a través de comités de seguimiento de obra semanal R2. El Director Técnico verifica las especificaciones técnicas de la obra a través de una lista de chequeo que contemple lo requerido en el anexo técnico del contrato El Director Técnico exige a la interventoría la identificación de la adecuada calidad de los materiales a través del cumplimiento de sus obligaciones contractuales Solicitar a la Direccion Administrativa la contratacion de transporte para la visistas de campo de supervisión a traves de Comunicación Oficial y/o proyecccion de Actividades
A10: Reducir el déficit cualitativo de vivienda a 22,66% | B10: Direccionamiento Estratégico y Planeación | C10: Política de Planeación institucional Política de Compras y Contratación Pública . | D10: Gestión de mejoramiento de vivienda | E10: N/A | F10: Contribuir a la disminución del déficit cualitativo de vivienda a través del mejoramiento de las condiciones de habitabilidad de los hogares del distrito de Cartagena con la prestación de servicios a nuestros grupos de valor en las modalidades de mejoramiento de vivienda que ofrece la entidad. | G10: Disminuir el deficit cuanlitativo de vivienda= No de viviendas mejoradas /No total del deficit cualitativo habitacional de vivienda | H10: Disminuir el deficit cualitativo de vivienda | I10: SEMESTRAL | J10: Efectividad | K10: CIUDADANÍA | L10: Plan anual de inversión | M10: Posibilidad de pérdida Reputacional por fallas en informes de asignación de subsidios de vivienda de interés social y mejoramiento de vivienda debido a errores en la consolidación de la información | N10: El Director Técnico verifica la información de los informes que detallan la asignación de subsidios a través de la realimentación del informe consolidado a los coordinadores de cada proyecto El Director Técnico asigna un funcionario para la consolidación y generaciión del informe de subsidios a través de cuadros de control con actualización mensual

Sheet 3. INVERSIÓN 
C1: ALCALDIA DISTRITAL DE CARTAGENA DE INDIAS | AW1: Código: PTDGI01-F001
C2: MACROPROCESO: PLANEACIÓN TERRITORIAL Y DIRECCIONAMIENTO ESTRATEGICO | AW2: Versión: 1.0
C3: PROCESO / SUBPROCESO: GESTIÓN DE LA INVERSIÓN PUBLICA / GESTIÓN DEL PLAN DE DESARROLLO Y SUS INSTRUMENTOS DE EJECUCIÓN | AW3: Fecha: 16/07/2024
C4: FORMATO SALIDA DE INFORMACION RESULTADOS DE SEGUIMIENTO Y EVALUACIÓN DE PLAN DE ACCIÓN INSTITUCIONAL | AW4: Página: 3 de 3
A5: DEPENDENCIA : | C5: FONDO DE VIVIENDA DE INTERÉS SOCIAL Y REFORMA URBANA DISTRITAL CORVIVIENDA
A6: PROYECTOS DE INVERSIÓN | AC6: PLAN ANUAL DE ADQUISICIONES - V1 | AI6: PROGRAMACIÓN PRESUPUESTAL
A8: META DE RESULTADO | B8: PROGRAMA | C8: CÓDIGO DE PROGRAMA | D8: META PRODUCTO PDD 2026 | E8: PROYECTO DE INVERSIÓN | F8: CÓDIGO DE PROYECTO BPIN | G8: OBJETIVO GENERAL DEL PROYECTO | H8: OBJETIVO ESPECIFICO DEL PROYECTO | I8: PRODUCTO DEL PROYECTO | J8: PONDERACIÓN DE PRODUCTO | K8: ACTIVIDADES DE PROYECTO DE INVERSIÓN ( HITOS ) | L8: TRAZADOR PRESUPUESTAL | M8: ENTREGABLE | N8: PROGRAMACIÓN NUMÉRICA DE LA ACTIVIDAD PROYECTO (VIGENCIA) | O8: REPORTE ACTIVIDADES PROYECTO DE ENERO A MARZO 2026 | P8: REPORTE ACTIVIDADES PROYECTO DE ABRIL A JUNIO 2026 | Q8: REPORTE ACTIVIDADES PROYECTO DE JULIO A SEPTIEMBRE 2026 | R8: REPORTE ACTIVIDADES PROYECTO DE OCTUBRE ADICIEMBRE 2026 | S8: ACUMULADO ACTIVIDAD DE PROYECTO 2026 | T8: AVANCES ACTIVIDADES DE PROYECTO | U8: FECHA DE INICIO DE LA ACTIVIDAD | V8: FECHA DE TERMINACIÓN DE LA ACTIVIDAD | W8: TIEMPO DE EJECUCIÓN (número de días) | X8: BENEFICIARIOS PROGRAMADOS | Y8: UNIDAD COMUNERA DE GOBIERNO A IMPACTAR | Z8: NOMBRE DEL RESPONSABLE | AA8: RIESGOS DEL PROYECTO | AB8: ACCIONES DE CONTROL DE LOS RIESGOS DE LOS PROYECTOS | AC8: ¿REQUIERE CONTRATACIÓN? | AD8: DESCRIPCIÓN DE LA ADQUISICIÓN ASOCIADA AL PROYECTO | AE8: CUANTÍA ASIGNADA A LA CONTRATACIÓN | AF8: MODALIDAD DE SELECCIÓN | AG8: FUENTE DE RECURSOS | AH8: FECHA DE INICIO DE CONTRATACIÓN | AI8: APROPIACIÓN INICIAL (en pesos) | AJ8: APROPACIÓN DEFINITIVA POR PROYECTO (MARZO) CORVIVIENDA | AK8: APROPACIÓN DEFINITIVA POR PROYECTO (JUNIO) | AL8: FUENTE DE FINANCIACIÓN | AM8: RUBRO PRESUPUESTAL | AN8: PRESUPUESTO EJECUTADO MARZO COMPROMISOS | AO8: PORCENTAJE PRESUPUESTO EJECUTADO MARZO COMPROMISOS | AP8: PRESUPUESTO EJECUTADO MARZO OBLIGACIONES | AQ8: PORCENTAJE PRESUPUESTO EJECUTADO MARZO OBLIGACIONES | AR8: PRESUPUESTO EJECUTADO JUNIO COMPROMISOS | AS8: PORCENTAJE PRESUPUESTO EJECUTADO JUNIO COMPROMISOS | AT8: PRESUPUESTO EJECUTADO JUNIO OBLIGACIONES | AU8: PORCENTAJE PRESUPUESTO EJECUTADO JUNIO OBLIGACIONES | AV8: OBSERVACIONES | AW8: OBSERVACIONES
A9: Reducir el déficit cuantitativo de vivienda a 6,45% | B9: UNIDOS POR UNA VIVIENDA PARA TI | C9: 36893 | D9: Beneficiar a cuatro mil quinientos noventa y seis (4.596) hogares con subsidios familiares de adquisición de vivienda de interés social | E9: Subsidio familiar de vivienda de interés social del Programa "Unidos Por Una Vivienda Para Ti" del Distrito de Cartagena de Indias | F9: 2024130010012 | G9: Reducir el déficit cuantitativo de vivienda en el Distrito de Cartagena de Indias. | H9: Asegurar que la oferta satisfaga la demanda de vivienda VIS y VIP de manera adecuada y asequible. | I9: Servicio de apoyo financiero para adquisición de vivienda | J9: 1 | K9: Servicios profesionales y de apoyo a la gestión para la ejecución del Programa Unidos por una Vivienda para Ti | L9: EQUIDAD DE LA MUJER | M9: Servicios profesionales y de apoyo a la gestión contratados | N9: 17 | O9: 26 | P9: 5 | S9: =+SUM(O9:P10) -> 31 | T9: =+S9/N9 -> 1.8235294 | U9: 46047 | V9: 46356 | W9: =+_xlfn.DAYS(V9,U9) -> 309 | X9: =4596*4.5 -> 20682 | Y9: UCG 1 UCG 2 UCG 3 UCG 4 UCG 5 UCG 6 UCG 7 UCG 8 UCG 9 UCG 10 UCG 11 UCG 12 UCG 13 UCG 14 UCG 15 | Z9: Veronica Garcia Nieves | AA9: Insuficiencia de ingresos esperados durante la vigencia 2024- 2027 | AB9: Gestionar recursos distritales, nacionales e internacionales con empresas públicas y privadas para la asignación de subsidios de vivienda nueva. | AC9: SI | AD9: Contratar la Prestación de Servicios profesionales y de apoyo a la gestión para la ejecución del Programa Unidos por una Vivienda para Ti | AE9: 563653349 | AF9: Contratación directa. | AG9: Recursos propios | AH9: ENERO 2026 | AI9: 5124121354 | AJ9: 4124121354 | AK9: 4124121354 | AL9: 1.2.2.0.00-039 - ICDE-CORVIVIENDA 14% IPU | AM9: SUBSIDIO FAMILIAR DE VIVIENDA DE INTERÉS SOCIAL DEL PROGRAMA UNIDOS POR UNA VIVIENDA PARA TI DEL DISTRITO DE CARAGENA DE INDIAS 2.3.4001.1400.2024130010012 | AN9: 1021017000 | AP9: 554847000 | AR9: 2850250000 | AT9: 2659684100 | AV9: SEGUIMIENTO PRESUPUESTAL DE INVERSIÓN CORTE 30 DE JUNIO 2026 https://corvivienda-my.sharepoint.com/:x:/g/personal/gestion_proyectos_corvivienda_gov_co/IQBfUhKh4t_DTYX5agMU85ZoAVKHup-iwJ5NdIH1AAGQkNc?e=0moXXe | AW9: SEGUIMIENTO PRESUPUESTAL DE INVERSIÓN CORVIVIENDA 2026 - CORTE 31 DE MARZO 2026 https://corvivienda-my.sharepoint.com/:x:/g/personal/gestion_proyectos_corvivienda_gov_co/IQA5AwmNkkzqR4s5m9JDFgqaAbHo8KjLOpUQQxU6odQOSmk?e=at3R80
AA10: Aumento del precio por metro cuadrado de la vivienda | AB10: Promover la colaboración entre el sector público y privado para incrementar la oferta de viviendas asequibles | AK10: 2.8635777e+08 | AL10: 1.3.3.2.00-95-039 – RB IPU 14% CORVIVIENDA | AR10: 16000000 | AT10: 0
K11: Gestión integral de logística para el desarrollo de la oferta institucional del Programa Unidos por una Vivienda para Ti | M11: Contrato de apoyo logístico | N11: 1 | O11: 0 | P11: 0 | S11: =+SUM(O11:P12) -> 0 | T11: =+S11/N11 -> 0 | U11: 46113 | V11: 46387 | W11: =+_xlfn.DAYS(V11,U11) -> 274 | AA11: Retraso en la asignación de subsidios de vivienda nueva debido a la falta de cooperación de los actores involucrados. | AB11: Implementar procedimientos claros y facilitar la coordinación entre todos los actores involucrados para agilizar la asignación de subsidios de vivienda nueva y evitar retrasos. | AK11: 1.0506215e+10 | AL11: 1.3.3.2.00-94-039 RB IPU 14% CORVIVIENDA
AC12: SI | AD12: Apoyo logístico para la ejecución eventos realizados en el marco de los programas misionales diseño de elementos litográficos, distintivos y promocionales y servicio de pautas publicitarias, avisos y notificaciones en medios de comunicación del fondo de vivienda de interés social y reforma urbana de Cartagena - Corvivienda | AE12: 51241213 | AF12: Selección abreviada menor cuantía | AG12: Recursos propios | AH12: ABRIL 2026 | AK12: 341160324 | AL12: 1.3.3.1.00-94-001 Rb ICLD
K13: Diseñar, tramitar permisos y construir obras complementarias para el Proyecto Urbanístico Ciudadela de La Paz | M13: Obras complementarias | N13: 1 | O13: 0 | P13: 0 | S13: =+SUM(O13:P13) -> 0 | T13: =+S13/N13 -> 0 | U13: 46113 | V13: 46387 | W13: =+_xlfn.DAYS(V13,U13) -> 274 | AA13: Cambio en la normatividad nacional para la asignación de subsidios de vivienda | AB13: Diversificar fuentes de financiamiento y fortalecer alianzas estratégicas con el sector privado y organizaciones internacionales. | AK13: 1.5218854e+09 | AL13: 1.3.3.8.03-94-070 Rb SGP Propósito General Libre Inversión | AR13: 128115000 | AT13: 128115000
K14: Desarrollo de ofertas institucionales para la asignación de subsidios familiares distritales de vivienda | L14: EQUIDAD DE LA MUJER | M14: Subsidios distritales complementarios de vivienda nueva | N14: 4596 | O14: 14 | P14: 99 | S14: =+SUM(O14:P14) -> 113 | T14: =+S14/N14 -> 0.024586597 | AC14: SI | AD14: Contratar bajo la modalidad llave en mano, la revisión y ajuste de los estudios y diseños, así como la ejecución de obras correspondientes de construcción de un CIC - "CIRCULO DEL CUIDADO" - ubicado en el proyecto urbanistico Ciudadela de la Paz | AE14: 25620607 | AF14: Licitación pública | AG14: Recursos propios | AH14: ENERO 2026 | AK14: 5.7872592e+09 | AL14: 1.3.3.11.03-94-062 Rb Dividendos Acuacar
K15: Adjudicar subsidios para vivienda usada a familias damnificadas del barrio San Francisco, conforme al Convenio Interadministrativo SIC No. 593 de 2011 | M15: Subsidios distritales totales | N15: 2 | O15: 0 | P15: 1 | S15: =SUM(O15:P15) -> 1 | T15: =+S15/N15 -> 0.5 | AK15: 7000000000 | AL15: 1.3.3.5.04-94-211 Rb Aporte Fonvivienda Unión Temporal Ciudadela De La Paz Etapa 3 Y 4
K16: Contratar transporte terrestre para el desarrollo de la oferta institucional del programa unidos por una vivienda para ti | M16: Contrato de transporte | N16: 1 | O16: 1 | P16: 0 | S16: =SUM(O16:P16) -> 1 | T16: =+S16/N16 -> 1 | U16: 46047 | V16: 46326 | W16: =+_xlfn.DAYS(V16,U16) -> 279 | AA16: Hogares incapaces de alcanzar el cierre financiero para la adquisición de vivienda. | AB16: Ampliar el valor del subsidio de vivienda nueva para la población en pobreza extrema | AC16: SI | AD16: Contratar la interventoría para la ejecución de las obras de construcción de un CIC "CIRCULO DEL CUIDADO" - ubicado en el proyecto urbanistico Ciudadela de la Paz | AE16: 2562061 | AF16: Selección abreviada subasta inversa | AG16: Recursos propios | AH16: FEBRERO 2026 | AK16: 3.2778945e+08 | AL16: 1.3.3.5.04-94-243 Rb Rf Aporte Fonvivienda Unión Temporal Ciudadela De La Paz Etapa 3 Y 4
K17: Contratar la adquisición elementos derivados del papel y útiles de oficina para el desarrollo de la oferta institucional del programa unidos por una vivienda para ti | M17: Contrato de papelería | N17: 1 | O17: 0 | P17: 0 | S17: =SUM(O17:P17) -> 0 | T17: =+S17/N17 -> 0 | U17: 46054 | V17: 46142 | W17: =+_xlfn.DAYS(V17,U17) -> 88 | AE17: 4481044124 | AF17: Licitación pública | AG17: Recursos propios | AH17: MARZO 2026 | AK17: 4.8379723e+08 | AL17: 1.3.3.11.05-94-227 RB Crédito Interno Convenio San Francisco
A18: Avance Proyecto Subsidio familiar de vivienda de interés social del Programa "Unidos Por Una Vivienda Para Ti" del Distrito de Cartagena de Indias | T18: =AVERAGE(T9:T17) -> 0.47830229 | AI18: =SUM(AI9) -> 5124121354 | AJ18: =SUM(AJ9) -> 4124121354 | AK18: =SUM(AK9:AK17) -> 3.0378586e+10 | AN18: =SUM(AN9) -> 1021017000 | AO18: =+AN18/AJ18 -> 0.24757201 | AP18: =SUM(AP9) -> 554847000 | AQ18: =+AP18/AJ18 -> 0.13453702 | AR18: =SUM(AR9:AR17) -> 2994365000 | AS18: =+AR18/AK18 -> 0.098568281 | AT18: =SUM(AT9:AT17) -> 2787799100 | AU18: =+AT18/AK18 -> 0.091768561
A19: Reducir el déficit cualitativo de vivienda a 22,66% | B19: MI CASA AVANZA | C19: 37258 | D19: Beneficiar a cuatro mil quinientos setenta (4.570) hogares con subsidios familiares para mejoramiento de vivienda urbana | E19: Mejoramiento de viviendas para la población priorizada del Programa “Mi Casa Avanza” del Distrito de Cartagena de Indias | F19: 2024130010013 | G19: Reducir el déficit cualitativo de vivienda en el Distrito de Cartagena de Indias. | H19: Mejorar las condiciones de las viviendas de la población vulnerable del Distrito de Cartagena de Indias. | I19: Servicio de apoyo financiero para mejoramiento de vivienda | J19: 1 | K19: Diagnóstico, ejecución e interventoría de las obras de mejoramiento de vivienda por asignación de subsidios familiares | L19: EQUIDAD DE LA MUJER | M19: Subsidios distritales de mejoramiento de vivienda | N19: 4570 | O19: 2 | P19: 276 | S19: =SUM(O19:P19) -> 278 | T19: =+S19/N19 -> 0.06083151 | U19: 46054 | V19: 46265 | W19: =+_xlfn.DAYS(V19,U19) -> 211 | X19: =+N19*3.5 -> 15995 | Y19: UCG 1 UCG 2 UCG 3 UCG 4 UCG 5 UCG 6 UCG 7 UCG 8 UCG 9 UCG 10 UCG 11 UCG 12 UCG 13 UCG 14 UCG 15 | Z19: Clara Calderon Muñoz | AA19: Insuficiencia de ingresos esperados durante la vigencia 2024-2027 | AB19: Gestionar convenios de asociación con entidades publicas y privadas para la ejecución de proyectos de mejoramiento de vivienda conjuntos. | AC19: SI | AD19: Contratar la prestación de Servicios profesionales y de apoyo a la gestión para la ejecución del Programa Mi Casa Avanza | AE19: 835533199 | AF19: Contratación directa. | AG19: Recursos propios | AH19: ENERO 2026 | AI19: 5407540256 | AJ19: 6407540256 | AK19: 6407540256 | AL19: 1.2.2.0.00-039 - ICDE-CORVIVIENDA 14% IPU | AM19: MEJORAMIENTO DE VIVIENDAS PARA LA POBLACIÓN PRIORIZADA DEL PROGRAMA MI CASA AVANZA DEL DISTRITO DE CARTAGENA DE INDIAS 2.3.4001.1400.2024130010013 | AN19: 997802190 | AP19: 218300000 | AR19: 5.846232e+09 | AT19: 1.1039952e+09
K20: Gestión integral de logística y transporte terrestre para el desarrollo de la oferta institucional del programa mi casa avanza | M20: Contrato de apoyo logístico y transporte | N20: 2 | O20: 0 | P20: 1 | S20: =SUM(O20:P20) -> 1 | T20: =+S20/N20 -> 0.5 | U20: 46113 | V20: 46387 | W20: =+_xlfn.DAYS(V20,U20) -> 274 | AA20: Demoras en la asignación del subsidio de mejoramiento de vivienda debido a que los potenciales beneficiarios no entregan la documentación requerida a tiempo. | AB20: Coordinación de las áreas involucradas para recolectar la documentación según los plazos establecidos. | AC20: SI | AD20: Apoyo logístico para la ejecución de eventos realizados en el marco de los programas misionales, así como el plan de bienestar y diseño de elementos litográficos, distintivos y promocionales y servicio de pautas publicitarias, avisos y notificaciones en medios de comunicación del fondo de vivienda de interés social y reforma urbana de Cartagena - Corvivienda | AE20: 108510805 | AF20: Selección abreviada menor cuantía | AG20: Recursos propios | AH20: ABRIL 2026 | AK20: 18000000 | AL20: 1.3.2.3.11-207 - RF CORVIVIENDA | AR20: 10000000 | AT20: 0
K21: Viaticos para el desarrollo de la oferta institucional de mejoramientos de vivienda en la Zona Insular Lejana del Distrito de Cartagena de Indias (Isla Fuerte, Isla Mucura y Santa Cruz del Islote) | M21: Viaticos | N21: 1 | O21: 0 | U21: 46054 | V21: 46265 | W21: =+_xlfn.DAYS(V21,U21) -> 211 | AA21: Baja participación de empresas calificadas en licitaciones públicas | AB21: Seguimiento y verificación a las Actividades desarrolladas en las etapas precontractual y contractual | AC21: SI | AD21: Prestación del servicio de transporte terrestre especial automotor de pasajeros y carga, necesario para el desplazamiento de funcionarios y colaboradores, así como la movilización de insumos y equipos, para apoyar el desarrollo de las funciones misionales y administrativas del fondo de vivienda de interés social y reforma urbana distrital | AE21: 162766208 | AF21: Licitación pública | AG21: Recursos propios | AH21: ENERO 2026 | AK21: 50000000000 | AL21: 1.3.1.1.05.238-Crédito Interno Banco de Bogotá 2
K22: Servicios profesionales y de apoyo a la gestión para la ejecución del programa mi casa avanza | L22: EQUIDAD DE LA MUJER | M22: Servicios profesionales y de apoyo a la gestión contratados | N22: 26 | O22: 38 | P22: 0 | S22: =SUM(O22:P22) -> 38 | T22: 1 | U22: 46047 | V22: 46356 | W22: =+_xlfn.DAYS(V22,U22) -> 309 | AA22: Deficiencias en la calidad de los mejoramientos realizados. | AB22: Ejercer supervisión, interventoría y exigir garantías de desempeño y calidad por parte de los contratistas. | AC22: SI | AD22: Contratar el diagnóstico y ejecución de las obras de mejoramiento de vivienda por asignación de subsidios familiar, destinados a la población priorizada del Distrito de Cartagena de Indias en el marco del programa MI CASA AVANZA | AE22: 3928091145 | AF22: Licitación pública (Obra pública) | AG22: Recursos propios | AH22: ENERO 2026 | AI22: 18000000 | AJ22: 18000000 | AK22: 5.1856832e+09 | AL22: 1.3.3.2.00-95-039 – RB IPU 14% CORVIVIENDA
AA23: Incumplimiento de los tiempos estipulados para la ejecución de obras de mejoramiento | AB23: Establecer un cronograma detallado con hitos específicos y realizar un seguimiento continuo del progreso del proyecto. | AC23: SI | AD23: Contratar la interventoría para la ejecución de las obras de mejoramiento de vivienda por asignación de subsidios familiar, destinados a la población priorizada del Distrito de Cartagena de Indias en el marco del programa MI CASA AVANZA | AE23: 379787818 | AF23: Concurso de méritos abierto | AG23: Recursos propios | AH23: ENERO 2026 | AK23: 6.7003633e+09 | AL23: 1.3.3.2.00-94-039 Rb IPU 15% Corvivienda
B24: Avance Proyecto Mejoramiento de viviendas para la población priorizada del Programa “Mi Casa Avanza” del Distrito de Cartagena de Indias | T24: =AVERAGE(T19:T23) -> 0.52027717 | AI24: =SUM(AI19:AI23) -> 5425540256 | AJ24: =SUM(AJ19:AJ23) -> 6425540256 | AK24: =SUM(AK19:AK23) -> 6.8311587e+10 | AN24: =SUM(AN19) -> 997802190 | AO24: =+AN24/AJ24 -> 0.15528689 | AP24: =SUM(AP19) -> 218300000 | AQ24: =+AP24/AJ24 -> 0.033973797 | AR24: =SUM(AR19:AR23) -> 5.856232e+09 | AS24: =+AR24/AK24 -> 0.085728239 | AT24: =SUM(AT19:AT23) -> 1.1039952e+09 | AU24: =+AT24/AK24 -> 0.016161171
A25: ND | B25: MI CASA CON PROPIEDAD | C25: 37623 | D25: Titular o legalizar mil quinientos once (1.511) predios | E25: Titulación de Predios para la población priorizada del Programa “Mi Casa con Propiedad” del Distrito de Cartagena de Indias | F25: 2024130010014 | G25: Reducir el déficit de legalización y/o titulación de predios en el Distrito de Cartagena de Indias. | H25: Implementar las herramientas y mecanismos legales que permitan la titulación de predios a favor del Distrito de Cartagena de Indias. | I25: Servicio de asistencia técnica y jurídica en saneamiento y titulación de predios | J25: 1 | K25: Cancelación de pagos de facturas por gastos notariales, oficina de registro de instrumentos públicos, gobernación, valorización e impuesto predial | M25: Facturas | N25: 3 | O25: 0 | P25: 2 | S25: =SUM(O25:P25) -> 2 | T25: =+S25/N25 -> 0.66666667 | U25: 46054 | V25: 46327 | W25: =+_xlfn.DAYS(V25,U25) -> 273 | X25: =1511*3 -> 4533 | Y25: UCG 1 UCG 2 UCG 3 UCG 4 UCG 5 UCG 6 UCG 7 UCG 8 UCG 9 UCG 10 UCG 11 UCG 12 UCG 13 UCG 14 UCG 15 | Z25: Luis Morillo Sanchez | AA25: Insuficiencia de ingresos esperados durante la vigencia 2024-2027 | AB25: Gestionar recursos distritales, nacionales e internacionales con empresas públicas y privadas para la asignación de subsidios de vivienda nueva. | AC25: SI | AD25: Contratar la prestacion de Servicios profesionales y de apoyo a la gestión para la asistencia técnica y jurídica del Programa Mi Casa con Propiedad | AE25: 779619993 | AF25: Contratación directa. | AG25: Recursos propios | AH25: ENERO 2026 | AI25: 1054966161 | AJ25: 1054966161 | AK25: 1054966161 | AL25: 1.2.2.0.00-039 - ICDE-CORVIVIENDA 14% IPU | AM25: TITULACIÓN DE PREDIOS PARA LA POBLACIÓN PRIORIZADA DEL PROGRAMA MI CASA CON PROPIEDAD DEL DISTRITO DE CARTAGENA DE INDIAS 2.3.4001.1400.2024130010014 | AN25: 867148000 | AP25: 181300000 | AR25: 882505480 | AT25: 600505480
K26: Gestión integral de logística y transporte terrestre para el desarrollo de la oferta institucional del programa mi casa con propiedad | M26: Contrato de apoyo logístico y transporte | N26: 2 | O26: 1 | P26: 0 | S26: =SUM(O26:P26) -> 1 | T26: =+S26/N26 -> 0.5 | U26: 46113 | V26: 46387 | W26: =+_xlfn.DAYS(V26,U26) -> 274 | AA26: Retraso en el registro y entrega de títulos de propiedad radicados en la ORIP | AB26: Surtir el convenio establecido entre Corvivienda y la ORIP para la agilización de trámites. | AC26: SI
K27: Servicios profesionales y de apoyo a la gestión para la asistencia técnica y jurídica del programa mi casa con propiedad | L27: EQUIDAD DE LA MUJER | M27: Servicios profesionales y de apoyo a la gestión contratados | N27: 30 | O27: 36 | P27: 1 | S27: =SUM(O27:P27) -> 37 | T27: 1 | U27: 46047 | V27: 46356 | W27: =+_xlfn.DAYS(V27,U27) -> 309 | AA27: Modificación de la información verídica de los terrenos y perjuicio para las personas que poseen la propiedad de estos. | AB27: Verificación y actualización de la información catastral, con la participación activa de los poseedores y una supervisión directa del trabajo en campo. | AC27: SI | AD27: Prestación del servicio de transporte terrestre especial automotor de pasajeros y carga, necesario para el desplazamiento de funcionarios y colaboradores, así como la movilización de insumos y equipos, para apoyar el desarrollo de las funciones misionales y adminsitrativas del fondo de vivienda de interés social y reforma urbana distrital | AE27: 52748308 | AF27: Licitación pública | AG27: Recursos propios | AH27: ENERO 2026
K28: Cancelación de pagos de facturas de servicios públicos correspondientes a viviendas ubicadas en los proyectos de vivienda a cargo de Corvivienda | M28: Servicios profesionales contratados | N28: 1 | O28: 1 | P28: 0 | S28: =SUM(O28:P28) -> 1 | T28: =+S28/N28 -> 1 | U28: 46054 | V28: 46327 | W28: =+_xlfn.DAYS(V28,U28) -> 273 | AD28: Apoyo logístico para la ejecución de eventos realizados en el marco de los programas misionales, así como el plan de bienestar y diseño de elementos litográficos, distintivos y promocionales y servicio de pautas publicitarias, avisos y notificaciones en medios de comunicación del fondo de vivienda de interés social y reforma urbana de Cartagena - Corvivienda | AE28: 84397293 | AF28: Selección abreviada menor cuantía | AG28: Recursos propios | AH28: ABRIL 2026 | AK28: 257369275 | AL28: 1.3.3.2.00-95-039 – RB IPU 14% CORVIVIENDA
K29: Pago de honorarios por servicios profesionales prestados dentro de procesos judiciales | M29: Servicios profesionales contratados | N29: 1 | O29: 0 | P29: 1 | S29: =SUM(O29:P29) -> 1 | T29: =+S29/N29 -> 1
K30: Contratar la adquisición de elementos derivados del papel y útiles de oficina para el desarrollo de la oferta institucional del programa Mi Casa Con Propiedad | M30: Contrato de papelería | N30: 1 | O30: 0 | P30: 0 | S30: =SUM(O30:P30) -> 0 | T30: =+S30/N30 -> 0 | U30: 46054 | V30: 46142 | W30: =+_xlfn.DAYS(V30,U30) -> 88 | AA30: Errores en los trámites de titulación de predios | AB30: Contratación de personal idóneo para los procedimientos. | AC30: SI | AD30: Contratar la adquisición elementos derivados del papel, consumibles de impresión y útiles de oficina para fondo de vivienda de interés social y reforma urbana del distrito de Cartagena - Corvivienda. | AE30: 31648985 | AF30: Selección abreviada subasta inversa | AG30: Recursos propios | AH30: FEBRERO 2026
B31: Avance Proyecto Titulación de Predios para la población priorizada del Programa “Mi Casa con Propiedad” del Distrito de Cartagena de Indias | T31: =AVERAGE(T25:T30) -> 0.69444444 | AI31: =SUM(AI25) -> 1054966161 | AJ31: =SUM(AJ25:AJ30) -> 1054966161 | AK31: =+AK28+AK25 -> 1312335436 | AN31: =SUM(AN25) -> 867148000 | AO31: =+AN31/AJ31 -> 0.8219676 | AP31: =SUM(AP25) -> 181300000 | AQ31: =+AP31/AJ31 -> 0.17185385 | AR31: =+AR28+AR25 -> 882505480 | AS31: =+AR31/AK31 -> 0.67246944 | AT31: =+AT28+AT25 -> 600505480 | AU31: =+AT31/AK31 -> 0.45758536
A32: ND | B32: MI TERRITORIO EN ORDEN | C32: 37988 | D32: Elaborar un (1) Documento Técnico de Soporte para la solicitud de legalización de hectáreas en el asentamiento humano priorizado del Distrito | E32: Desarrollo del Programa "Mi Territorio en Orden" para el mejoramiento del hábitat en el Distrito de Cartagena de Indias | F32: 2024130010017 | G32: Realizar estudios, documentos técnicos y servicios de información especializados en el sector vivienda en Distrito de Cartagena de Indias | H32: Realizar solicitud de legalización urbanística de barrios informales. | I32: Documentos de planeación | J32: 0.5 | K32: Contratar labores topográficas como insumo preliminar para el proceso de legalización urbanística en los sectores priorizados de la ciudad de Cartagena. | M32: Contrato de labores topográficas | N32: 1 | O32: 0 | P32: 0 | S32: =SUM(O32:R32) -> 0 | T32: =+S32/N32 -> 0 | U32: 46054 | V32: 46356 | W32: =+_xlfn.DAYS(V32,U32) -> 302 | X32: 1059626 | Y32: UCG 1 UCG 2 UCG 3 UCG 4 UCG 5 UCG 6 UCG 7 UCG 8 UCG 9 UCG 10 UCG 11 UCG 12 UCG 13 UCG 14 UCG 15 | Z32: Veronica Garcia Nieves | AA32: Cambios en la normatividad nacional y local en lo referente a estudios técnicos para el ordenamiento territorial | AB32: Subsanación y aplicación de nueva normatividad. | AC32: SI | AD32: Contratar la realizacion de labores topograficas como insumo previo para el procedimiento de legalizacion urbanistica de los sectores priorizadas de la ciudad de cartagena en el marco del programa mi territorio en orden. | AE32: 314982754 | AF32: Selección abreviada menor cuantía | AG32: Recursos propios | AH32: ENERO 2026 | AI32: 1657803967 | AJ32: 1657803967 | AK32: 1657803967 | AL32: 1.2.2.0.00-039 - ICDE-CORVIVIENDA 14% IPU | AM32: DESARROLLO DEL PROGRAMA MI TERRITORIO EN ORDEN PARA EL MEJORAMIENTO DEL HÁBITAT EN EL DISTRITO DE CARTAGENA DE INDIAS 2.3.4001.1400.2024130010017 | AN32: 1152956000 | AP32: 226400000 | AR32: 1185056000 | AT32: 773156000
K33: Gestión integral de logística y transporte terrestre para el desarrollo de la oferta institucional del programa mi territorio en orden | M33: Contrato de apoyo logístico y transporte | N33: 2 | O33: 1 | P33: 0 | S33: =SUM(O33:R33) -> 1 | T33: =+S33/N33 -> 0.5 | U33: 46113 | V33: 46387 | W33: =+_xlfn.DAYS(V33,U33) -> 274 | AA33: Demoras de la Secretaría de Planeación Distrital en la priorización de barrios que han solicitado iniciación de proceso de Legalización Urbanística. | AB33: Coordinación de las áreas involucradas para priorizar los barrios no regularizados los plazos establecidos. | AC33: SI | AD33: Contratar la prestación de Servicios profesionales y de apoyo a la gestión para la ejecución del Programa Mi Territorio en Orden - Legalización Urbanística de Barrios | AE33: 994682380 | AF33: Contratación directa. | AG33: Recursos propios | AH33: ENERO 2026
K34: Contratar la adquisición de elementos derivados del papel y útiles de oficina para el desarrollo de la oferta institucional del programa Mi Territorio en Orden | M34: Contrato de papelería | N34: 1 | O34: 0 | P34: 0 | S34: =SUM(O34:R34) -> 0 | T34: =+S34/N34 -> 0 | U34: 46054 | V34: 46142 | W34: =+_xlfn.DAYS(V34,U34) -> 88 | AE34: 49734119 | AF34: Selección abreviada subasta inversa | AG34: Recursos propios | AH34: FEBRERO 2026
K35: Servicios profesionales y de apoyo a la gestión para la ejecución del programa mi territorio en orden - legalización urbanística de barrios | L35: EQUIDAD DE LA MUJER | M35: Servicios profesionales y de apoyo a la gestión contratados | N35: 24 | O35: 46 | P35: 2 | S35: =SUM(O35:R35) -> 48 | T35: 1 | U35: 46047 | V35: 46356 | W35: =+_xlfn.DAYS(V35,U35) -> 309 | AC35: SI | AD35: Prestación del servicio de transporte terrestre especial automotor de pasajeros y carga, necesario para el desplazamiento de funcionarios y colaboradores, así como la movilización de insumos y equipos, para apoyar el desarrollo de las funciones misionales y adminsitrativas del fondo de vivienda de interés social y reforma urbana distrital | AE35: 33156080 | AF35: Licitación pública | AG35: Recursos propios | AH35: ENERO 2026
