Workbook
Name CDP: [1]!Tabla3[CDP]
Name CDPPROYECTO: [1]!Tabla3[PROYECTO]
Name CODIGO: [1]!Tabla2[CÓDIGO DE PROYECTO BPIN]
Name estado: [1]!Tabla7[Estado]
Name Frecuencia: [1]!Tabla6[Frecuencia]
Name PROYECTO: [1]!Tabla2[PROYECTO DE INVERSIÓN]
Name PROYECTOS: [1]!Tabla2[PROYECTO DE INVERSIÓN]
Name RP: [1]!Tabla5[RP]

Sheet INSTRUCTIVO
A1: INSTRUCTIVO PARA EL DILIGENCIAMIENTO DEL PLAN DE ACCIÓN INSTITUCIONAL VIGENCIA 2024
A2: PLANTEAMIENTO ESTRATÉGICO PLAN DE ACCIÓN INSTITUCIONAL (Hoja 1)
A3: OBJETIVO DE DESARROLLO SOSTENIBLE | B3: Ingrese en esta casilla el ODS con el que se articula el programa de su competencia según el Acuerdo 139 que adopta el Plan de Desarrollo Distrital 2024-2027 'Cartagena, Ciudad de Derechos'.
A4: OBJETIVO ESTRATÉGICO | B4: Ingrese en esta casilla el objetivo estratégico definido en la plataforma estratégica, relacionado con su proceso y con la línea estratégica en la cual el Acuerdo 139 del 2024 le asignó su responsabilidad.
A5: LINEA ESTRATÉGICA | B5: Ingrese en esta casilla la línea estratégica correspondiente al programa de su competencia según el Acuerdo 139 que adopta el Plan de Desarrollo Distrital 2024-2027 'Cartagena, Ciudad de Derechos'.
A6: IMPULSOR DE AVANCE | B6: Ingrese en esta casilla el impulsor de avance que facilita el logro del objetivo del programa de su competencia según el Acuerdo 139 que adopta el Plan de Desarrollo Distrital 2024-2027 'Cartagena, Ciudad de Derechos'.
A7: META DE RESULTADO | B7: Ingrese en esta casilla la meta de resultado esperada del programa de su competencia según el Acuerdo 139 que adopta el Plan de Desarrollo Distrital 2024-2027 'Cartagena, Ciudad de Derechos'.
A8: PROGRAMA | B8: Ingrese en esta casilla el nombre de los programas de su competencia según el Acuerdo 139 que adopta el Plan de Desarrollo Distrital 2024-2027 'Cartagena, Ciudad de Derechos' (revise e incorpore los programas del Capítulo de los Pueblos y Comunidades Étnicas donde tienen compromisos, así como sus metas compartidas con otras dependencias).
A9: CÓDIGO DE PROGRAMA | B9: Ingrese en esta casilla el código del programa establecido en el Plan Operativo Anual de Inversiones.
A10: INDICADOR DE PRODUCTO SEGÚN PDD | B10: Ingrese en este casilla el indicador definido para cumplir la meta de producto en el Plan de Desarrollo según el Acuerdo 139 que adopta el Plan de Desarrollo Distrital 2024-2027 'Cartagena, Ciudad de Derechos'
A11: UNIDAD DE MEDIDA DEL INDICADOR DE PRODUCTO | B11: Ingrese en esta casilla la expresion fisica con la que se mostrará el resultado de la meta propuesta. (Ejemplo: número, porcentaje, kilometro).
A12: LINEA BASE SEGUN PDD | B12: Ingrese en esta casilla el valor que se encuentra en el Acuerdo 139 que adopta el Plan de Desarrollo Distrital 2024-2027 'Cartagena, Ciudad de Derechos', como el punto de partida para definir el alcance de la meta producto.
A13: DESCRIPCION DE LA META PRODUCTO 2024-2027 | B13: Ingrese en esta casilla lo que persigue el indicador en el cuatrenio, se encuentra plasmado en el Acuerdo 139 que adopta el Plan de Desarrollo Distrital 2024-2027 'Cartagena, Ciudad de Derechos'
A14: PONDERACION DE LA META PRODUCTO | B14: Ingrese en esta casilla el valor porcentual asignado a la meta producto
... A18: PROGRAMACIÓN META PRODUCTO A 2024 | B18: Ingrese en esta casilla, la cantidad de la meta propuesta para la actual vigencia, relacionada con el Plan Indicativo.
A20: GESTIÓN ADMINISTRATIVA MIPG (Hoja 2)
A21: El objetivo principal del Modelo Integrado de Planeación y Gestión - MIPG es dinamizar la gestión de las organizaciones públicas para generar bienes y servicios que resuelvan efectivamente las necesidades de la ciudadanía en el marco de la integralidad y la legalidad y la promoción de acciones que contribuyan a la lucha contra la corrupcion. Por lo que el principal beneficio del actual Modelo Integrado de Planeación y Gestión - MIPG es su contribución al fortalecimiento de las capacidades de las organizaciones, ya que se focaliza en las prácticas y procesos clave que ellas adelantan para convertir insumos en resultados, apuntando a transformar el Estado Colombiano, de un Estado legislativo a un Estado prestador de servicios. En relacion a lo anterior pretendemos que se identifique desde su dependencia como se relaciona el trabajo que se efectua para lograr lo propuesto.
A22: META DE RESULTADO | B22: Ingrese en esta casilla la meta de resultado esperada del programa de su competencia según el Acuerdo 139 que adopta el Plan de Desarrollo Distrital 2024-2027 'Cartagena, Ciudad de Derechos'.
A23: DIMENSIONES DE MIPG | B23: Ingrese en esta casilla la dimensión identificada: Definir desde la competencia de la dependencia y sus procesos con que dimensión se identifican de las 7 que componen el modelo. Como son: 1. Talento Humano 2. Direccionamiento Estrategico 3. Gestion con Valores por Resultados 4. Evaluacion de Resultados 5. Informacion y Comunicación 6. Gestion del Conocimiento 7. Control Interno
A24: POLÍTICAS DE GESTIÓN Y DESEMPEÑO INSTITUCIONAL | B24: Relacione en esta casilla la política de gestión y desempeño institucional alineada a su proceso (Éstas se ubican en una de las siete dimensiones de MIPG y las 19 políticas)
A25: PROCESO ASOCIADO A PROGRAMA Y PRODUCTO | B25: Relacione en esta casilla el proceso de gestión asociado al programa y al producto (Identifique el proceso de su competencia en el mapa de interrelacion de procesos alineado con su dependencia).
A26: SUBPROCESO ASOCIADO | B26: Relacione en esta casilla el subproceso de su competencia (Identifique esto en el mapa de interrelación de procesos).
A27: OBJETIVO DEL SUBPROCESO | B27: Descripcion del objetivo del subproceso al cual pertenece
A28: NOMBRE DEL INDICADOR | B28: Ingrese en esta casilla el nombre del indicador asociado a los objetivos estratégicos de la entidad, de acuerdo al proceso o subproceso de su competencia.
A29: PROPÓSITO | B29: Describa en esta casilla la meta que espera lograr a partir del indicador mencionado en la casilla anterior.
A30: FRECUENCIA | B30: Describa en esta casilla la frecuencia con la que se hará el reporte.
A31: TIPO DE INDICADOR | B31: Describa en esta casilla el tipo de indicador relacionado, según su naturaleza (eficiencia, eficaz, efectividad, etc).
A32: GRUPOS DE VALOR | B32: Defina en esta casilla con una X a qué grupo de valor pertenece, ya sea entidades, ciudadanía, servidores-interno.
A33: PLANES DECRETO 612 DE 2018 | B33: Indique a cuál Plan Institucional, de los establecidos en el Decreto 612 del 2018, le aporta este producto.
A34: POLÍTICA DE ADMINISTRACION DE RIESGOS
A35: “Establece los lineamientos y parámetros en la Alcaldía Mayor de Cartagena de Indias para la identificación, análisis, evaluación, tratamiento, monitoreo, revisión, valoración, comunicación, consulta y seguimiento de los riesgos a los que se expone y pueden afectar el cumplimiento de los objetivos institucionales en el marco de los procesos, planes y proyectos de la entidad debido a eventos potenciales y que pueden llevar a la posibilidad de incurrir en pérdidas o afectaciones a nivel económico o reputaciones por deficiencias, fallas o inadecuaciones, en el recurso humano, procesos, tecnología, infraestructura o por la ocurrencia de acontecimientos externos.”
A36: RIESGOS ASOCIADOS AL PROCESO | B36: Ingrese en esta casilla cada uno de los riesgos identificados en el proceso definido, y desarrollado en la caracterización de la gestión por proceso
A37: CONTROLES ESTABLECIDOS PARA LOS RIESGOS | B37: Ingrese en esta casilla cada uno de los controles formulados para cada riesgo identificado en el proceso definido
A39: PLAN DE ACCION - INVERSIÓN (Hoja 3)
A40: PROYECTO DE INVERSIÓN | B40: Ingrese en esta casilla el nombre del proyecto a partir del cual se desarrollará el programa con el que se articula.
A41: CÓDIGO DE PROYECTO BPIN | B41: Ingrese en esta casilla el número BPIN del proyecto a partir del cual se desarrollará el programa con el que se articula.
A42: OBJETIVO GENERAL DEL PROYECTO | B42: Ingrese en esta casilla el fin general del proyecto a partir del cual se desarrollará el programa con el que se articula.
A43: OBJETIVO ESPECÍFICO DEL PROYECTO | B43: Ingrese en esta casilla el objetivo específico asociado al objetivo general diligenciado en la casilla anterior.
A44: PRODUCTO DEL PROYECTO | B44: Ingrese en esta casilla el producto que materializa el objetivo específico relacionado en la casilla anterior.
A45: PONDERACIÓN DE PRODUCTO | B45: Ingrese en esta casilla la ponderacion asignada al producto en cuestión.
...

Sheet 1. ESTRATÉGICO
C1: ALCALDIA DISTRITAL DE CARTAGENA DE INDIAS | AG1: Código: PTDGI01-F001
C2: MACROPROCESO: PLANEACIÓN TERRITORIAL Y DIRECCIONAMIENTO ESTRATEGICO | AG2: Versión: 1.0
C3: PROCESO / SUBPROCESO: GESTIÓN DE LA INVERSIÓN PUBLICA / GESTIÓN DEL PLAN DE DESARROLLO Y SUS INSTRUMENTOS DE EJECUCIÓN | AG3: Fecha: 16/07/2024
C4: FORMATO PLAN DE ACCIÓN INSTITUCIONAL | AG4: Página: 1 de 3
A5: DEPENDENCIA:
A6: PLANTEAMIENTO ESTRATÉGICO- PLAN DE DESARROLLO
A8: DATOS GENERALES | P8: PROGRAMACIÓN META PRODUCTO | T8: ACUMULADOS | Y8: REPORTES META PRODUCTO | AC8: AVANCES Y RESULTADOS
A9: OBJETIVO DE DESARROLLO SOSTENIBLE | B9: OBJETIVO ESTRATÉGICO | C9: LÍNEA ESTRATÉGICA | D9: IMPULSOR DE AVANCE | E9: META RESULTADO | F9: PROGRAMA | G9: CÓDIGO DE PROGRAMA | H9: INDICADOR DE PRODUCTO SEGÚN PDD | I9: UNIDAD DE MEDIDA DEL INDICADOR DE PRODUCTO | J9: LÍNEA BASE SEGUN PDD | K9: DESCRIPCIÓN DE LA META PRODUCTO 2024-2027 | L9: PONDERACIÓN DE LA META PRODUCTO | M9: DENOMINACIÓN DEL PRODUCTO | N9: ENTREGABLE INDICADOR DE PRODUCTO SEGÚN CATALOGO DE PRODUCTO | O9: VALOR DE LA META PRODUCTO 2024-2027 | P9: PROGRAMACIÓN META PRODUCTO 2024 | Q9: PROGRAMACIÓN META PRODUCTO 2025 | R9: PROGRAMACIÓN META PRODUCTO 2026 | S9: PROGRAMACIÓN META PRODUCTO 2027 | T9: ACUMULADO 2024 | U9: ACUMULADO 2025 | V9: ACUMULADO 2026 | W9: ACUMULADO 2027 | X9: ACUMULADO CUATRIENIO | Y9: REPORTE META PRODUCTO DE MARZO 2026 | Z9: REPORTE META PRODUCTO DE JUNIO 2026 | AA9: REPORTE META PRODUCTO DE JULIO A 30 DE SEPTIEMBRE DE 2026 | AB9: REPORTE META PRODUCTO DE SEPTIEMBRE A 31 DE DICIEMBRE 2026 | AC9: AVANCE META PRODUCTO AL AÑO CON PONDERACION | AD9: AVANCE META PRODUCTO AL CUATRIENIO | AE9: AVANCE META PRODUCTO AL AÑO PROMEDIO SIMPLE | AF9: AVANCE META PRODUCTO AL CUATRIENIO
A10: 9. Industria, innovación e infraestructura 11. Ciudades y comunidades sostenibles | B10: Dignificar la vida de los habitantes del Distrito de Cartagena de Indias, reducir la pobreza multidimensional, el déficit habitacional, y ampliar la cobertura del saneamiento básico, a través de la implementación de estrategias integrales focalizadas en el fortalecimiento de la infraestructura educativa, en el fomento de las condiciones habitacionales adecuada y en el acceso de calidad de los servicios públicos, garantizando una vida digna para toda la población, durante el período de gobierno 2024-2027. | C10: Vida Digna | D10: Artes, Cultura y Patrimonio | E10: Incrementar a 35% el porcentaje de usuarios participantes en procesos de promoción de lectura en las bibliotecas del Distrito | F10: ESCENARIOS CULTURALES VIVOS PARA TRANSFORMAR | G10: 02-03-01 | H10: Número de bibliotecas dotadas y en funcionamiento | I10: Número | J10: 18 bibliotecas existentes en la red distrital | K10: Dotar de mobiliario y equipo y mantener en funcionamiento dieciocho (18) bibliotecas | L10: 0.05 | M10: Servicio | N10: Bibliotecas adecuadas | O10: 18 | Q10: 18 | R10: 18 | S10: 18 | T10: 2 | U10: 28 | V10: =Y10+Z10+AA10+AB10 -> 17 | X10: =+T10+U10+V10+W10 -> 47 | Y10: 17 | Z10: 0 | AC10: =+(V10/R10)*L10 -> 0.047222222 | AD10: =+(X10/O10)*L10 -> 0.13055556 | AE10: =+V10/R10 -> 0.94444444 | AF10: =+(T10/18)+((U10/(18*4))) -> 0.5
C11: Vida Digna | D11: Artes, Cultura y Patrimonio | E11: Incrementar a 35% el porcentaje de usuarios participantes en procesos de promoción de lectura en las bibliotecas del Distrito | F11: ESCENARIOS CULTURALES VIVOS PARA TRANSFORMAR | G11: 02-03-01 | H11: Número de infraestructuras culturales mejoradas, adecuadas y/o dotadas | I11: Número | J11: 21 obras de infraestructura cultural construidas, mejoradas, adecuadas y/o dotadas a corte 2023 | K11: Mejorar, adecuar y/o dotar treinta y cuatro (34) infraestructuras culturales accesibles, inclusivas y diversas | L11: 0.15 | M11: Servicio | N11: Infraestructuras culturales dotadas | O11: 34 | Q11: 34 | R11: 19 | S11: 19 | T11: 34 | U11: 30 | V11: =Y11+Z11+AA11+AB11 -> 5 | X11: =+T11+U11+V11+W11 -> 69 | Y11: 1 | Z11: 4 | AC11: =+(V11/R11)*L11 -> 0.039473684 | AD11: =+(X11/O11)*L11 -> 0.30441176 | AE11: =+V11/R11 -> 0.26315789 | AF11: =+(T11)/(O11*4)+ ((U11)/(34*4)) -> 0.47058824 | AI11: Bien
C12: Vida Digna | D12: Artes, Cultura y Patrimonio | E12: Incrementar a 35% el porcentaje de usuarios participantes en procesos de promoción de lectura en las bibliotecas del Distrito | F12: ESCENARIOS CULTURALES VIVOS PARA TRANSFORMAR | G12: 02-03-01 | H12: Número de personas con acceso efectivo a procesos de lenguaje, lectura, escritura y oralidad | I12: Número | J12: 266.138 personas con acceso efectivo a procesos de lenguaje, lectura, escritura y oralidad a corte 2023 | K12: Vincular a trescientas seis mil cincuenta y nueve (306.059) personas de manera efectiva a los procesos de lenguaje, lectura, escritura y oralidad | L12: 0.2 | M12: Servicio | N12: Personas beneficiadas | O12: 306059 | Q12: 88693 | R12: 65498.5 | S12: 65498.5 | T12: 47985 | U12: 127077 | V12: =Y12+Z12+AA12+AB12 -> 94680 | X12: =+T12+U12+V12+W12 -> 269742 | Y12: 35351 | Z12: 59329 | AC12: =+(V12/R12)*L12 -> 0.28910586 | AD12: =+(X12/O12)*L12 -> 0.17626797 | AE12: =+V12/R12 -> 1.4455293 | AF12: =+X12/O12 -> 0.88133987 | AI12: Servicio
C13: Vida Digna | D13: Artes, Cultura y Patrimonio | E13: Incrementar a 35% el porcentaje de usuarios participantes en procesos de promoción de lectura en las bibliotecas del Distrito | F13: ESCENARIOS CULTURALES VIVOS PARA TRANSFORMAR | G13: 02-03-01 | H13: Número de actividades de extensión bibliotecaria implementadas | I13: Número | J13: 912 actividades de extensión bibliotecaria a corte 2023 | K13: Implementar mil ochocientas (1.800) actividades de extensión bibliotecaria | L13: 0.15 | M13: Servicio | N13: Usuarios atendidos | O13: 1800 | Q13: 1800 | R13: 840 | S13: 840 | T13: 15168 | U13: 1533 | V13: =Y13+Z13+AA13+AB13 -> 257 | X13: =+T13+U13+V13+W13 -> 16958 | Y13: 85 | Z13: 172 | AC13: =+(V13/R13)*L13 -> 0.045892857 | AD13: 0.15 | AE13: =+V13/R13 -> 0.30595238 | AF13: 0.135
C14: Vida Digna | D14: Artes, Cultura y Patrimonio | E14: Incrementar a 35% el porcentaje de usuarios participantes en procesos de promoción de lectura en las bibliotecas del Distrito | F14: ESCENARIOS CULTURALES VIVOS PARA TRANSFORMAR | G14: 02-03-01 | H14: Plan de Fortalecimiento para la Consolidación de la Red de Bibliotecas Distritales formulado | I14: Número | J14: 1 red de bibliotecas públicas y comunitarias en el Distrito | K14: Formular e implementar un (1) Plan de Fortalecimiento para la Consolidación de la Red de Bibliotecas Distritales | L14: 0.1 | M14: Bien | N14: Documentos de planeación realizados | O14: 1 | Q14: 0.3 | R14: 0.25 | S14: 0.25 | T14: 0.2 | U14: 1 | V14: =Y14+Z14+AA14+AB14 -> 0.2279375 | X14: =+T14+U14+V14+W14 -> 1.4279375 | Y14: 0.13 | Z14: 0.0979375 | AC14: =+(V14/R14)*L14 -> 0.091175 | AD14: =+(X14/O14)*L14 -> 0.14279375 | AE14: =+V14/R14 -> 0.91175 | AF14: 1
C15: Vida Digna | D15: Artes, Cultura y Patrimonio | E15: Incrementar a 35% el porcentaje de usuarios participantes en procesos de promoción de lectura en las bibliotecas del Distrito | F15: ESCENARIOS CULTURALES VIVOS PARA TRANSFORMAR | G15: 02-03-01 | H15: Plan de Fortalecimiento para la Red de Museos Distrital diseñado e implementado | I15: Número | J15: 0 | K15: Diseñar e implementar un (1) Plan de Fortalecimiento para la Red de Museos Distrital | L15: 0.1 | M15: Bien | N15: Documentos de planeación realizados | O15: 1 | Q15: 0.3 | R15: 0.25 | S15: 0.25 | T15: 0.2 | U15: 1 | V15: =Y15+Z15+AA15+AB15 -> 0.2279375 | X15: =+T15+U15+V15+W15 -> 1.4279375 | Y15: 0.13 | Z15: 0.0979375 | AC15: =+(V15/R15)*L15 -> 0.091175 | AD15: =+(X15/O15)*L15 -> 0.14279375 | AE15: =+V15/R15 -> 0.91175 | AF15: 1
C16: Vida Digna | D16: Artes, Cultura y Patrimonio | E16: Incrementar a 35% el porcentaje de usuarios participantes en procesos de promoción de lectura en las bibliotecas del Distrito | F16: ESCENARIOS CULTURALES VIVOS PARA TRANSFORMAR | G16: 02-03-01 | H16: Plan de Fortalecimiento para la Red de Museos Distrital diseñado e implementado | I16: Número | J16: 0 | K16: Construir y dotar dos (2) infraestructuras culturales accequibles, inclusivas ny diversas | L16: 0.05 | M16: Bien | N16: Documentos de planeación realizados | O16: 2 | Q16: 1 | R16: 0 | S16: 0 | T16: 0 | U16: 0.625 | V16: =Y16+Z16+AA16+AB16 -> 0 | X16: =+T16+U16+V16+W16 -> 0.625 | Y16: 0 | Z16: 0 | AD16: =+(X16/O16)*L16 -> 0.015625 | AF16: =+X16/O16 -> 0.3125
C17: Vida Digna | D17: Artes, Cultura y Patrimonio | E17: Incrementar a 35% el porcentaje de usuarios participantes en procesos de promoción de lectura en las bibliotecas del Distrito | F17: ESCENARIOS CULTURALES VIVOS PARA TRANSFORMAR | G17: 02-03-01 | H17: Número de estrategias de aprovechamiento en espacios culturales implementadas | I17: Número | J17: 21 espacios culturales promovidos y aprovechados a corte 2023 | K17: Implementar estrategias de aprovechamiento en treinta y cuatro (34) espacios culturales (creación, divulgación, producción y difusión) | L17: 0.2 | M17: Servicio | N17: Eventos de promoción de actividades culturales realizados | O17: 34 | Q17: 34 | R17: 19 | S17: 19 | T17: 34 | U17: 44 | V17: =Y17+Z17+AA17+AB17 -> 73.8 | X17: =+T17+U17+V17+W17 -> 151.8 | Y17: 8.8 | Z17: 65 | AC17: =+(V17/R17)*L17 -> 0.77684211 | AD17: =+(X17/O17)*L17 -> 0.89294118 | AE17: =+V17/R17 -> 3.8842105 | AF17: =+X17/136 -> 1.1161765 | AG17: Los valores reportados no corresponden exclusivamente al número de infraestructuras físicas diferentes, sino a las implementaciones de estrategias de aprovechamiento desarrolladas en los espacios culturales durante cada periodo. En consecuencia, una misma infraestructura puede contabilizarse en más de una oportunidad cuando en ella se ejecutan estrategias diferenciadas, nuevas activaciones o acciones correspondientes a periodos distintos. Esta metodología responde a que el aprovechamiento de una infraestructura cultural no se agota con su inclusión inicial en el reporte. Por el contrario, se materializa a través de su uso continuo, la diversificación de la programación, la circulación de artistas, la formación de públicos, los procesos de lectura, escritura y oralidad, las actividades audiovisuales, los intercambios de saberes, la mediación cultural y demás acciones que permiten mantener los espacios activos y al servicio de la ciudadanía. El resultado de sesenta y cinco (65) no significa que el Distrito cuente con sesenta y cinco infraestructuras culturales físicas distintas. El valor representa el acumulado de implementaciones, activaciones y usos efectivos desarrollados en los espacios culturales, permitiendo que una misma infraestructura sea contabilizada nuevamente cuando recibe una estrategia diferente o cuando la estrategia continúa en un nuevo periodo con actividades, públicos y resultados verificables. El valor de 8,8 reportado en marzo refleja el avance proporcional alcanzado durante el primer corte, incluyendo estrategias que se encontraban en formulación o implementación parcial. Posteriormente, el desarrollo sostenido de las acciones en las bibliotecas, el Teatro Adolfo Mejía y los espacios intervenidos mediante el Plan Maestro de Murales permitió alcanzar las sesenta y cinco (65) implementaciones reportadas en junio. En consecuencia, la diferencia frente a la meta se explica por la intensidad y continuidad de la programación cultural desarrollada durante el primer semestre, especialmente en las dieciocho (18) bibliotecas de la Red Distrital, donde una misma infraestructura fue aprovechada mediante varias estrategias y en diferentes momentos.
F18: AVANCE PROMEDIO PROGRAMA ESCENARIOS CULTURALES VIVOS PARA TRANSFORMAR | AC18: =SUM(AC10:AC17) -> 1.3808867 | AD18: =AVERAGE(AD10:AD17) -> 0.24442362 | AE18: =AVERAGE(AE10:AE17) -> 1.2381135 | AF18: =AVERAGE(AF10:AF17) -> 0.67695057
A19: 4. Educación de calidad. 11. Ciudades y comunidades sostenibles | B19: Dignificar la vida de los habitantes del Distrito de Cartagena de Indias, reducir la pobreza multidimensional, el déficit habitacional, y ampliar la cobertura del saneamiento básico, a través de la implementación de estrategias integrales focalizadas en el fortalecimiento de la infraestructura educativa, en el fomento de las condiciones habitacionales adecuada y en el acceso de calidad de los servicios públicos, garantizando una vida digna para toda la población, durante el período de gobierno 2024-2027. | C19: Vida Digna | D19: Artes, Cultura y Patrimonio | E19: Incrementar al 100% el porcentaje de aprovechamiento de la infraestructura cultural | F19: DEMOCRATIZACIÓN DE LA CULTURA: ESTÍMULOS PARA EL FOMENTO Y DESARROLLO ARTÍSTICO, CULTURAL Y CREATIVO | G19: 02-03-02 | H19: Número de estímulos culturales y artísticos otorgados o proyectos apoyados | I19: Número | J19: 531 estímulos culturales y artísticos entregados en el cuatrienio 2020-2023 | K19: Otorgar mil (1.000) estímulos culturales y artísticos | L19: 0.5 | M19: Servicio | N19: Estímulos otorgados | O19: 1000 | Q19: 250 | R19: 250 | S19: 250 | T19: 565 | U19: 572 | V19: =Y19+Z19+AA19+AB19 -> 280 | X19: =+T19+U19+V19+W19 -> 1417 | Y19: 246 | Z19: 34 | AC19: =+(V19/R19)*L19 -> 0.56 | AD19: 0.5 | AE19: =+V19/R19 -> 1.12 | AF19: 1
C20: Vida Digna | D20: Artes, Cultura y Patrimonio | E20: Incrementar al 100% el porcentaje de aprovechamiento de la infraestructura cultural | F20: DEMOCRATIZACIÓN DE LA CULTURA: ESTÍMULOS PARA EL FOMENTO Y DESARROLLO ARTÍSTICO, CULTURAL Y CREATIVO | G20: 02-03-02 | H20: Número de estímulos otorgados con enfoque diferencial e interseccional | I20: Número | J20: 0 | K20: Otorgar cien (100) estímulos con enfoque diferencial e interseccional | L20: 0.25 | M20: Servicio | N20: Estímulos otorgados | O20: 100 | Q20: 25 | R20: 15 | S20: 25 | T20: 58 | U20: 37 | V20: =Y20+Z20+AA20+AB20 -> 1 | X20: =+T20+U20+V20+W20 -> 96 | Y20: 1 | Z20: 0 | AC20: =+(V20/R20)*L20 -> 0.016666667 | AD20: =+(X20/O20)*L20 -> 0.24 | AE20: =+V20/R20 -> 0.066666667 | AF20: =72/100 -> 0.72
C21: Vida Digna | D21: Artes, Cultura y Patrimonio | E21: Incrementar al 100% el porcentaje de aprovechamiento de la infraestructura cultural | F21: DEMOCRATIZACIÓN DE LA CULTURA: ESTÍMULOS PARA EL FOMENTO Y DESARROLLO ARTÍSTICO, CULTURAL Y CREATIVO | G21: 02-03-02 | H21: Número de mercados o espacios de circulación para emprendimientos culturales y artísticos creados | I21: Número | J21: 0 | K21: Crear seis (6) mercados o espacios de circulación para emprendimientos culturales y artísticos | L21: 0.15 | M21: Servicio | N21: Eventos de promoción de actividades culturales realizados | O21: 6 | Q21: 2 | R21: 1 | S21: 1 | T21: 2 | U21: 18 | V21: =Y21+Z21+AA21+AB21 -> 16 | X21: =+T21+U21+V21+W21 -> 36 | Y21: 6 | Z21: 10 | AC21: 0.15 | AD21: =+(Q21/U21) -> 0.11111111 | AE21: 1 | AF21: 1
C22: Vida Digna | D22: Artes, Cultura y Patrimonio | E22: Incrementar al 100% el porcentaje de aprovechamiento de la infraestructura cultural | F22: DEMOCRATIZACIÓN DE LA CULTURA: ESTÍMULOS PARA EL FOMENTO Y DESARROLLO ARTÍSTICO, CULTURAL Y CREATIVO | G22: 02-03-02 | H22: Número de emprendimientos y/o micronegocios de economía popular del sector cultura, artes y patrimonio con apoyo financiero | I22: Número | J22: 0 | K22: Otorgar ciento cincuenta (150) apoyos financieros para micronegocios de economía popular del sector cultura, artes y patrimonio | L22: 0.1 | M22: Servicio | N22: Personas beneficiadas con apoyos del Programa Nacional de Estímulos | O22: 150 | Q22: 50 | R22: 25 | S22: 50 | T22: 0 | U22: 180 | V22: =Y22+Z22+AA22+AB22 -> 50 | X22: =+T22+U22+V22+W22 -> 230 | Y22: 0 | Z22: 50 | AC22: =+(V22/R22)*L22 -> 0.2 | AD22: =+(X22/O22)*L22 -> 0.15333333 | AE22: =+V22/R22 -> 2 | AF22: 1
F23: AVANCE PROMEDIO PROGRAMA DEMOCRATIZACION DE LA CULTURAESTIMULOS PARA EL FOMENTO Y DESARROLLO ARTISTICO,CULTURAL Y CREATIVO | AC23: =SUM(AC19:AC22) -> 0.92666667 | AD23: =SUM(AD19:AD22) -> 1.0044444 | AE23: =AVERAGE(AE19:AE22) -> 1.0466667 | AF23: =AVERAGE(AF19:AF22) -> 0.93
B24: Dignificar la vida de los habitantes del Distrito de Cartagena de Indias, reducir la pobreza multidimensional, el déficit habitacional, y ampliar la cobertura del saneamiento básico, a través de la implementación de estrategias integrales focalizadas en el fortalecimiento de la infraestructura educativa, en el fomento de las condiciones habitacionales adecuada y en el acceso de calidad de los servicios públicos, garantizando una vida digna para toda la población, durante el período de gobierno 2024-2027. | C24: Vida Digna | D24: Artes, Cultura y Patrimonio | E24: Incrementar al 100% el porcentaje de aprovechamiento de la infraestructura cultural | F24: FORMACIÓN ARTÍSTICA Y CULTURAL | G24: 02-03-03 | H24: Número de personas vinculadas al programa de Formación Artística y Cultural | I24: Número | J24: 4.583 personas vinculadas en el programa de Formación Artística y Cultural a corte 2023 | K24: Vincular a mil ochocientas (1.800) personas en el programa de Formación Artística y Cultural | L24: 0.19019644 | M24: Servicio | N24: Personas capacitadas | O24: 1800 | Q24: 1800 | R24: 1800 | S24: 1800 | T24: 2952 | U24: 2756 | V24: =Y24+Z24+AA24+AB24 -> 25 | X24: =+T24+U24+V24+W24 -> 5733 | Y24: 0 | Z24: 25 | AC24: =+(V24/R24)*L24 -> 0.0026416173 | AD24: 0.19 | AE24: =+V24/R24 -> 0.013888889 | AF24: =+X24/7200 -> 0.79625
C25: Vida Digna | D25: Artes, Cultura y Patrimonio | E25: Incrementar al 100% el porcentaje de aprovechamiento de la infraestructura cultural | F25: FORMACIÓN ARTÍSTICA Y CULTURAL | G25: 02-03-03 | H25: Sistema Distrital de Formación Artística y Cultural creado e implementado | I25: Número | J25: 0 | K25: Crear e implementar un (1) Sistema Distrital de Formación Artística y Cultural | L25: 0.80980356 | M25: Servicio | N25: Documentos de lineamientos técnicos realizados | O25: 1 | Q25: 0.25 | R25: 0.25 | S25: 0.2 | T25: 0.3 | U25: 0.2525 | V25: =Y25+Z25+AA25+AB25 -> 0.09 | X25: =+T25+U25+V25+W25 -> 0.6425 | Y25: 0.06 | Z25: 0.03 | AC25: =+(V25/R25)*L25 -> 0.29152928 | AD25: =+(X25/O25)*L25 -> 0.52029879 | AE25: =+V25/R25 -> 0.36 | AF25: =+X25/O25 -> 0.6425
F26: AVANCE PROMEDIO PROGRAMA FORMACION ARTISTICA Y CULTURAL | AC26: =SUM(AC24:AC25) -> 0.2941709 | AD26: =SUM(AD24:AD25) -> 0.71029879 | AE26: =AVERAGE(AE24:AE25) -> 0.18694444 | AF26: =AVERAGE(AF24:AF25) -> 0.719375
B27: Dignificar la vida de los habitantes del Distrito de Cartagena de Indias, reducir la pobreza multidimensional, el déficit habitacional, y ampliar la cobertura del saneamiento básico, a través de la implementación de estrategias integrales focalizadas en el fortalecimiento de la infraestructura educativa, en el fomento de las condiciones habitacionales adecuada y en el acceso de calidad de los servicios públicos, garantizando una vida digna para toda la población, durante el período de gobierno 2024-2027. | C27: Vida Digna | D27: Artes, Cultura y Patrimonio | E27: Incrementar a 95% el porcentaje de cumplimiento del Índice de Desempeño Institucional del Instituto de Patrimonio y Cultura en el marco del Modelo Integrado de Planeación y Gestión (MIPG) | F27: DERECHOS CULTURALES Y FORTALECIMIENTO INSTITUCIONAL PARA LA GOBERNANZA | G27: 02-03-04 | H27: Estrategia de modernización y mejoramiento del desempeño institucional del Instituto de Patrimonio y Cultura diseñada e implementada | I27: Número | J27: 0 | K27: Diseñar e implementar una (1) estrategia de modernización y mejoramiento del desempeño institucional del Instituto de Patrimonio y Cultura | L27: 0.35 | M27: Servicio | N27: Documentos de planeación realizados | O27: 1 | Q27: 0.48 | R27: 0.055 | S27: 0.23 | T27: 0.08 | U27: 0.81 | V27: =Y27+Z27+AA27+AB27 -> 0.058 | X27: =+T27+U27+V27+W27 -> 0.948 | Y27: 0.037 | Z27: 0.021 | AC27: =+(V27/R27)*L27 -> 0.36909091 | AD27: =+(X27/O27)*L27 -> 0.3318 | AE27: =+V27/R27 -> 1.0545455 | AF27: =+X27/O27 -> 0.948
C28: Vida Digna | D28: Artes, Cultura y Patrimonio | E28: Incrementar a 95% el porcentaje de cumplimiento del Índice de Desempeño Institucional del Instituto de Patrimonio y Cultura en el marco del Modelo Integrado de Planeación y Gestión (MIPG) | F28: DERECHOS CULTURALES Y FORTALECIMIENTO INSTITUCIONAL PARA LA GOBERNANZA | G28: 02-03-04 | H28: Plan de fortalecimiento para el Sistema Distrital de Cultura y consejos de áreas artísticas | I28: Número | J28: 0 | K28: Diseñar e implementar un (1) plan de fortalecimiento para Sistema Distrital de Cultura y consejos de áreas artísticas | L28: 0.25 | M28: Servicio | N28: Documentos de lineamientos técnicos realizados | O28: 1 | Q28: 0.48 | R28: 0.245 | S28: 0.23 | T28: 0.07 | U28: 0.44 | V28: =Y28+Z28+AA28+AB28 -> 0.12 | X28: =+T28+U28+V28+W28 -> 0.63 | Y28: 0.09 | Z28: 0.03 | AC28: =+(V28/R28)*L28 -> 0.12244898 | AD28: =+(X28/O28)*L28 -> 0.1575 | AE28: =+V28/R28 -> 0.48979592 | AF28: =+X28/O28 -> 0.63
C29: Vida Digna | D29: Artes, Cultura y Patrimonio | E29: Incrementar a 95% el porcentaje de cumplimiento del Índice de Desempeño Institucional del Instituto de Patrimonio y Cultura en el marco del Modelo Integrado de Planeación y Gestión (MIPG) | F29: DERECHOS CULTURALES Y FORTALECIMIENTO INSTITUCIONAL PARA LA GOBERNANZA | G29: 02-03-04 | H29: Comisión Fílmica de Cartagena de Indias implementada y PUFAC (Permiso Unificado de Filmaciones Audiovisuales) adquirido | I29: Número | J29: 0 | K29: Implementar una (1) Comisión Fílmica de Cartagena de Indias y adquirir un (1) Permiso Unificado de Filmaciones Audiovisuales (PUFAC) | L29: 0.2 | M29: Servicio | N29: Documentos normativos realizados | O29: 1 | Q29: 0.5 | R29: 0.5 | S29: 0 | T29: 0.5 | U29: 0.68 | V29: =Y29+Z29+AA29+AB29 -> 0.1651 | X29: =+T29+U29+V29+W29 -> 1.3451 | Y29: 0.0417 | Z29: 0.1234 | AC29: =+(V29/R29)*L29 -> 0.06604 | AD29: 0.2 | AE29: =+V29/R29 -> 0.3302 | AF29: 1
C30: Vida Digna | D30: Artes, Cultura y Patrimonio | E30: Incrementar a 95% el porcentaje de cumplimiento del Índice de Desempeño Institucional del Instituto de Patrimonio y Cultura en el marco del Modelo Integrado de Planeación y Gestión (MIPG) | F30: DERECHOS CULTURALES Y FORTALECIMIENTO INSTITUCIONAL PARA LA GOBERNANZA | G30: 02-03-04 | H30: Cinemateca de Cartagena de Indias construida | I30: Número | J30: 0 | K30: Construir una (1) Cinemateca de Cartagena de Indias | L30: 0.1 | M30: Servicio | N30: Centros culturales construidos | O30: 1 | Q30: 1 | R30: 0.55 | S30: 0 | T30: 0 | U30: 0.45 | V30: =Y30+Z30+AA30+AB30 -> 0 | X30: =+T30+U30+V30+W30 -> 0.45 | Y30: 0 | Z30: 0 | AC30: =+(V30/R30)*L30 -> 0 | AD30: =+(X30/O30)*L30 -> 0.045 | AE30: =+V30/R30 -> 0 | AF30: =+X30/O30 -> 0.45
C31: Vida Digna | D31: Artes, Cultura y Patrimonio | E31: Incrementar a 95% el porcentaje de cumplimiento del Índice de Desempeño Institucional del Instituto de Patrimonio y Cultura en el marco del Modelo Integrado de Planeación y Gestión (MIPG) | F31: DERECHOS CULTURALES Y FORTALECIMIENTO INSTITUCIONAL PARA LA GOBERNANZA | G31: 02-03-04 | H31: Política Pública Distrital de Cinematografía, Medios Audiovisuales e Interactivos formulada e implementada | I31: Número | J31: 0 | K31: Formular e implementar una (1) Política Pública Distrital de Cinematografía, Medios Audiovisuales e Interactivos | L31: 0.1 | M31: Servicio | N31: Documentos de planeación realizados | O31: 1 | Q31: 0.4 | R31: 0.4 | S31: 0.2 | T31: 0 | U31: 0.35 | V31: =Y31+Z31+AA31+AB31 -> 0.09 | X31: =+T31+U31+V31+W31 -> 0.44 | Y31: 0 | Z31: 0.09 | AC31: =+(V31/R31)*L31 -> 0.0225 | AD31: =+(X31/O31)*L31 -> 0.044 | AE31: =+V31/R31 -> 0.225 | AF31: =+X31/O31 -> 0.44
F32: AVANCE PROMEDIO PROGRAMADERECHOS CULTURALES Y FORTALECIMIENTO INSTITUCIONAL PARA LA GOBERNANZA | AC32: =SUM(AC27:AC31) -> 0.58007989 | AD32: =SUM(AD27:AD31) -> 0.7783 | AE32: =AVERAGE(AE27:AE31) -> 0.41990827 | AF32: =AVERAGE(AF27:AF31) -> 0.6936
B33: Dignificar la vida de los habitantes del Distrito de Cartagena de Indias, reducir la pobreza multidimensional, el déficit habitacional, y ampliar la cobertura del saneamiento básico, a través de la implementación de estrategias integrales focalizadas en el fortalecimiento de la infraestructura educativa, en el fomento de las condiciones habitacionales adecuada y en el acceso de calidad de los servicios públicos, garantizando una vida digna para toda la población, durante el período de gobierno 2024-2027. | C33: Vida Digna | D33: Artes, Cultura y Patrimonio | E33: Incrementar a 95% el porcentaje de cumplimiento del Índice de Desempeño Institucional del Instituto de Patrimonio y Cultura en el marco del Modelo Integrado de Planeación y Gestión (MIPG) | F33: CARTAGENA BRILLA CON SU CULTURA Y PATRIMONIO MATERIAL E INMATERIAL | G33: 02-03-05 | H33: Número de festivales, fiestas y festejos implementados y desarrollados | I33: Número | J33: 0 | K33: Implementar y desarrollar dieciséis (16) festivales, fiestas y festejos para promoción del patrimonio inmaterial | L33: 0.4 | M33: Servicio | N33: Eventos de promoción de actividades culturales realizados | O33: 16 | Q33: 4 | R33: 4 | S33: 4 | T33: 8 | U33: 50 | V33: =Y33+Z33+AA33+AB33 -> 16 | X33: =+T33+U33+V33+W33 -> 74 | Y33: 2 | Z33: 14 | AC33: =+(V33/R33)*L33 -> 1.6 | AD33: 0.4 | AE33: =+V33/R33 -> 4 | AF33: 1 | AG33: Los dieciséis (16) festivales, fiestas y festejos corresponden a la meta establecida para el cuatrienio 2024-2027. Para cada vigencia se programan cuatro (4) eventos principales y representativos del patrimonio cultural inmaterial y de la tradición festiva y gastronómica de Cartagena: 1. Festival del Frito Cartagenero. 2. Festival del Dulce Cartagenero. 3. Fiestas de Independencia del 11 de Noviembre. 4. Festival del Pastel Cartagenero. Estos cuatro eventos constituyen la programación anual inicialmente definida para dar cumplimiento progresivo a la meta del cuatrienio. Sin embargo, durante la vigencia 2026 el IPCC ha ampliado su gestión mediante el apoyo, acompañamiento y articulación de otros festivales, fiestas y festejos desarrollados en diferentes sectores de la ciudad. Esta ejecución adicional no significa que la meta de dieciséis (16) eventos se haya convertido en una meta anual, sino que el Instituto ha superado la programación prevista para la vigencia debido a la dinámica cultural del territorio, las solicitudes presentadas por las comunidades y la necesidad de garantizar la protección, promoción, circulación y apropiación social de otras manifestaciones del patrimonio cultural inmaterial. Además de los cuatro eventos principales, se han apoyado o desarrollado las siguientes tipologías de actividades: • Fiestas patronales realizadas en barrios, corregimientos y comunidades, las cuales conservan prácticas religiosas, musicales, dancísticas, gastronómicas y comunitarias transmitidas entre generaciones. • Eventos culturales y artísticos realizados en conmemoración del aniversario de la fundación de Cartagena de Indias, mediante los cuales se fortalece la memoria histórica, la identidad cartagenera, el reconocimiento de los actores festivos y la apropiación del patrimonio material e inmaterial de la ciudad. • Festejos, encuentros, muestras, desfiles, presentaciones artísticas y actividades comunitarias desarrolladas en el marco de las Fiestas de Independencia del 11 de Noviembre. Aunque estas actividades se articulan con la agenda festiva distrital, algunas cuentan con programación, población beneficiaria, organización y alcance propios, por lo cual representan procesos adicionales de promoción del patrimonio cultural inmaterial. • Festivales y muestras gastronómicas desarrollados en diferentes sectores de Cartagena, orientados a la preservación y divulgación de recetas tradicionales, técnicas de preparación, saberes culinarios, productos locales y prácticas asociadas a la cocina cartagenera y caribeña. • Celebraciones comunitarias que fortalecen las expresiones musicales, dancísticas, artesanales, orales, religiosas y festivas propias de los barrios y corregimientos del Distrito. • Eventos de circulación y promoción de portadores de tradición, artistas, cocineras y cocineros tradicionales, músicos, bailarines, artesanos, gestores culturales y demás actores vinculados con la salvaguardia del patrimonio inmaterial. Para efectos del seguimiento, cada festival, fiesta o festejo adicional se contabiliza cuando cuenta con una programación definida, un propósito cultural diferenciado, población beneficiaria, participación de actores o portadores de tradición y evidencias de su realización. Por tanto, no se contabilizan únicamente actividades aisladas dentro de un mismo evento, sino procesos festivos o culturales que poseen identidad, organización y alcance propios. En consecuencia, los valores superiores a la programación anual de cuatro (4) eventos corresponden a una mayor ejecución física de la meta, derivada del apoyo a otras manifestaciones culturales y comunitarias que no estaban incluidas inicialmente dentro de los cuatro festivales principales. Estos resultados evidencian la ampliación de la cobertura territorial, el fortalecimiento de las tradiciones locales y una mayor capacidad institucional para acompañar las dinámicas culturales de las comunidades. Por lo anterior, se aclara que la meta del cuatrienio se mantiene en dieciséis (16) festivales, fiestas y festejos, mientras que los eventos adicionales desarrollados o apoyados durante 2026 corresponden a una sobreejecución frente a la programación anual, sustentada en la diversidad y dinámica del patrimonio cultural inmaterial de Cartagena de Indias.
C34: Vida Digna | D34: Artes, Cultura y Patrimonio | E34: Incrementar a 95% el porcentaje de cumplimiento del Índice de Desempeño Institucional del Instituto de Patrimonio y Cultura en el marco del Modelo Integrado de Planeación y Gestión (MIPG) | F34: CARTAGENA BRILLA CON SU CULTURA Y PATRIMONIO MATERIAL E INMATERIAL | G34: 02-03-05 | H34: Festival de Música del Caribe impulsado anualmente | I34: Número | J34: 0 | K34: Impulsar anualmente el desarrollo de un (1) Festival de Música del Caribe | L34: 0.3 | M34: Servicio | N34: Estímulos otorgados | O34: 1 | Q34: 1 | R34: 1 | S34: 1 | T34: 0 | U34: 1 | V34: =Y34+Z34+AA34+AB34 -> 0 | X34: =+T34+U34+V34+W34 -> 1 | Y34: 0 | Z34: 0 | AC34: =+(V34/R34)*L34 -> 0 | AD34: =+(X34/O34)*L34 -> 0.3 | AE34: =+V34/R34 -> 0 | AF34: 0.25
C35: Vida Digna | D35: Artes, Cultura y Patrimonio | E35: Incrementar a 95% el porcentaje de cumplimiento del Índice de Desempeño Institucional del Instituto de Patrimonio y Cultura en el marco del Modelo Integrado de Planeación y Gestión (MIPG) | F35: CARTAGENA BRILLA CON SU CULTURA Y PATRIMONIO MATERIAL E INMATERIAL | G35: 02-03-05 | H35: Inventario del patrimonio cultural material e inmaterial de Cartagena elaborado | I35: Número | J35: 0 | K35: Elaborar un (1) inventario del patrimonio cultural material e inmaterial de Cartagena | L35: 0.1 | M35: Servicio | N35: Documentos de lineamientos técnicos realizados | O35: 1 | Q35: 0.475 | R35: 0.25 | S35: 0.25 | T35: 0.025 | U35: 0.3333 | V35: =Y35+Z35+AA35+AB35 -> 0.04 | X35: =+T35+U35+V35+W35 -> 0.3983 | Y35: 0.01 | Z35: 0.03 | AC35: =+(V35/R35)*L35 -> 0.016 | AD35: =+(X35/O35)*L35 -> 0.03983 | AE35: =+V35/R35 -> 0.16 | AF35: =+X35/O35 -> 0.3983
C36: Vida Digna | D36: Artes, Cultura y Patrimonio | E36: Incrementar a 95% el porcentaje de cumplimiento del Índice de Desempeño Institucional del Instituto de Patrimonio y Cultura en el marco del Modelo Integrado de Planeación y Gestión (MIPG) | F36: CARTAGENA BRILLA CON SU CULTURA Y PATRIMONIO MATERIAL E INMATERIAL | G36: 02-03-05 | H36: Número de estrategias para la preservación y protección de las tradiciones técnicas, costumbres y saberes propias de la cultura cartagenera diseñadas e implementadas | I36: Número | J36: 0 | K36: Diseñar e implementar cuatro (4) estrategias para la preservación y protección de las tradiciones técnicas, costumbres y saberes propias de la cultura cartagenera (cultura alimentaria de las matronas, artesanía, tradición oral, entre otras) | L36: 0.1 | M36: Servicio | N36: Eventos de promoción de actividades culturales realizados | O36: 4 | Q36: 1 | R36: 1 | S36: 1 | T36: 1 | U36: 1 | V36: =Y36+Z36+AA36+AB36 -> 0.555 | X36: =+T36+U36+V36+W36 -> 2.555 | Y36: 0.05 | Z36: 0.505 | AC36: =+(V36/R36)*L36 -> 0.0555 | AD36: =+(X36/O36)*L36 -> 0.063875 | AE36: =+V36/R36 -> 0.555 | AF36: =+X36/O36 -> 0.63875
C37: Vida Digna | D37: Artes, Cultura y Patrimonio | E37: Incrementar a 95% el porcentaje de cumplimiento del Índice de Desempeño Institucional del Instituto de Patrimonio y Cultura en el marco del Modelo Integrado de Planeación y Gestión (MIPG) | F37: CARTAGENA BRILLA CON SU CULTURA Y PATRIMONIO MATERIAL E INMATERIAL | G37: 02-03-05 | H37: Plan Maestro para el cuidado, conservación y apropiación social del patrimonio material elaborado e implementado | I37: Número | J37: 0 | K37: Elaborar e implementar un (1) Plan Maestro para el cuidado, conservación y apropiación social del patrimonio material | L37: 0.1 | M37: Servicio | N37: Documentos de planeación realizados | O37: 1 | Q37: 0.5 | R37: 0.25 | S37: 0.25 | T37: 0 | U37: 0.45 | V37: =Y37+Z37+AA37+AB37 -> 0.08 | X37: =+T37+U37+V37+W37 -> 0.53 | Y37: 0.01 | Z37: 0.07 | AC37: =+(V37/R37)*L37 -> 0.032 | AD37: =+(X37/O37)*L37 -> 0.053 | AE37: =+V37/R37 -> 0.32 | AF37: =+X37/O37 -> 0.53
F38: AVANCE PROMEDIO PROGRAMA CARTAGENA BRILLA CON SU CULTURA Y PATRIMONIO MATERIAL E INMATERIAL | AC38: =SUM(AC33:AC37) -> 1.7035 | AD38: =SUM(AD33:AD37) -> 0.856705 | AE38: =AVERAGE(AE33:AE37) -> 1.007 | AF38: =AVERAGE(AF33:AF37) -> 0.56341
B39: Dignificar la vida de los habitantes del Distrito de Cartagena de Indias, reducir la pobreza multidimensional, el déficit habitacional, y ampliar la cobertura del saneamiento básico, a través de la implementación de estrategias integrales focalizadas en el fortalecimiento de la infraestructura educativa, en el fomento de las condiciones habitacionales adecuada y en el acceso de calidad de los servicios públicos, garantizando una vida digna para toda la población, durante el período de gobierno 2024-2027. | C39: DE LOS PUEBLOS Y COMUNIDADES ETNICAS | D39: Fortalecimiento al Desarrollo Afro-Territorial de la Población Negra, Afrocolombiana, Raizal y Palenquera | E39: Incrementar a 20% el porcentaje de la población negra, afrocolombiana, raizal, palenquera que habita el Distrito vinculada a procesos de fortalecimiento y reconocimiento de sus derechos, diversidad étnica y cultural como un principio fundamental | F39: DESARROLLO LOCAL SOSTENIBLE Y PROSPERIDAD COLECTIVA EN LOS TERRITORIOS DE LAS COMUNIDADES NEGRAS DEL DISTRITO DE CARTAGENA | G39: 06-01-01 | H39: Programa de Salvaguarda y Recuperación de los Bienes de Interés de Cultural de los Territorios negros, afrocolombiano, raizales y palenqueros creado e implementado | I39: Número | J39: ND | K39: Crear e implementar un (1) Programa de Salvaguarda y Recuperación de los Bienes de Interés de Cultural de los Territorios negros, afrocolombiano, raizales y palenqueros | L39: 1 | M39: Servicio | N39: Documentos de planeación realizados | O39: 1 | Q39: 1 | R39: 1 | S39: 1 | T39: 0 | U39: 0.85 | V39: =Y39+Z39+AA39+AB39 -> 0.075 | X39: =+T39+U39+V39+W39 -> 0.925 | Y39: 0.075 | Z39: 0 | AC39: =+(V39/R39)*L39 -> 0.075 | AD39: =+(X39/O39)*L39 -> 0.925 | AE39: =+V39/R39 -> 0.075 | AF39: =+X39/O39 -> 0.925
F40: AVANCE PROMEDIO PROGRAMA DESARROLLO LOCAL SOSTENIBLE Y PROSPERIDAD COLECTIVA EN LOS TERRITORIOS DE LAS COMUNIDADES NEGRAS DEL DISTRITO DE CARTAGENA | AC40: =SUM(AC39) -> 0.075 | AD40: =SUM(AD39) -> 0.925 | AE40: =AVERAGE(AE39) -> 0.075 | AF40: =AVERAGE(AF39) -> 0.925
B41: Dignificar la vida de los habitantes del Distrito de Cartagena de Indias, reducir la pobreza multidimensional, el déficit habitacional, y ampliar la cobertura del saneamiento básico, a través de la implementación de estrategias integrales focalizadas en el fortalecimiento de la infraestructura educativa, en el fomento de las condiciones habitacionales adecuada y en el acceso de calidad de los servicios públicos, garantizando una vida digna para toda la población, durante el período de gobierno 2024-2027. | C41: DE LOS PUEBLOS Y COMUNIDADES ETNICAS | D41: Territorio Sitio de Paz y Pensamiento Colectivo | E41: Incrementar a 50% el porcentaje de población indígena que habita el Distrito de Cartagena vinculada a procesos fortalecimiento y reconocimiento de sus derechos, diversidad étnica y cultural como un principio fundamental | F41: ATENCIÓN INTEGRAL PARA LAS COMUNIDADES INDÍGENAS | G41: 06-02-01 | H41: Programa de protección, divulgación, preservación y salvaguarda de las prácticas, costumbres y saberes ancestrales de los pueblos originarios de los 6 cabildos indígenas presentes en el Distrito creado e implementado | I41: Número | J41: ND | K41: Crear e implementar un (1) programa de protección, divulgación, preservación y salvaguarda de las prácticas, costumbres y saberes ancestrales de los pueblos originarios de los 6 Cabildos Indígenas presentes en el Distrito | L41: 1 | M41: Servicio | N41: Eventos de promoción de actividades culturales realizados | O41: 1 | Q41: 1 | R41: 1 | S41: 1 | T41: 0 | U41: 0.85 | V41: =Y41+Z41+AA41+AB41 -> 0.275 | X41: =+T41+U41+V41+W41 -> 1.125 | Y41: 0.175 | Z41: 0.1 | AC41: =+(V41/R41)*L41 -> 0.275 | AD41: 1 | AE41: =+V41/R41 -> 0.275 | AF41: 1
...

Sheet 2. GESTIÓN-MIPG
C1: ALCALDIA DISTRITAL DE CARTAGENA DE INDIAS | AA1: Código: PTDGI01-F001
C2: MACROPROCESO: PLANEACIÓN TERRITORIAL Y DIRECCIONAMIENTO ESTRATEGICO | AA2: Versión: 1.0
C3: PROCESO / SUBPROCESO: GESTIÓN DE LA INVERSIÓN PUBLICA / GESTIÓN DEL PLAN DE DESARROLLO Y SUS INSTRUMENTOS DE EJECUCIÓN | AA3: Fecha: 16/07/2024
C4: FORMATO PLAN DE ACCIÓN INSTITUCIONAL | AA4: Página: 2 de 3
A5: DEPENDENCIA :
A6: GESTIÓN ADMINISTRATIVA - MIPG | Z6: ADMINISTRACIÓN DE RIESGOS
A8: META DE RESULTADO | B8: DIMENSIÓN (ES) DE MIPG | C8: POLÍTICA DE GESTIÓN Y DESEMPEÑO INSTITUCIONAL | D8: PROCESO ASOCIADO | E8: SUBPROCESO ASOCIADO | F8: OBJETIVO DEL SUBPROCESO | G8: NOMBRE DEL INDICADOR | H8: PROPÓSITO | I8: FRECUENCIA | J8: TIPO DE INDICADOR | K8: GRUPO DE VALOR | L8: AVANCE Mes1 | M8: AVANCE Mes2 | N8: AVANCE Mes3 | O8: AVANCE Mes4 | P8: AVANCE Mes5 | Q8: AVANCE Mes6 | R8: AVANCE Mes7 | S8: AVANCE Mes8 | T8: AVANCE Mes9 | U8: AVANCE Mes10 | V8: AVANCE Mes11 | W8: AVANCE Mes12 | X8: PROMEDIO | Y8: PLANES DECRETO 612 DE 2018 | Z8: RIESGOS ASOCIADOS AL PROCESO | AA8: CONTROLES ESTABLECIDOS PARA LOS RIESGOS
A9: Incrementar a 35% el porcentaje de usuarios participantes en procesos de promoción de lectura en las bibliotecas del Distrito | B9: Gestiòn de valores para Resultados | C9: • Fortalecimiento organizacional y Simplificaciòn de procesos | D9: Gestiòn Fomento Arte y Cultura | E9: Gestiòn del Conocimiento | F9: Conocer las diferentes expresiones culturales, permitiendo su divulgación a la | G9: Porcentaje de usuarios participantes en procesos de promocion de lectura | H9: Medir el porcentaje de incremento en los usuarios participantes en procesos de promocion de lectura en las bibliotecas del distrito | I9: Trimestral | J9: Eficiencia | K9: CIUDADANÍA | L9: 0.1 | M9: 0.1 | N9: 0.1 | Y9: Plan Anual de Adquisiciones | Z9: Posibilidad de perdida reputacional debido al bajo porcentaje de usuarios participantes en procesos de promocion de lectura en las bibliotecas del distrito | AA9: Aplicar el procedimiento fortalecimiento de la lectura
C10: • Participaciòn ciudadana en la gestiòn pùblica | F10: población y la conservación en el tiempo | Y10: Plan de Trabajo Anual en Seguridad y Salud en el Trabajo | AD10: ENTIDADES
Y11: Plan Anticorrupción y de Atención al Ciudadano | AD11: SERVIDORES
Y12: Plan Estratégico de Tecnologías de la Información y las Comunicaciones –¬ PETI | AD12: CIUDADANÍA
Y13: Plan de Tratamiento de Riesgos de Seguridad y Privacidad de la Información | AD13: INTERNO
Y14: Plan de Seguridad y Privacidad de la Información
A15: Incrementar a 35% el porcentaje de usuarios participantes en procesos de promoción de lectura en las bibliotecas del Distrito | K15: CIUDADANÍA | Y15: " Plan Anual de Adquisiciones | AA15: Recolección de datos eficientes para registrar la participación, la satisfacción de los usuarios, y el número de actividades realizadas. ( Aplicar encuestas de satisfaccion)
Y16: Plan de Trabajo Anual en Seguridad y Salud en el Trabajo
Y17: Plan Anticorrupción y de Atención al Ciudadano | AA17: Revisar y ajustar el indicador periodicamente para asegurar que reflejen el progreso real hacia la meta propuesta
Y18: Plan Estratégico de Tecnologías de la Información y las Comunicaciones –¬ PETI
Y19: Plan de Tratamiento de Riesgos de Seguridad y Privacidad de la Información
Y20: Plan de Seguridad y Privacidad de la Información
A21: Incrementar a 35% el porcentaje de usuarios participantes en procesos de promoción de lectura en las bibliotecas del Distrito | C21: • Fortalecimiento organizacional y Simplificaciòn de procesos | D21: Gestiòn Fomento Arte y Cultura | E21: Gestiòn del Conocimiento | F21: Conocer las diferentes expresiones culturales, permitiendo su divulgación a la | G21: Porcentaje de usuarios participantes en procesos de promocion de lectura | H21: Medir el porcentaje actual de usuarios de la biblioteca que participan en programas de promoción de lectura | I21: Trimestral | J21: Eficiencia | K21: CIUDADANÍA | L21: 0.1 | M21: 0.1 | N21: 0.1 | Y21: " Plan Anual de Adquisiciones | Z21: Posibilidad de perdida reputacional debido al bajo porcentaje de usuarios participantes en procesos de promocion de lectura en las bibliotecas del distrito | AA21: Aplicar el procedimiento fortalecimiento de la lectura
C22: • Participaciòn ciudadana en la gestiòn pùblica | F22: población y la conservación en el tiempo | Y22: Plan de Trabajo Anual en Seguridad y Salud en el Trabajo
Y23: Plan Anticorrupción y de Atención al Ciudadano
Y24: Plan Estratégico de Tecnologías de la Información y las Comunicaciones –¬ PETI
Y25: Plan de Tratamiento de Riesgos de Seguridad y Privacidad de la Información
Y26: Plan de Seguridad y Privacidad de la Información
A27: Incrementar a 35% el porcentaje de usuarios participantes en procesos de promoción de lectura en las bibliotecas del Distrito | D27: Gestiòn Fomento Arte y Cultura | E27: Gestiòn del Conocimiento | F27: Conocer las diferentes expresiones culturales, permitiendo su divulgación a la | K27: CIUDADANÍA | Y27: " Plan Anual de Adquisiciones | AA27: Recolección de datos eficientes para registrar la participación, la satisfacción de los usuarios, y el número de actividades realizadas. ( Aplicar encuestas de satisfaccion)
F28: población y la conservación en el tiempo | Y28: Plan de Trabajo Anual en Seguridad y Salud en el Trabajo
Y29: Plan Anticorrupción y de Atención al Ciudadano | AA29: Revisar y ajustar el indicador periodicamente para asegurar que reflejen el progreso real hacia la meta propuesta
Y30: Plan Estratégico de Tecnologías de la Información y las Comunicaciones –¬ PETI
Y31: Plan de Tratamiento de Riesgos de Seguridad y Privacidad de la Información
Y32: Plan de Seguridad y Privacidad de la Información
A33: Incrementar a 35% el porcentaje de usuarios participantes en procesos de promoción de lectura en las bibliotecas del Distrito | C33: • Fortalecimiento organizacional y Simplificaciòn de procesos | D33: Gestiòn Fomento Arte y Cultura | E33: Gestiòn del Conocimiento | F33: Conocer las diferentes expresiones culturales, permitiendo su divulgación a la | G33: Tasa de crecimiento de participación en actividades de promoción de lectura. | H33: Medir el incremento porcentual mensual en la participación de usuarios en programas de promoción de lectura. | I33: mensual | J33: Eficacia | K33: CIUDADANÍA | L33: 0.1 | M33: 0.1 | N33: 0.1 | Y33: Plan Anual de Adquisiciones | Z33: Posibilidad de perdida reputacional debido al bajo porcentaje de usuarios participantes en procesos de promocion de lectura en las bibliotecas del distrito | AA33: Aplicar el procedimiento fortalecimiento de la lectura
C34: • Participaciòn ciudadana en la gestiòn pùblica | F34: población y la conservación en el tiempo | Y34: Plan de Trabajo Anual en Seguridad y Salud en el Trabajo
Y35: Plan Anticorrupción y de Atención al Ciudadano
Y36: Plan Estratégico de Tecnologías de la Información y las Comunicaciones –¬ PETI
Y37: Plan de Tratamiento de Riesgos de Seguridad y Privacidad de la Información
Y38: Plan de Seguridad y Privacidad de la Información
A39: Incrementar a 35% el porcentaje de usuarios participantes en procesos de promoción de lectura en las bibliotecas del Distrito | C39: • Fortalecimiento organizacional y Simplificaciòn de procesos | D39: Gestiòn Fomento Arte y Cultura | E39: Gestiòn del Conocimiento | F39: Conocer las diferentes expresiones culturales, permitiendo su divulgación a la | G39: Cobertura de programas de promocion de lectura | H39: Medir la proporción de bibliotecas del Distrito que ofrecen programas de promoción de lectura. | I39: Semestral | J39: Eficacia | K39: CIUDADANÍA | L39: 0.1 | M39: 0.1 | N39: 0.1 | Y39: Plan Anual de Adquisiciones | AA39: Recolección de datos eficientes para registrar la participación, la satisfacción de los usuarios, y el número de actividades realizadas. ( Aplicar encuestas de satisfaccion)
C40: • Participaciòn ciudadana en la gestiòn pùblica | F40: población y la conservación en el tiempo | Y40: Plan de Trabajo Anual en Seguridad y Salud en el Trabajo
Y41: Plan Anticorrupción y de Atención al Ciudadano | AA41: Revisar y ajustar el indicador periodicamente para asegurar que reflejen el progreso real hacia la meta propuesta
...

Sheet 3. INVERSIÓN 
C1: ALCALDIA DISTRITAL DE CARTAGENA DE INDIAS | AZ1: Código: PTDGI01-F001
C2: MACROPROCESO: PLANEACIÓN TERRITORIAL Y DIRECCIONAMIENTO ESTRATEGICO | AZ2: Versión: 1.0
C3: PROCESO / SUBPROCESO: GESTIÓN DE LA INVERSIÓN PUBLICA / GESTIÓN DEL PLAN DE DESARROLLO Y SUS INSTRUMENTOS DE EJECUCIÓN | AZ3: Fecha: 16/07/2024
C4: FORMATO SALIDA DE INFORMACION RESULTADOS DE SEGUIMIENTO Y EVALUACIÓN DE PLAN DE ACCIÓN INSTITUCIONAL | AZ4: Página: 3 de 3
A5: DEPENDENCIA : | C5: INSTITUTO DE PATRIMONIO Y CULTURA DE CARTAGENA DE INDIAS
A6: PROYECTOS DE INVERSIÓN | AC6: PLAN ANUAL DE ADQUISICIONES | AI6: PROGRAMACIÓN PRESUPUESTAL
A8: META DE RESULTADO | B8: PROGRAMA | C8: CÓDIGO DE PROGRAMA | D8: META PRODUCTO PDD 2024 | E8: PROYECTO DE INVERSIÓN | F8: CÓDIGO DE PROYECTO BPIN | G8: OBJETIVO GENERAL DEL PROYECTO | H8: OBJETIVO ESPECIFICO DEL PROYECTO | I8: PRODUCTO DEL PROYECTO | J8: PONDERACIÓN DE PRODUCTO | K8: ACTIVIDADES DE PROYECTO DE INVERSIÓN ( HITOS ) | L8: TRAZADOR PRESUPUESTAL | M8: ENTREGABLE | N8: PROGRAMACIÓN NUMÉRICA DE LA ACTIVIDAD PROYECTO (VIGENCIA) | O8: REPORTE ACTIVIDADES PROYECTO DE ENERO A MARZO 2026 | P8: REPORTE ACTIVIDADES PROYECTO DE ABRIL A JUNIO 2026 | Q8: REPORTE ACTIVIDADES PROYECTO DE JULIO A SEPTIEMBRE 2026 | R8: REPORTE ACTIVIDADES PROYECTO DE OCTUBRE A DICIEMBRE 2026 | S8: ACUMULADO ACTIVIDAD DE PROYECTO 2026 | T8: AVANCES ACTIVIDADES DE PROYECTO | U8: FECHA DE INICIO DE LA ACTIVIDAD | V8: FECHA DE TERMINACIÓN DE LA ACTIVIDAD | W8: TIEMPO DE EJECUCIÓN (número de días) | X8: BENEFICIARIOS PROGRAMADOS | Y8: UNIDAD COMUNERA DE GOBIERNO A IMPACTAR | Z8: NOMBRE DEL RESPONSABLE | AA8: RIESGOS DEL PROYECTO | AB8: ACCIONES DE CONTROL DE LOS RIESGOS DE LOS PROYECTOS | AC8: ¿REQUIERE CONTRATACIÓN? | AD8: DESCRIPCIÓN DE LA ADQUISICIÓN ASOCIADA AL PROYECTO | AE8: CUANTÍA ASIGNADA A LA CONTRATACIÓN | AF8: MODALIDAD DE SELECCIÓN | AG8: FUENTE DE RECURSOS | AH8: FECHA DE INICIO DE CONTRATACIÓN | AI8: APROPIACIÓN INICIAL (en pesos) | AJ8: APROPACIÓN DEFINITIVA POR PROYECTO (MARZO) | AK8: APROPACIÓN DEFINITIVA POR PROYECTO (JUNIO) | AL8: APROPACIÓN DEFINITIVA POR PROYECTO (SEPTIEMBRE) | AM8: APROPACIÓN DEFINITIVA POR PROYECTO (DICIEMBRE) | AN8: FUENTE DE FINANCIACIÓN | AO8: RUBRO PRESUPUESTAL | AP8: PRESUPUESTO EJECUTADO MARZO COMPROMISOS | AQ8: PORCENTAJE DEL PRESUPUESTO EJECUTADO MARZO COMPROMISOS | AR8: PRESUPUESTO EJECUTADO MARZO OBLIGACIONES | AS8: PORCENTAJE DEL PRESUPUESTO EJECUTADO MARZO OBLIGACIONES | AT8: PRESUPUESTO EJECUTADO JUNIO COMPROMISOS | AU8: PRESUPUESTO EJECUTADO JUNIO OBLIGACIONES | AV8: PRESUPUESTO EJECUTADO SEPTIEMBRE COMPROMISOS | AW8: PRESUPUESTO EJECUTADO SEPTIEMBRE OBLIGACIONES | AX8: PRESUPUESTO EJECUTADO DICIEMBRE COMPROMISOS | AY8: PRESUPUESTO EJECUTADO DICIEMBRE OBLIGACIONES | AZ8: OBSERVACIONES | BA8: OBSERVACIONES JUNIO 2026
A9: Incrementar a 35% el porcentaje de usuarios participantes en procesos de promoción de lectura en las bibliotecas del Distrito | B9: ESCENARIOS CULTURALES VIVOS PARA TRANSFORMAR | C9: 02-03-01 | D9: Dotar de mobiliario y equipo y mantener en funcionamiento dieciocho (18) bibliotecas | E9: Fortalecimiento de la infraestructura cultural como "Escenarios Vivos" para la transformación social en Cartagena de Indias | F9: 2024130010106 | G9: Mejorar la prestación de servicios en la infraestructura cultural del Distrito de Cartagena de Indias | H9: Mejorar la prestación de servicios bibliotecarios en las bibliotecas de la ciudad. | I9: 1. Bibliotecas adecuadas | J9: 0.1 | K9: 1.1. Realizar el mantenimiento preventivo y correctivo de las bibliotecas públicas y comunitarias del Distrito de Cartagena. | L9: Infancia Adolescencia Adultez Enfoque diferencial | M9: Bibliotecas adecuadas | N9: 18 | O9: 18 | P9: 12 | S9: =SUM(O9:R9) -> 30 | T9: =+S9/N9 -> 1.6666667 | U9: 46042 | V9: 46387 | W9: =_xlfn.DAYS(V9,U9) -> 345 | X9: 1065570 | Y9: DISTRITO DE CARTAGENA DE INDIAS | Z9: CARMEN LUCY ESPINOSA DIAZ DIRECTORA GENERAL | AA9: • Operacionales: Cambios en los precios de insumos necesarios para el desarrollo de las actividades. | AB9: • Costeo de insumos necesarios para las actividades con base en precios promedio del mercado | AC9: SI | AI9: 292731771 | AJ9: 292731771 | AK9: =+AI9+AJ9 -> 585463542 | AN9: - SGP CULTURA | AO9: Fortalecimiento de la infraestructura cultural como "Escenarios Vivos" para la transformación social en Cartagena de Indias | AQ9: =+AP9/AJ9 -> 0 | AS9: =+AR9/AJ9 -> 0 | AZ9: "Teniendo en cuenta que la meta proyectada para el cuatrienio es de 34 y en consideración a que el acumulado a la vigencia 2025 es de 30, la entidad se permite hacer una programación de la vigencia 2026 más aterrizada a las capacidades financieras y priorizando las infraestructuras que requieren los mejoramientos, intervenciones y/o sostenibilidad en orden de lo establecido en la meta" | BA9: La programación anual de dieciocho (18) mantenimientos se estableció tomando como referencia las dieciocho (18) bibliotecas que integran la Red Distrital, con el propósito de garantizar, como mínimo, una intervención preventiva o correctiva en cada una durante la vigencia. Sin embargo, esta programación constituye una cobertura mínima y no un límite máximo, debido a que una misma biblioteca puede requerir varias intervenciones a lo largo del año, dependiendo de sus condiciones físicas, nivel de uso y necesidades operativas. Estas pueden estar relacionadas con redes eléctricas, iluminación, pintura, cubiertas, humedad, mobiliario u otros elementos indispensables para su funcionamiento. Por esta razón, el acumulado de treinta (30) corresponde al total de mantenimientos efectivamente realizados hasta junio, incluyendo intervenciones adicionales en algunas bibliotecas para prevenir su deterioro, atender necesidades imprevistas y garantizar la continuidad y adecuada prestación de los servicios culturales.
