Workbook

Sheet Seguridad Humana
B2: LINEA ESTRATEGICA/COMPONENTE IMPULSOR/ PROGRAMA/ PRODUCTO (INDICADOR)/ META PRODUCTO | D2: RESPONSABLE(S) | E2: VALORACIÓN PONDERACIÓN % (PROPUESTA) | F2: META PRODUCTO (PRODUCTO NUMERICO CUATRIENIO) | G2: PROGRAMADO NUMERICO META PRODUCTO 2024 | H2: PROGRAMADO NUMERICO META PRODUCTO 2025 | I2: PROGRAMADO NUMERICO META PRODUCTO 2026 | J2: ESPERADO PORCENTUAL META PRODUCTO CUATRIENIO EN LA VIGENCIA 2024 | K2: ESPERADO PORCENTUAL META PRODUCTO CUATRIENIO EN LA VIGENCIA 2025 | L2: ESPERADO PORCENTUAL META PRODUCTO CUATRIENIO EN LA VIGENCIA 2026 | M2: ESPERADO PORCENTUAL META PRODUCTO CUATRIENIO EN LA VIGENCIA 2024 (PONDERADOR) | N2: ESPERADO PORCENTUAL META PRODUCTO CUATRIENIO EN LA VIGENCIA 2025 (PONDERADOR) | O2: ESPERADO PORCENTUAL META PRODUCTO CUATRIENIO EN LA VIGENCIA 2026 (PONDERADOR) | P2: AVANCE NUMERICO META PRODUCTO CORTE DICIEMBRE 2024 | Q2: AVANCE NUMERICO META PRODUCTO CORTE MARZO 2025 | R2: AVANCE NUMERICO META PRODUCTO CORTE JUNIO 2025 | S2: AVANCE NUMERICO META PRODUCTO CORTE SEPTIEMBRE 2025 | T2: AVANCE NUMERICO META PRODUCTO CORTE 15 DE NOVIEMBRE 2025 | U2: AVANCE NUMERICO META PRODUCTO CORTE 31 DICIEMBRE | V2: ACUMULADO PARCIAL 2025 | W2: ACUMULADO 2024 - 2025 - PARCIAL 2026 | X2: AVANCE NUMERICO META PRODUCTO CORTE 31 DE MARZO 2026 | Y2: AVANCE NUMERICO META PRODUCTO CORTE 30 DE JUNIO 2026 | Z2: AVANCE NUMERICO META PRODUCTO CORTE 3O DE SEPTIEMBRE 2026 | AA2: AVANCE NUMERICO META PRODUCTO CORTE 31 DE DICIEMBRE 2026 | AB2: ACUMUALDO PARCIAL 2026 | AC2: LOGRO (%) META PRODUCTO RESPECTO AL PROGRAMADO 2024 CORTE DICIEMBRE | AD2: LOGRO (%) META PRODUCTO RESPECTO AL PROGRAMADO 2025 CORTE DICIEMBRE | AE2: LOGRO (%) META PRODUCTO RESPECTO AL PROGRAMADO 2026 CORTE JUNIO | AF2: LOGRO (%) META PRODUCTO RESPECTO AL PROGRAMADO DICIEMBRE 2024 (PONDERADOR) | AG2: LOGRO (%) META PRODUCTO RESPECTO AL PROGRAMADO DICIEMBRE 2025 (PONDERADOR) | AH2: LOGRO (%) META PRODUCTO RESPECTO AL PROGRAMADO MARZO 2026 (PONDERADOR) | AI2: LOGRO (%) META PRODUCTO RESPECTO AL PROGRAMADO CUATRIENIO ACUMULADO DICIEMBRE 2024 | AJ2: LOGRO (%) META PRODUCTO RESPECTO AL PROGRAMADO CUATRIENIO ACUMULADO DICIEMBRE 2025 | AK2: LOGRO (%) META PRODUCTO RESPECTO AL PROGRAMADO CUATRIENIO ACUMULADO JUNIO 2026 | AL2: LOGRO (%) META PRODUCTO RESPECTO AL PROGRAMADO CUATRIENIO DICIEMBRE 2024 (PONDERADOR) | AM2: LOGRO (%) META PRODUCTO RESPECTO AL PROGRAMADO CUATRIENIO DE DICIEMBRE 2025 (PONDERADOR) | AN2: LOGRO (%) META PRODUCTO RESPECTO AL PROGRAMADO CUATRIENIO JUNIO 2026 (PONDERADOR) | AO2: OBSERVACIONES DICIEMBRE 2024 | AP2: OBSERVACIONES MARZO 2025 | AQ2: OBSERVACIONES 10 JUNIO 2025 | AR2: OBSERVACIONES 30 JUNIO 2025 | AS2: OBSERVACIONES SEPTIEMBRE 15 DE 2025 | AT2: OBSERVACIONES NOVIEMBRE 15 DE 2025 | AU2: OBSERVACIONES DICIEMBRE 2025 | AV2: OBSERVACIONES MARZO 2026 | AW2: OBSERVACIONES JUNIO 2026
B3: SEGURIDAD HUMANA | E3: 0.3 | J3: =+(J4+J31+J91+J130+J171)/5 -> 0.27144915 | K3: =+(K4+K31+K91+K130+K171)/5 -> 0.37391118 | L3: =+(L4+L31+L91+L130+L171)/5 -> 0.27891301 | M3: =+(M4+M31+M91+M130+M171)/5 -> 0.19634476 | N3: =+(N4+N31+N91+N130+N171)/5 -> 0.25311666 | AC3: =+(AC4+AC31+AC91+AC130+AC171)/5 -> 0.84423613 | AD3: =+(AD4+AD31+AD91+AD130+AD171)/5 -> 0.84734963 | AE3: =+(AE4+AE31+AE91+AE130+AE171)/5 -> 0.41726944 | AF3: =+F4+F31+F91+F130+F171 -> 0.66052564 | AG3: =+H4+H31+H91+H130+H171 -> 0.69622572 | AH3: =+I4+I31+I91+I130+I171 -> 0.29484586 | AI3: =+(AI4+AI31+AI91+AI130+AI171)/5 -> 0.25488093 | AJ3: 0.52039962 | AK3: =+(AK4+AK31+AK91+AK130+AK171)/5 -> 0.60343481 | AL3: =+(AL4+AL31+AL91+AL130+AL171)/5 -> 0.21296825 | AM3: =+(AM4*E4)+(AM31*E31)+(AM91*E91)+(AM130*E130)+(AM171*E171) -> 0.4790825 | AN3: =+(AN4*E4)+(AN31*E31)+(AN91*E91)+(AN130*E130)+(AN171*E171) -> 0.56928057
B4: Seguridad Ciudadana y Orden Público | E4: 0.25 | F4: =+E4*AF4 -> 0.13864387 | H4: =E4*AG4 -> 0.12922605 | I4: =+AH4*E4 -> 0.019377896 | J4: =+(J5+J12+J16+J23+J26)/5 -> 0.40844696 | K4: =+(K5+K12+K16+K23+K26)/5 -> 0.48443539 | L4: =+(L5+L12+L16+L23+L26)/5 -> 0.2418641 | M4: =+(M5+M12+M16+M23+M26)/5 -> 0.35458118 | N4: =+(N5+N12+N16+N23+N26)/5 -> 0.27871913 | AC4: =+(AC5+AC12+AC16+AC23+AC26)/5 -> 0.82393082 | AD4: =+(AD5+AD12+AD16+AD23+AD26)/5 -> 0.77851984 | AE4: =+(AE5+AE12+AE16+AE23+AE26)/5 -> 0.21202317 | AF4: =+AF5+AF12+AF16+AF23+AF26 -> 0.55457547 | AG4: =+AG5+AG12+AG16+AG23+AG26 -> 0.5169042 | AH4: =+AH5+AH12+AH16+AH23+AH26 -> 0.077511585 | AI4: =+(AI5+AI12+AI16+AI23+AI26)/5 -> 0.40033302 | AJ4: 0.64063194 | AK4: =+(AK5+AK12+AK16+AK23+AK26)/5 -> 0.67428194 | AL4: =+AL5+AL12+AL16+AL23+AL26 -> 0.34369349 | AM4: =+(AM5*E5)+(AM12*E12)+(AM16*E16)+(AM23*E23)+(AM26*E26) -> 0.56618943 | AN4: =+(AN5*E5)+(AN12*E12)+(AN16*E16)+(AN23*E23)+(AN26*E26) -> 0.61677484
B5: PLAN ESTRATÉGICO DE SEGURIDAD INTEGRAL TITAN 24 | E5: 0.35 | J5: =+AVERAGE(J6:J11) -> 0.37666667 | K5: =+AVERAGE(K6:K11) -> 0.3875 | L5: =+AVERAGE(L6:L11) -> 0.15625 | M5: =+M6+M7+M8+M9+M10+M11 -> 0.26083333 | N5: =+N6+N7+N8+N9+N10+N11 -> 0.1775 | AC5: =+AVERAGE(AC6:AC11) -> 0.6 | AD5: =+AVERAGE(AD6:AD11) -> 0.75 | AE5: =+AVERAGE(AE6:AE11) -> 0.6 | AF5: =+(AF6+AF7+AF8+AF9+AF10+AF11)*E5 -> 0.175 | AG5: =+(AG6+AG7+AG8+AG9+AG10+AG11)*E5 -> 0.1925 | AH5: =+(AH6+AH7+AH8+AH9+AH10+AH11)*E5 -> 0.0315 | AI5: =+AVERAGE(AI6:AI11) -> 0.3 | AJ5: 0.41 | AK5: =+AVERAGE(AK6:AK11) -> 0.47708333 | AL5: =+(AL6+AL7+AL8+AL9+AL10+AL11)*E5 -> 0.109375 | AM5: =+(AM6+AM7+AM8+AM9+AM10+AM11) -> 0.39 | AN5: =+(AN6+AN7+AN8+AN9+AN10+AN11) -> 0.505625
B6: Comandos Élites de la Policía Nacional para la seguridad y protección ciudadana equipados | C6: Equipar tres (3) Comandos Élites de la Policía Nacional para la seguridad y protección ciudadana | D6: DISTRISEGURIDAD - SECRETARÍA DEL INTERIOR Y CONVIVENCIA CIUDADANA | E6: 0.25 | F6: 3 | G6: 1 | I6: 0 | J6: =+G6/F6 -> 0.33333333 | M6: =+(G6/F6)*E6 -> 0.083333333 | P6: 3 | Q6: 0 | T6: 0 | U6: 0 | V6: =+Q6+R6+S6+T6+U6 -> 0 | W6: =+V6+P6+AB6 -> 3 | X6: 0 | AC6: 1 | AF6: =+AC6*E6 -> 0.25 | AI6: =+P6/F6 -> 1 | AJ6: 1 | AK6: =+W6/F6 -> 1 | AL6: =+AI6*E6 -> 0.25 | AM6: =+AJ6*E6 -> 0.25 | AN6: =+AK6*E6 -> 0.25 | AO6: META CUMPLIDA | AP6: META CUMPLIDA. PERO REVISAR PORQUE LA PROGRAMARON PARA EL 2025 | AQ6: REVISADO JUNIO 10 | AR6: REVISADO 30 JUNIO | AS6: REVISADO 15 DE SEPTIEMBRE | AT6: REVISADO 15 DE NOVIEMBRE | AU6: REVISADO 31 DE DICIEMBRE | AV6: REVISADO MARZO 2026
B7: Equipos para la seguridad y la convivencia conformados | C7: Conformar un (1) Equipo Interdisciplinario para articulación y coordinación de estrategias de seguridad y un (1) Equipo Operativo de Gestores de Convivencia | D7: SECRETARÍA DEL INTERIOR Y CONVIVENCIA CIUDADANA - DISTRISEGURIDAD | E7: 0.05 | F7: 4 | G7: 1 | H7: 1 | I7: 0.25 | J7: =+G7/F7 -> 0.25 | K7: =+H7/F7 -> 0.25 | L7: =+I7/F7 -> 0.0625 | M7: =+(G7/F7)*E7 -> 0.0125 | N7: =+(H7/F7)*E7 -> 0.0125 | P7: 1 | Q7: 1 | R7: 0 | S7: 0 | T7: 0 | U7: 0 | V7: =+Q7+R7+S7+T7+U7 -> 1 | W7: =+V7+P7+AB7 -> 3.25 | X7: 0.25 | Y7: 1 | AB7: =+X7+Y7+Z7+AA7 -> 1.25 | AC7: =+(P7/G7) -> 1 | AD7: =+V7/H7 -> 1 | AE7: 1 | AF7: =+AC7*E7 -> 0.05 | AG7: =+AD7*E7 -> 0.05 | AH7: =+AE7*E7 -> 0.05 | AI7: =+P7/F7 -> 0.25 | AJ7: 0.5 | AK7: =+W7/F7 -> 0.8125 | AL7: =+AI7*E7 -> 0.0125 | AM7: =+AJ7*E7 -> 0.025 | AN7: =+AK7*E7 -> 0.040625 | AO7: REVISADO DIC 2024 | AP7: REVISADO MARZO 2025 | AQ7: REVISADO JUNIO 10 | AR7: REVISADO 30 JUNIO | AS7: REVISADO 15 DE SEPTIEMBRE | AT7: REVISADO 15 DE NOVIEMBRE | AU7: REVISAR CON ENLACE QUE AJUSTAN EL REPORTE DE MARZO, CUANDO YA HA PASADO 9 MESES. | AV7: REVISAR CON ENLACE DE SECRETARÍA DEL INTERIOR. | AW7: REVISAR CON ENLACE
B8: Organismos de Seguridad dotados y con servicios en el marco del PISCC 2024-2027 | C8: Dotar y proveer de servicios a cinco (5) organismos de seguridad en el marco del PISCC 2024-2027 | D8: SECRETARÍA DEL INTERIOR Y CONVIVENCIA CIUDADANA | E8: 0.2 | F8: 20 | G8: 5 | H8: 5 | I8: 5 | J8: =+G8/F8 -> 0.25 | K8: =+H8/F8 -> 0.25 | L8: =+I8/F8 -> 0.25 | M8: =+(G8/F8)*E8 -> 0.05 | N8: =+(H8/F8)*E8 -> 0.05 | P8: 5 | Q8: 0 | R8: 2 | S8: 1 | T8: 2 | U8: 0 | V8: =+Q8+R8+S8+T8+U8 -> 5 | W8: =+V8+P8+AB8 -> 11 | X8: 1 | Y8: 0 | AB8: =+X8+Y8+Z8+AA8 -> 1 | AC8: =+(P8/G8) -> 1 | AD8: =+V8/H8 -> 1 | AE8: =+AB8/I8 -> 0.2 | AF8: =+AC8*E8 -> 0.2 | AG8: =+AD8*E8 -> 0.2 | AH8: =+AE8*E8 -> 0.04 | AI8: =+P8/F8 -> 0.25 | AJ8: 0.5 | AK8: 1 | AL8: =+AI8*E8 -> 0.05 | AM8: =+AJ8*E8 -> 0.1 | AN8: =+AK8*E8 -> 0.2 | AO8: REVISADO DIC 2024 | AP8: REVISAR CON ENLACE YA QUE EL PROGRAMADO CUATRIENIO DEBE SER 20 Y EN EL PLAN DE ACCIÓN EL PRROGRAMADO CUATRIENIO ES SOLO 5 | AQ8: REVISADO JUNIO 10 | AR8: REVISADO 30 JUNIO | AS8: REVISAR CON ENLACE | AT8: REVISADO 15 DE NOVIEMBRE | AU8: REVISADO 31 DE DICIEMBRE | AV8: REVISAR CON ENLACE DE SECRETARÍA DEL INTERIOR. | AW8: REVISADO JUNIO 2026
B9: Centro de Procesamiento de Información Institucional y análisis situacional para el Seguimiento del Delito conformado | C9: Conformar un (1) Centro de Procesamiento de Información Institucional y análisis situacional para el Seguimiento del Delito | D9: DISTRISEGURIDAD - SECRETARÍA DEL INTERIOR Y CONVIVENCIA CIUDADANA | E9: 0.1 | F9: 1 | G9: 1 | H9: 1 | I9: 0 | J9: =+G9/F9 -> 1 | K9: =+H9/F9 -> 1 | M9: =+(G9/F9)*E9 -> 0.1 | N9: =+(H9/F9)*E9 -> 0.1 | P9: 0 | Q9: 0 | R9: 0 | S9: 0 | T9: 0 | U9: 0 | V9: =+Q9+R9+S9+T9+U9 -> 0 | W9: =+V9+P9+AB9 -> 0 | X9: 0 | AB9: =+X9+Y9+Z9+AA9 -> 0 | AC9: =+(P9/G9) -> 0 | AD9: =+V9/H9 -> 0 | AF9: =+AC9*E9 -> 0 | AG9: =+AD9*E9 -> 0 | AI9: =+P9/F9 -> 0 | AJ9: 0 | AK9: =+W9/F9 -> 0 | AL9: =+AI9*E9 -> 0 | AM9: =+AJ9*E9 -> 0 | AN9: =+AK9*E9 -> 0 | AO9: REVISADO DIC 2024 | AP9: REVISADO MARZO 2025 | AQ9: REVISADO JUNIO 10 | AR9: REVISADO 30 JUNIO | AS9: REVISADO 15 DE SEPTIEMBRE | AU9: REVISADO 31 DE DICIEMBRE | AV9: REVISADO MARZO 2026
B10: Política Pública de Seguridad Humana Integral formulada | C10: Formular una (1) Política Pública de Seguridad Humana Integral | D10: SECRETARÍA DEL INTERIOR Y CONVIVENCIA CIUDADANA | E10: 0.1 | F10: 1 | G10: 0 | H10: 0 | I10: 0 | V10: =+Q10+R10+S10+T10+U10 -> 0 | W10: =+V10+P10+AB10 -> 0 | Y10: 0 | AB10: =+X10+Y10+Z10+AA10 -> 0 | AG10: =+AD10*E10 -> 0 | AK10: 0 | AL10: 0 | AM10: 0 | AN10: 0 | AO10: REVISADO DIC 2024 | AP10: REVISAR CUANDO SE PROGRAME Y REPORTE PARA EL 2025 | AQ10: REVISADO JUNIO 10 | AR10: REVISADO 30 JUNIO | AS10: SE REPROGRAMÓ A 0 PARA ESTA VIGENCIA | AT10: REVISADO 15 DE NOVIEMBRE | AU10: REVISADO 31 DE DICIEMBRE | AV10: REVISADO MARZO 2026 | AW10: REVISADO JUNIO 2026
B11: Operativos anuales de protección, defensa, recuperación de bienes de uso público marino costero desarrollados | C11: Desarrollar diez (10) operativos anuales de protección, defensa, recuperación de bienes de uso público marino costero en el Distrito a través del ECOBLOQUE | D11: SECRETARÍA DEL INTERIOR Y CONVIVENCIA CIUDADANA DISTRISEGURIDAD ESTABLECIMIENTO PÚBLICO AMBIENTAL (FRANCISCO CASTILLO) OFICINA ASESORA PARA LA GESTIÓN DEL RIESGO DE DESASTRES GERENCIA DE ESPACIO PÚBLICO Y MOVILIDAD | E11: 0.3 | F11: 40 | G11: 2 | H11: 2 | I11: 0 | J11: =+G11/F11 -> 0.05 | K11: =+H11/F11 -> 0.05 | M11: =+(G11/F11)*E11 -> 0.015 | N11: =+(H11/F11)*E11 -> 0.015 | P11: 0 | Q11: 0 | R11: 0 | S11: 2 | T11: 0 | U11: 0 | V11: =+Q11+R11+S11+T11+U11 -> 2 | W11: =+V11+P11+AB11 -> 2 | X11: 0 | AB11: =+X11+Y11+Z11+AA11 -> 0 | AC11: =+(P11/G11) -> 0 | AD11: =+V11/H11 -> 1 | AF11: =+AC11*E11 -> 0 | AG11: =+AD11*E11 -> 0.3 | AI11: =+P11/F11 -> 0 | AJ11: 0.05 | AK11: =+W11/F11 -> 0.05 | AL11: =+AI11*E11 -> 0 | AM11: =+AJ11*E11 -> 0.015 | AN11: =+AK11*E11 -> 0.015 | AO11: REVISADO DIC 2024 | AP11: REVISADO MARZO 2025 | AQ11: REVISADO JUNIO 10 | AR11: META N0 PROGRAMDA EN LAS DOS VIGENCIAS 2024 - 2025 | AS11: REVISAR CON ENLACE | AT11: REVISADO 15 DE NOVIEMBRE | AU11: REVISADO 31 DE DICIEMBRE | AV11: REVISADO CON ENLACE, YA QUE LA META CUATRIENIO ES 40 NO 10.
B12: EL CUERPO DE BOMBEROS AVANZA | E12: 0.15 | J12: 0.666 | K12: =+AVERAGE(K13:K15) -> 1 | L12: =+AVERAGE(L13:L15)/3 -> 0.33333333 | M12: =+M13+M14+M15 -> 0.35 | N12: =+N13+N14+N15 -> 0.35 | AC12: =+AVERAGE(AC13:AC15) -> 1 | AD12: =+AVERAGE(AD13:AD15) -> 0.5 | AE12: =+AVERAGE(AE13:AE15) -> 0 | AF12: =+(AF13+AF14+AF15)*E12 -> 0.0525 | AG12: =+(AG13+AG14+AG15)*E12 -> 0 | AH12: =+(AH13+AH14+AH15)*E12 -> 0 | AI12: 0.666 | AJ12: 0.66666667 | AK12: =+AVERAGE(AK13:AK15) -> 0.66666667 | AL12: =+(AL13+AL14+AL15)*E12 -> 0.0975 | AM12: =+(AM13+AM14+AM15) -> 0.65 | AN12: =+(AN13+AN14+AN15) -> 0.65 | AP12: SE COLOCA ACUMULADO CUATRIENIO MANUAL HASTA QUE SE REPORTE AVANCE DE LA PRIMERA Y SEGUNDA META PRODUCTO.
B13: Estaciones de bomberos nuevas construidas | C13: Construir una (1) Estación de Bomberos regional nueva | D13: SECRETARÍA DEL INTERIOR Y CONVIVENCIA CIUDADANA | E13: 0.35 | F13: 1 | G13: 0 | H13: 0 | I13: 1 | L13: =+I13/F13 -> 1 | R13: 0 | V13: =+Q13+R13+S13+T13+U13 -> 0 | W13: =+V13+P13+AB13 -> 0 | X13: 0 | Y13: 0 | AB13: =+X13+Y13+Z13+AA13 -> 0 | AE13: =+AB13/I13 -> 0 | AH13: =+AE13*E13 -> 0 | AI13: 0 | AJ13: 0 | AK13: =+W13/F13 -> 0 | AL13: =+AI13*E13 -> 0 | AM13: =+AJ13*E13 -> 0 | AN13: =+AK13*E13 -> 0 | AO13: REVISADO DIC 2024 | AP13: REVISADO MARZO 2025 | AQ13: REVISADO JUNIO 10 | AR13: REVISADO 30 JUNIO | AS13: REVISADO 15 DE SEPTIEMBRE | AT13: REVISADO 15 DE NOVIEMBRE | AU13: REVISADO 31 DE DICIEMBRE | AV13: REVISADO MARZO 2026
B14: Estaciones de bomberos adecuadas | C14: Adecuar una (1) Estación de Bomberos | D14: SECRETARÍA DEL INTERIOR Y CONVIVENCIA CIUDADANA | E14: 0.35 | F14: 1 | G14: 1 | H14: 1 | I14: 1 | J14: =+G14/F14 -> 1 | K14: =+H14/F14 -> 1 | M14: =+(G14/F14)*E14 -> 0.35 | N14: =+(H14/F14)*E14 -> 0.35 | P14: 1 | Q14: 0 | R14: 0 | S14: 0 | T14: 0 | U14: 0 | V14: =+Q14+R14+S14+T14+U14 -> 0 | W14: =+V14+P14+AB14 -> 1 | X14: 0 | Y14: 0 | AB14: =+X14+Y14+Z14+AA14 -> 0 | AC14: =+(P14/G14) -> 1 | AD14: =+V14/H14 -> 0 | AE14: =+AB14/I14 -> 0 | AF14: =+AC14*E14 -> 0.35 | AG14: =+AD14*E14 -> 0 | AH14: =+AE14*E14 -> 0 | AI14: =+P14/F14 -> 1 | AJ14: 1 | AK14: =+W14/F14 -> 1 | AL14: =+AI14*E14 -> 0.35 | AM14: =+AJ14*E14 -> 0.35 | AN14: =+AK14*E14 -> 0.35 | AO14: REVISADO DIC 2024 | AP14: META CUMPLIDA | AQ14: REVISADO JUNIO 10 | AR14: REVISADO 30 JUNIO | AS14: REVISADO 15 DE SEPTIEMBRE | AT14: REVISADO 15 DE NOVIEMBRE | AU14: REVISADO 31 DE DICIEMBRE | AV14: REVISADO MARZO 2026
B15: Número de máquinas extintoras del Cuerpo de Bomberos para la atención de emergencias | C15: Incrementar a ocho (8) el número de máquinas extintoras del Cuerpo de Bomberos para la atención de emergencias | D15: SECRETARÍA DEL INTERIOR Y CONVIVENCIA CIUDADANA | E15: 0.3 | F15: 2 | G15: 2 | H15: 2 | I15: 1 | J15: =+G15/F15 -> 1 | P15: 2 | Q15: 0 | R15: 0 | S15: 2 | T15: 0 | U15: 2 | V15: =+Q15+R15+S15+T15+U15 -> 4 | W15: =+V15+P15+AB15 -> 6 | X15: 0 | Y15: 0 | AB15: =+X15+Y15+Z15+AA15 -> 0 | AC15: =+(P15/G15) -> 1 | AD15: 1 | AE15: =+AB15/I15 -> 0 | AH15: =+AE15*E15 -> 0 | AI15: =+P15/F15 -> 1 | AJ15: 1 | AK15: 1 | AL15: =+AI15*E15 -> 0.3 | AM15: =+AJ15*E15 -> 0.3 | AN15: =+AK15*E15 -> 0.3 | AO15: META CUMPLIDA | AP15: META CUMPLIDA | AQ15: REVISADO JUNIO 10 | AR15: META CUMPLIDA | AS15: REVISADO 15 DE SEPTIEMBRE | AT15: REVISADO 15 DE NOVIEMBRE | AU15: REVISADO 31 DE DICIEMBRE | AV15: REVISADO MARZO 2026
B16: SEGURIDAD YA CON DOTACIÓN A LOS ORGANISMOS DE SEGURIDAD, SOCORRO, JUSTICIA Y CONVIVENCIA Y TECNOLOGÍA PARA LA PREVENCIÓN | E16: 0.3 | J16: =+AVERAGE(J17:J22) -> 0.21866537 | K16: =+AVERAGE(K17:K22) -> 0.52361748 | L16: =+AVERAGE(L17:L22) -> 0.27343801 | M16: =+M17+M18+M19+M20+M21+M22 -> 0.23116978 | N16: =+N17+N18+N19+N20+N21+N22 -> 0.53003621 | AC16: =+AVERAGE(AC17:AC22) -> 0.51965409 | AD16: =+AVERAGE(AD17:AD22) -> 0.76968252 | AE16: =+AVERAGE(AE17:AE22) -> 0 | AF16: =+(AF17+AF18+AF19+AF20+AF21+AF22)*E16 -> 0.12707547 | AG16: =+(AG17+AG18+AG19+AG20+AG21+AG22)*E16 -> 0.20711254 | AH16: =+(AH17+AH18+AH19+AH20+AH21+AH22)*E16 -> 0 | AI16: =+AVERAGE(AI17:AI22) -> 0.18898231 | AJ16: 0.70675054 | AK16: =+AVERAGE(AK17:AK22) -> 0.70675054 | AL16: =+(AL17+AL18+AL19+AL20+AL21+AL22)*E16 -> 0.037150209 | AM16: =+(AM17+AM18+AM19+AM20+AM21+AM22) -> 0.60071726 | AN16: =+(AN17+AN18+AN19+AN20+AN21+AN22) -> 0.60071726
B17: Cámaras de seguridad mantenidas | C17: Mantener ochocientas setenta y nueve (879) cámaras | D17: DISTRISEGURIDAD | E17: 0.1 | F17: =879*4 -> 3516 | G17: 219 | H17: 400 | I17: 700 | J17: =+G17/F17 -> 0.062286689 | K17: =+H17/879 -> 0.45506257 | L17: =+I17/F17 -> 0.19908987 | M17: =+(G17/F17)*E17 -> 0.0062286689 | N17: =+(H17/879)*E17 -> 0.045506257 | P17: 484 | Q17: 0 | R17: 200 | S17: 172 | T17: 0 | U17: 0 | V17: =+Q17+R17+S17+T17+U17 -> 372 | W17: =+V17+P17+AB17 -> 856 | X17: 0 | AB17: =+X17+Y17+Z17+AA17 -> 0 | AC17: 1 | AD17: =+V17/H17 -> 0.93 | AE17: =+AB17/I17 -> 0 | AF17: =+AC17*E17 -> 0.1 | AG17: =+AD17*E17 -> 0.093 | AH17: =+AE17*E17 -> 0 | AI17: =+P17/F17 -> 0.13765643 | AJ17: 0.9738339 | AK17: =+W17/879 -> 0.9738339 | AL17: =+AI17*E17 -> 0.013765643 | AM17: =+AJ17*E17 -> 0.09738339 | AN17: =+AK17*E17 -> 0.09738339 | AO17: REVISADO DIC 2024 | AP17: SE AJUSTA EL ACUMULADO CUATRIENIO EN MARZO 2025 YA QUE SE CORRIGIÓ LA META CUATRIENIO A 879. | AQ17: REVISAR CON ENLACE | AR17: REVISADO 30 JUNIO | AS17: REPROGRAMADA DE 200 A 400 | AT17: REVISADO 15 DE NOVIEMBRE | AU17: REVISADO 31 DE DICIEMBRE | AV17: REVISADO MARZO 2026
B18: Cámaras de seguridad instaladas | C18: Instalar ochocientas cuarenta y nueve (849) cámaras nuevas | D18: DISTRISEGURIDAD | E18: 0.2 | F18: 849 | G18: 212 | H18: 729 | I18: 200 | J18: =+G18/F18 -> 0.24970554 | K18: =+H18/F18 -> 0.85865724 | L18: =+I18/F18 -> 0.23557126 | M18: =+(G18/F18)*E18 -> 0.049941107 | N18: =+(H18/F18)*E18 -> 0.17173145 | P18: 25 | Q18: 0 | R18: 162 | S18: 478 | T18: 0 | U18: 38 | V18: =+Q18+R18+S18+T18+U18 -> 678 | W18: =+V18+P18+AB18 -> 703 | X18: 0 | AB18: =+X18+Y18+Z18+AA18 -> 0 | AC18: =+(P18/G18) -> 0.11792453 | AD18: =+V18/H18 -> 0.93004115 | AE18: =+AB18/I18 -> 0 | AF18: =+AC18*E18 -> 0.023584906 | AG18: =+AD18*E18 -> 0.18600823 | AH18: =+AE18*E18 -> 0 | AI18: =+P18/F18 -> 0.029446408 | AJ18: 0.82803298 | AK18: =+W18/F18 -> 0.82803298 | AL18: =+AI18*E18 -> 0.0058892815 | AM18: =+AJ18*E18 -> 0.1656066 | AN18: =+AK18*E18 -> 0.1656066 | AO18: REVISADO DIC 2024 | AP18: REVISADO MARZO 2025 | AQ18: REVISAR CON ENLACE | AR18: REVISADO 30 JUNIO | AS18: REPROGRAMADA DE 399 A 729 | AT18: REVISADO 15 DE NOVIEMBRE | AU18: REVISADO 31 DE DICIEMBRE | AV18: REVISADO MARZO 2026
B19: Sistemas de información para la seguidad implementados | C19: Implementar cuatrocientos cuarenta (440) sistemas de información para la seguridad (alarmas comunitarias, drones, totem) | D19: DISTRISEGURIDAD | E19: 0.2 | F19: 440 | G19: 110 | H19: 187 | I19: 70 | J19: =+G19/F19 -> 0.25 | K19: =+H19/F19 -> 0.425 | L19: =+I19/F19 -> 0.15909091 | M19: =+(G19/F19)*E19 -> 0.05 | N19: =+(H19/F19)*E19 -> 0.085 | P19: 33 | Q19: 0 | R19: 0 | S19: 160 | T19: 0 | U19: 0 | V19: =+Q19+R19+S19+T19+U19 -> 160 | W19: =+V19+P19+AB19 -> 193 | X19: 0 | AB19: =+X19+Y19+Z19+AA19 -> 0 | AC19: 1 | AD19: =+V19/H19 -> 0.85561497 | AE19: =+AB19/I19 -> 0 | AF19: =+AC19*E19 -> 0.2 | AG19: =+AD19*E19 -> 0.17112299 | AH19: =+AE19*E19 -> 0 | AI19: =+P19/F19 -> 0.075 | AJ19: 0.43863636 | AK19: =+W19/F19 -> 0.43863636 | AL19: =+AI19*E19 -> 0.015 | AM19: =+AJ19*E19 -> 0.087727273 | AN19: =+AK19*E19 -> 0.087727273 | AO19: REVISADO DIC 2024 | AP19: REVISADO MARZO 2025 | AQ19: REVISAR CON ENLACE | AR19: REVISADO 30 JUNIO | AS19: REVISADO 15 DE SEPTIEMBRE | AT19: REVISADO 15 DE NOVIEMBRE | AU19: REVISADO 31 DE DICIEMBRE | AV19: REVISADO MARZO 2026
B20: Equipos de seguridad adquiridos | C20: Adquirir ciento veinte (120) equipos de comunicación para la seguridad (tipo radio, equipos celulares) | D20: DISTRISEGURIDAD | E20: 0.15 | F20: 120 | G20: 30 | H20: 120 | I20: 0 | J20: =+G20/F20 -> 0.25 | K20: =+H20/F20 -> 1 | M20: =+(G20/F20)*E20 -> 0.0375 | N20: =+(H20/F20)*E20 -> 0.15 | P20: 0 | Q20: 0 | R20: 0 | S20: 0 | T20: 0 | U20: 180 | V20: =+Q20+R20+S20+T20+U20 -> 180 | W20: =+V20+P20+AB20 -> 180 | X20: 0 | AB20: =+X20+Y20+Z20+AA20 -> 0 | AC20: =+(P20/G20) -> 0 | AD20: 1 | AF20: =+AC20*E20 -> 0 | AG20: =+AD20*E20 -> 0.15 | AH20: =+AE20*E20 -> 0 | AI20: =+P20/F20 -> 0 | AJ20: 1 | AK20: 1 | AL20: =+AI20*E20 -> 0 | AM20: =+AJ20*E20 -> 0.15 | AN20: =+AK20*E20 -> 0.15 | AO20: REVISADO DIC 2024 | AP20: REVISADO MARZO 2025 | AQ20: REVISAR CON ENLACE | AR20: REVISADO 30 JUNIO | AS20: SE REPROGRAMA DE 60 A 180 | AT20: REVISADO 15 DE NOVIEMBRE | AU20: META CUMPLIDA A DICIEMBRE DE 2025 | AV20: REVISADO MARZO 2026
B21: Infraestructura para la promoción a la cultura de la legalidad y a la convivencia construida | C21: Construir cuatro (4) infraestructuras para la promoción de la cultura de la legalidad y la convivencia CAIs, subestaciones, estaciones, centro de inteligencia) | D21: DISTRISEGURIDAD | E21: 0.25 | F21: 4 | G21: 1 | H21: 1 | I21: 2 | J21: =+G21/F21 -> 0.25 | K21: =+H21/F21 -> 0.25 | L21: =+I21/F21 -> 0.5 | M21: =+(G21/F21)*E21 -> 0.0625 | N21: =+(H21/F21)*E21 -> 0.0625 | P21: 0 | Q21: 0 | R21: 0 | S21: 0 | T21: 0 | U21: 0 | V21: =+Q21+R21+S21+T21+U21 -> 0 | W21: =+V21+P21+AB21 -> 0 | X21: 0 | AB21: =+X21+Y21+Z21+AA21 -> 0 | AC21: =+(P21/G21) -> 0 | AD21: =+V21/H21 -> 0 | AE21: =+AB21/I21 -> 0 | AF21: =+AC21*E21 -> 0 | AG21: =+AD21*E21 -> 0 | AH21: =+AE21*E21 -> 0 | AI21: =+P21/F21 -> 0 | AJ21: 0 | AK21: =+W21/F21 -> 0 | AL21: =+AI21*E21 -> 0 | AM21: =+AJ21*E21 -> 0 | AN21: =+AK21*E21 -> 0 | AO21: REVISADO DIC 2024 | AP21: REVISADO MARZO 2025 | AQ21: REVISAR CON ENLACE | AR21: REVISADO 30 JUNIO | AS21: REVISADO 15 DE SEPTIEMBRE | AT21: REVISADO 15 DE NOVIEMBRE | AU21: REVISADO 31 DE DICIEMBRE | AV21: REVISAR CON ENLACE, YA QUE EL PROGRAAMDO INICIAL Y APROBADO ERA 3 Y EN EL REPORTE APARECE 2.
B22: Vehículos para la seguridad y convivencia entregados | C22: Entregar doscientos sesenta y ocho (268) vehículos para la seguridad (moto, camioneta, automóvil, camión, cuatrimotos, jet sky) | D22: DISTRISEGURIDAD | E22: 0.1 | F22: 268 | G22: 67 | H22: 41 | I22: 3 | J22: =+G22/F22 -> 0.25 | K22: =+H22/F22 -> 0.15298507 | M22: =+(G22/F22)*E22 -> 0.025 | N22: =+(H22/F22)*E22 -> 0.015298507 | P22: 239 | Q22: 0 | R22: 16 | S22: 0 | T22: 18 | U22: 3 | V22: =+Q22+R22+S22+T22+U22 -> 37 | W22: =+V22+P22+AB22 -> 276 | X22: 0 | AB22: =+X22+Y22+Z22+AA22 -> 0 | AC22: 1 | AD22: =+V22/H22 -> 0.90243902 | AE22: =+AB22/I22 -> 0 | AF22: =+AC22*E22 -> 0.1 | AG22: =+AD22*E22 -> 0.090243902 | AH22: =+AE22*E22 -> 0 | AI22: =+P22/F22 -> 0.89179104 | AJ22: 1 | AK22: 1 | AL22: =+AI22*E22 -> 0.089179104 | AM22: =+AJ22*E22 -> 0.1 | AN22: =+AK22*E22 -> 0.1 | AO22: REVISADO DIC 2024 | AP22: REVISADO MARZO 2025 | AQ22: REVISADO JUNIO 10 | AR22: REVISADO 30 JUNIO | AS22: SE REPROGRAMA DE 67 A 41 | AT22: REVISADO 15 DE NOVIEMBRE | AU22: REVISADO 31 DE DICIEMBRE | AV22: REVISADO MARZO 2026
B23: SEGURIDAD YA EN LAS PLAYAS DE CARTAGENA | E23: 0.1 | J23: =+AVERAGE(J24:J25) -> 0.625 | K23: =+AVERAGE(K24:K25) -> 0.25 | L23: =+AVERAGE(L24:L25)/2 -> 0.125 | M23: =+M24+M25 -> 0.775 | N23: =+N24+N25 -> 0.075 | AC23: =+AVERAGE(AC24:AC25) -> 1 | AD23: =+AVERAGE(AD24:AD25) -> 1 | AE23: =+AVERAGE(AE24:AE25) -> 0 | AF23: =+(AF24+AF25)*E23 -> 0.1 | AG23: =+(AG24+AG25)*E23 -> 0.03 | AH23: =+(AH24+AH25)*E23 -> 0 | AI23: =+AVERAGE(AI24:AI25) -> 0.625 | AJ23: 0.75 | AK23: =+AVERAGE(AK24:AK25) -> 0.75 | AL23: =+(AL24+AL25)*E23 -> 0.0775 | AM23: =+(AM24+AM25) -> 0.85 | AN23: =+(AN24+AN25) -> 0.85
B24: Organismos de atención de emergencias en las playas equipados | C24: Equipar a cuatro (4) organismos de atención de emergencias en playas | D24: DISTRISEGURIDAD - SECRETARÍA DE TURISMO | E24: 0.3 | F24: 4 | G24: 1 | H24: 1 | I24: 1 | J24: =+G24/F24 -> 0.25 | K24: =+H24/F24 -> 0.25 | L24: =+I24/F24 -> 0.25 | M24: =+(G24/F24)*E24 -> 0.075 | N24: =+(H24/F24)*E24 -> 0.075 | P24: 1 | Q24: 0 | R24: 0 | S24: 1 | T24: 0 | U24: 0 | V24: =+Q24+R24+S24+T24+U24 -> 1 | W24: =+V24+P24+AB24 -> 2 | X24: 0 | AB24: =+X24+Y24+Z24+AA24 -> 0 | AC24: =+(P24/G24) -> 1 | AD24: =+V24/H24 -> 1 | AE24: =+AB24/I24 -> 0 | AF24: =+AC24*E24 -> 0.3 | AG24: =+AD24*E24 -> 0.3 | AH24: =+AE24*E24 -> 0 | AI24: =+P24/F24 -> 0.25 | AJ24: 0.5 | AK24: =+W24/F24 -> 0.5 | AL24: =+AI24*E24 -> 0.075 | AM24: =+AJ24*E24 -> 0.15 | AN24: =+AK24*E24 -> 0.15 | AO24: REVISADO DIC 2024 | AP24: REVISADO MARZO 2025 | AQ24: REVISADO JUNIO 10 | AR24: REVISADO 30 JUNIO | AS24: REVISADO 15 DE SEPTIEMBRE | AT24: REVISADO 15 DE NOVIEMBRE | AV24: REVISADO MARZO 2026
B25: Infraestructura para seguridad y socorro en playas tipo Garitas | C25: Construir veinte (20) garitas nuevas para la seguridad en playas | D25: DISTRISEGURIDAD - SECRETARÍA DE TURISMO | E25: 0.7 | F25: 20 | G25: 20 | I25: 0 | J25: =+G25/F25 -> 1 | M25: =+(G25/F25)*E25 -> 0.7 | P25: 23 | T25: 0 | U25: 0 | V25: =+Q25+R25+S25+T25+U25 -> 0 | W25: =+V25+P25+AB25 -> 23 | X25: 0 | AB25: =+X25+Y25+Z25+AA25 -> 0 | AC25: 1 | AF25: =+AC25*E25 -> 0.7 | AH25: =+AE25*E25 -> 0 | AI25: 1 | AJ25: 1 | AK25: 1 | AL25: =+AI25*E25 -> 0.7 | AM25: =+AJ25*E25 -> 0.7 | AN25: =+AK25*E25 -> 0.7 | AO25: META CUMPLIDA | AP25: META CUMPLIDA. PERO REVISAR PORQUE SE PROGRAMARON 5 PARA LA VIGENCIA 2025 | AQ25: REVISADO JUNIO 10 | AR25: REVISADO 30 JUNIO | AS25: REVISADO 15 DE SEPTIEMBRE | AT25: REVISADO 15 DE NOVIEMBRE | AV25: REVISADO MARZO 2026
B26: EDUCACIÓN, CULTURA Y SEGURIDAD VIAL PARA AVANZAR | E26: 0.1 | J26: =+AVERAGE(J27:J30) -> 0.15590278 | K26: =+AVERAGE(K27:K30) -> 0.26105944 | L26: =+AVERAGE(L27:L30) -> 0.32129917 | M26: =+M27+M28+M29+M30 -> 0.15590278 | N26: =+N27+N28+N29+N30 -> 0.26105944 | AC26: =+AVERAGE(AC27:AC30) -> 1 | AD26: =+AVERAGE(AD27:AD30) -> 0.87291667 | AE26: =+AVERAGE(AE27:AE30) -> 0.46011585 | AF26: =+(AF27+AF28+AF29+AF30)*E26 -> 0.1 | AG26: =+(AG27+AG28+AG29+AG30)*E26 -> 0.087291667 | AH26: =+(AH27+AH28+AH29+AH30)*E26 -> 0.046011585 | AI26: =+AVERAGE(AI27:AI30) -> 0.22168278 | AJ26: 0.6697425 | AK26: =+AVERAGE(AK27:AK30) -> 0.77090917 | AL26: =+(AL27+AL28+AL29+AL30)*E26 -> 0.022168278 | AM26: =+(AM27+AM28+AM29+AM30) -> 0.6697425 | AN26: =+(AN27+AN28+AN29+AN30) -> 0.77090917
B27: Numero de actores viales capacitados en educación y cultura para la seguridad vial | C27: Formar a cien mil (100.000) actores viales en educación y cultura para la seguridad vial | D27: DATT | E27: 0.25 | F27: 100000 | G27: 20000 | H27: 21646 | I27: 4353 | J27: =+G27/F27 -> 0.2 | K27: =+H27/F27 -> 0.21646 | L27: =+I27/F27 -> 0.04353 | M27: =+(G27/F27)*E27 -> 0.05 | N27: =+(H27/F27)*E27 -> 0.054115 | P27: 45062 | Q27: 5568 | R27: 20185 | S27: 8480 | T27: 7457 | U27: 5895 | V27: =+Q27+R27+S27+T27+U27 -> 47585 | W27: =+V27+P27+AB27 -> 94697 | X27: 888 | Y27: 1162 | AB27: =+X27+Y27+Z27+AA27 -> 2050 | AC27: 1 | AD27: 1 | AE27: =+AB27/I27 -> 0.47093958 | AF27: =+AC27*E27 -> 0.25 | AG27: =+AD27*E27 -> 0.25 | AH27: =+AE27*E27 -> 0.1177349 | AI27: =+P27/F27 -> 0.45062 | AJ27: 0.92647 | AK27: =+W27/F27 -> 0.94697 | AL27: =+AI27*E27 -> 0.112655 | AM27: =+AJ27*E27 -> 0.2316175 | AN27: =+AK27*E27 -> 0.2367425 | AO27: REVISADO DIC 2024 | AP27: REVISADO MARZO 2025 | AQ27: REVISADO JUNIO 10 | AR27: REVISADO 30 JUNIO | AS27: REVISADO 15 DE SEPTIEMBRE | AT27: REVISADO 15 DE NOVIEMBRE | AU27: REVISADO 31 DE DICIEMBRE | AV27: REVISADO MARZO 2026 | AW27: REVISADO JUNIO 2026
B28: Número de mujeres formadas y vinculadas como gestoras de educación, cultura y seguridad vial | C28: Formar y vincular a cuatrocientas (400) mujeres como gestoras de educación, cultura y seguridad vial | D28: DATT | E28: 0.25 | F28: 400 | G28: 25 | H28: 120 | I28: 150 | J28: =+G28/F28 -> 0.0625 | K28: =+H28/F28 -> 0.3 | L28: =+I28/F28 -> 0.375 | M28: =+(G28/F28)*E28 -> 0.015625 | N28: =+(H28/F28)*E28 -> 0.075 | P28: 30 | Q28: 0 | R28: 45 | S28: 0 | T28: 0 | U28: 14 | V28: =+Q28+R28+S28+T28+U28 -> 59 | W28: =+V28+P28+AB28 -> 108 | X28: 6 | Y28: 13 | AB28: =+X28+Y28+Z28+AA28 -> 19 | AC28: 1 | AD28: =+V28/H28 -> 0.49166667 | AE28: =+AB28/I28 -> 0.12666667 | AF28: =+AC28*E28 -> 0.25 | AG28: =+AD28*E28 -> 0.12291667 | AH28: =+AE28*E28 -> 0.031666667 | AI28: =+P28/F28 -> 0.075 | AJ28: 0.2225 | AK28: =+W28/F28 -> 0.27 | AL28: =+AI28*E28 -> 0.01875 | AM28: =+AJ28*E28 -> 0.055625 | AN28: =+AK28*E28 -> 0.0675 | AO28: REVISADO DIC 2024 | AP28: REVISADO MARZO 2025 | AQ28: REVISADO JUNIO 10 | AR28: REVISADO 30 JUNIO | AS28: REVISADO 15 DE SEPTIEMBRE | AT28: REVISADO 15 DE NOVIEMBRE | AU28: REVISADO 31 DE DICIEMBRE | AV28: REVISADO MARZO 2026 | AW28: REVISADO JUNIO 2026
B29: Plan Local de Seguridad Vial actualizado e implementado | C29: Actualizar e implementar en su totalidad un (1) Plan Local de Seguridad Vial | D29: DATT | E29: 0.25 | F29: 1 | G29: 0.25 | H29: 0.25 | I29: 0.7 | J29: =+G29/F29 -> 0.25 | K29: =+H29/F29 -> 0.25 | L29: =+I29/F29 -> 0.7 | M29: =+(G29/F29)*E29 -> 0.0625 | N29: =+(H29/F29)*E29 -> 0.0625 | P29: 0.25 | Q29: 0.05 | R29: 0.1 | S29: 0.2 | T29: 0.23 | U29: 0 | V29: =+Q29+R29+S29+T29+U29 -> 0.58 | W29: =+V29+P29+AB29 -> 1 | X29: 0.17 | Y29: 0 | AB29: =+X29+Y29+Z29+AA29 -> 0.17 | AC29: =+(P29/G29) -> 1 | AD29: 1 | AE29: =+AB29/I29 -> 0.24285714 | AF29: =+AC29*E29 -> 0.25 | AG29: =+AD29*E29 -> 0.25 | AH29: =+AE29*E29 -> 0.060714286 | AI29: =+P29/F29 -> 0.25 | AJ29: 0.83 | AK29: =+W29/F29 -> 1 | AL29: =+AI29*E29 -> 0.0625 | AM29: =+AJ29*E29 -> 0.2075 | AN29: =+AK29*E29 -> 0.25 | AO29: REVISADO DIC 2024 | AP29: REVISADO MARZO 2025 | AQ29: REVISADO JUNIO 10 | AR29: REVISADO 30 JUNIO | AS29: REVISADO 15 DE SEPTIEMBRE | AT29: REVISADO 15 DE NOVIEMBRE | AU29: REVISADO 31 DE DICIEMBRE | AV29: REVISADO MARZO 2026 | AW29: REVISADO JUNIO 2026
B30: Número de instituciones educativas vinculadas al programa de Rutas Educativas Seguras | C30: Vincular a ciento ochenta (180) Instituciones Educativas al programa Rutas Educativas Seguras | D30: DATT | E30: 0.25 | F30: 180 | G30: 20 | H30: 50 | I30: 30 | J30: =+G30/F30 -> 0.11111111 | K30: =+H30/F30 -> 0.27777778 | L30: =+I30/F30 -> 0.16666667 | M30: =+(G30/F30)*E30 -> 0.027777778 | N30: =+(H30/F30)*E30 -> 0.069444444 | P30: 20 | Q30: 8 | R30: 80 | S30: 2 | T30: 16 | U30: 0 | V30: =+Q30+R30+S30+T30+U30 -> 106 | W30: =+V30+P30+AB30 -> 156 | X30: 1 | Y30: 29 | AB30: =+X30+Y30+Z30+AA30 -> 30 | AC30: =+(P30/G30) -> 1 | AD30: 1 | AE30: =+AB30/I30 -> 1 | AF30: =+AC30*E30 -> 0.25 | AG30: =+AD30*E30 -> 0.25 | AH30: =+AE30*E30 -> 0.25 | AI30: =+P30/F30 -> 0.11111111 | AJ30: 0.7 | AK30: =+W30/F30 -> 0.86666667 | AL30: =+AI30*E30 -> 0.027777778 | AM30: =+AJ30*E30 -> 0.175 | AN30: =+AK30*E30 -> 0.21666667 | AO30: REVISADO DIC 2024 | AP30: REVISADO MARZO 2025 | AQ30: REVISADO JUNIO 10 | AR30: REVISADO 30 JUNIO | AS30: REVISADO 15 DE SEPTIEMBRE | AT30: REVISADO 15 DE NOVIEMBRE | AU30: REVISADO 31 DE DICIEMBRE | AV30: REVISADO MARZO 2026 | AW30: REVISADO JUNIO 2026
B31: Construccion de paz, Derechos Humanos y Convivencia | E31: 0.1 | F31: =+E31*AF31 -> 0.064343375 | H31: =E31*AG31 -> 0.069202414 | I31: =+E31*AH31 -> 0.035722964 | J31: =+(J32+J36+J39+J44+J52+J57+J77+J87)/8 -> 0.23923611 | K31: =+(K32+K36+K39+K44+K52+K57+K77+K87)/8 -> 0.3364294 | L31: =+(L32+L36+L39+L44+L52+L57+L77+L87)/8 -> 0.27502184 | M31: =+(M32+M36+M39+M44+M52+M57+M77+M87)/8 -> 0.160625 | AC31: =+(AC32+AC36+AC39+AC44+AC52+AC57+AC77+AC87)/8 -> 0.90306155 | AD31: =+(AD32+AD36+AD39+AD44+AD52+AD57+AD77+AD87)/8 -> 0.82692475 | AE31: =+(AE32+AE36+AE39+AE44+AE52+AE57+AE77+AE87)/8 -> 0.42187738 | AF31: =+AF32+AF36+AF39+AF44+AF52+AF57+AF77+AF87 -> 0.64343375 | AG31: =+AG32+AG36+AG39+AG44+AG52+AG57+AG77+AG87 -> 0.69202414 | AH31: =+AH32+AH36+AH39+AH44+AH52+AH57+AH77+AH87 -> 0.35722964 | AI31: =+(AI32+AI36+AI39+AI44+AI52+AI57+AI77+AI87)/8 -> 0.25041409 | AJ31: 0.51564038 | AK31: =+(AK32+AK36+AK39+AK44+AK52+AK57+AK77+AK87)/8 -> 0.61272009 | AL31: =+AL32+AL36+AL39+AL44+AL52+AL57+AL77+AL87 -> 0.19896444 | AM31: =+(AM32*E32)+(AM36*E36)+(AM39*E39)+(AM44*E44)+(AM52*E52)+(AM57*E57)+(AM77*E77)+(AM87*E87) -> 0.49297342 | AN31: =+(AN32*E32)+(AN36*E36)+(AN39*E39)+(AN44*E44)+(AN52*E52)+(AN57*E57)+(AN77*E77)+(AN87*E87) -> 0.58587473
B32: UNA VIDA LIBRE DE VIOLENCIA PARA LAS MUJERES | E32: 0.15 | J32: =+AVERAGE(J33:J35) -> 0.175 | K32: =+AVERAGE(K33:K35) -> 0.25 | L32: =+AVERAGE(L33:L35) -> 0.28333333 | M32: =+M33+M34+M35 -> 0.1525 | N32: =+N33+N34+N35 -> 0.245 | AC32: =+AVERAGE(AC33:AC35) -> 1 | AD32: =+AVERAGE(AD33:AD35) -> 1 | AE32: =+AVERAGE(AE33:AE35) -> 0.54133333 | AF32: =+(AF33+AF34+AF35)*E32 -> 0.15 | AG32: =+(AG33+AG34+AG35)*E32 -> 0.15 | AH32: =+(AH33+AH34+AH35)*E32 -> 0.11244 | AI32: =+AVERAGE(AI33:AI35) -> 0.3692 | AJ32: 0.84073333 | AK32: =+AVERAGE(AK33:AK35) -> 0.91646667 | AL32: =+(AL33+AL34+AL35)*E32 -> 0.061731 | AM32: =+(AM33+AM34+AM35) -> 0.87988 | AN32: =+(AN33+AN34+AN35) -> 0.97476
B33: Número de mujeres víctimas de VBG o en riesgo de padecerla atendidas en servicios de orientación psicosocial y jurídica | C33: Atender a cinco mil (5.000) mujeres víctimas de violencia basada en género o en riesgo de padecerla con servicios de orientación psicosocial y jurídica | D33: SECRETARÍA DE PARTICIPACIÓN Y DESARROLLO SOCIAL | E33: 0.4 | F33: 5000 | G33: 500 | H33: 1500 | I33: 1500 | J33: =+G33/F33 -> 0.1 | K33: =+H33/F33 -> 0.3 | L33: =+I33/F33 -> 0.3 | M33: =+(G33/F33)*E33 -> 0.04 | N33: =+(H33/F33)*E33 -> 0.12 | P33: 2113 | Q33: 950 | R33: 361 | S33: 356 | T33: 112 | U33: 169 | V33: =+Q33+R33+S33+T33+U33 -> 1948 | W33: =+V33+P33+AB33 -> 4997 | X33: 663 | Y33: 273 | AB33: =+X33+Y33+Z33+AA33 -> 936 | AC33: 1 | AD33: 1 | AE33: =+AB33/I33 -> 0.624 | AF33: =+AC33*E33 -> 0.4 | AG33: =+AD33*E33 -> 0.4 | AH33: =+AE33*E33 -> 0.2496 | AI33: =+P33/F33 -> 0.4226 | AJ33: 0.8122 | AK33: =+W33/F33 -> 0.9994 | AL33: =+AI33*E33 -> 0.16904 | AM33: =+AJ33*E33 -> 0.32488 | AN33: =+AK33*E33 -> 0.39976 | AO33: REVISADO DIC 2024 | AP33: REVISADO MARZO 2025 | AQ33: REVISADO JUNIO 10 | AR33: REVISADO 30 JUNIO | AS33: REVISADO 15 DE SEPTIEMBRE | AT33: REVISADO 15 DE NOVIEMBRE | AU33: REVISADO 31 DE DICIEMBRE | AV33: REVISADO MARZO 2026 | AW33: REVISADO JUNIO 2026
B34: Número de mujeres víctimas de violencia, sus hijos e hijas y familia dependiente protegidas en la casa refugio | C34: Proteger doscientas (200) mujeres víctimas de violencia, sus hijos e hijas y familia dependiente en la casa refugio | D34: SECRETARÍA DE PARTICIPACIÓN Y DESARROLLO SOCIAL | E34: 0.5 | F34: 200 | G34: 35 | H34: 40 | I34: 60 | J34: =+G34/F34 -> 0.175 | K34: =+H34/F34 -> 0.2 | L34: =+I34/F34 -> 0.3 | M34: =+(G34/F34)*E34 -> 0.0875 | N34: =+(H34/F34)*E34 -> 0.1 | P34: 87 | Q34: 27 | R34: 35 | S34: 0 | T34: 28 | U34: 15 | V34: =+Q34+R34+S34+T34+U34 -> 105 | W34: =+V34+P34+AB34 -> 257 | X34: 25 | Y34: 40 | AB34: =+X34+Y34+Z34+AA34 -> 65 | AC34: 1 | AD34: 1 | AE34: 1 | AF34: =+AC34*E34 -> 0.5 | AG34: =+AD34*E34 -> 0.5 | AH34: =+AE34*E34 -> 0.5 | AI34: =+P34/F34 -> 0.435 | AJ34: 0.96 | AK34: 1 | AL34: =+AI34*E34 -> 0.2175 | AM34: =+AJ34*E34 -> 0.48 | AN34: =+AK34*E34 -> 0.5 | AO34: REVISADO DIC 2024 | AP34: REVISADO MARZO 2025 | AQ34: REVISADO JUNIO 10 | AR34: REVISADO 30 JUNIO | AS34: REVISADO 15 DE SEPTIEMBRE | AT34: REVISADO 15 DE NOVIEMBRE | AU34: REVISADO 31 DE DICIEMBRE | AV34: REVISADO MARZO 2026 | AW34: REVISADO JUNIO 2026
B35: Número de campañas sobre nuevas masculinidades como estrategia de prevención y erradicación contra estereotipos nocivos de género ejecutadas | C35: Ejecutar cuatro (4) campañas sobre nuevas masculinidades como estrategia de prevención y erradicación contra estereotipos nocivos de género | D35: SECRETARÍA DE PARTICIPACIÓN Y DESARROLLO SOCIAL | E35: 0.1 | F35: 4 | G35: 1 | H35: 1 | I35: 1 | J35: =+G35/F35 -> 0.25 | K35: =+H35/F35 -> 0.25 | L35: =+I35/F35 -> 0.25 | M35: =+(G35/F35)*E35 -> 0.025 | N35: =+(H35/F35)*E35 -> 0.025 | P35: 1 | Q35: 0 | R35: 0 | S35: 0 | T35: 2 | U35: 0 | V35: =+Q35+R35+S35+T35+U35 -> 2 | W35: =+V35+P35+AB35 -> 3 | X35: 0 | Y35: 0 | AB35: =+X35+Y35+Z35+AA35 -> 0 | AC35: =+(P35/G35) -> 1 | AD35: 1 | AE35: =+AB35/I35 -> 0 | AF35: =+AC35*E35 -> 0.1 | AG35: =+AD35*E35 -> 0.1 | AH35: =+AE35*E35 -> 0 | AI35: =+P35/F35 -> 0.25 | AJ35: 0.75 | AK35: =+W35/F35 -> 0.75 | AL35: =+AI35*E35 -> 0.025 | AM35: =+AJ35*E35 -> 0.075 | AN35: =+AK35*E35 -> 0.075 | AO35: REVISADO DIC 2024 | AP35: REVISADO MARZO 2025 | AQ35: REVISADO JUNIO 10 | AR35: REVISADO 30 JUNIO | AS35: REVISADO 15 DE SEPTIEMBRE | AT35: REVISADO 15 DE NOVIEMBRE | AU35: REVISADO 31 DE DICIEMBRE | AV35: REVISADO MARZO 2026 | AW35: REVISADO JUNIO 2026
B36: DERECHO A LA PAZ Y CONVIVENCIA CON EQUIDAD DE GÉNERO | E36: 0.1 | J36: =+AVERAGE(J37:J38) -> 0.25 | K36: =+AVERAGE(K37:K38) -> 0.2125 | L36: =+AVERAGE(L37:L38) -> 0.225 | M36: =+M37+M38 -> 0.25 | N36: =+N37+N38 -> 0.19 | AC36: =+AVERAGE(AC37:AC38) -> 1 | AD36: =+AVERAGE(AD37:AD38) -> 1 | AE36: =+AVERAGE(AE37:AE38) -> 0.25 | AF36: =+(AF37+AF38)*E36 -> 0.1 | AG36: =+(AG37+AG38)*E36 -> 0.1 | AH36: =+(AH37+AH38)*E36 -> 0.01 | AI36: =+AVERAGE(AI37:AI38) -> 0.335 | AJ36: 0.5475 | AK36: =+AVERAGE(AK37:AK38) -> 0.61 | AL36: =+(AL37+AL38)*E36 -> 0.0386 | AM36: =+(AM37+AM38) -> 0.576 | AN36: =+(AN37+AN38) -> 0.601
B37: Mujeres víctimas del conflicto armado como constructoras de paz desde la prevención de las violencias basadas en género | C37: Vincular a doscientas (200) mujeres víctimas del conflicto armado como constructoras de paz en estrategias de prevención de las violencias basadas en género | D37: SECRETARÍA DE PARTICIPACIÓN Y DESARROLLO SOCIAL | E37: 0.8 | F37: 200 | G37: 50 | H37: 35 | I37: 40 | J37: =+G37/F37 -> 0.25 | K37: =+H37/F37 -> 0.175 | L37: =+I37/F37 -> 0.2 | M37: =+(G37/F37)*E37 -> 0.2 | N37: =+(H37/F37)*E37 -> 0.14 | P37: 84 | Q37: 0 | R37: 0 | S37: 35 | T37: 0 | U37: 0 | V37: =+Q37+R37+S37+T37+U37 -> 35 | W37: =+V37+P37+AB37 -> 119 | X37: 0 | Y37: 0 | AB37: =+X37+Y37+Z37+AA37 -> 0 | AC37: 1 | AD37: =+V37/H37 -> 1 | AE37: =+AB37/I37 -> 0 | AF37: =+AC37*E37 -> 0.8 | AG37: =+AD37*E37 -> 0.8 | AH37: =+AE37*E37 -> 0 | AI37: =+P37/F37 -> 0.42 | AJ37: 0.595 | AK37: =+W37/F37 -> 0.595 | AL37: =+AI37*E37 -> 0.336 | AM37: =+AJ37*E37 -> 0.476 | AN37: =+AK37*E37 -> 0.476 | AO37: REVISADO DIC 2024 | AP37: REVISADO MARZO 2025 | AQ37: REVISADO JUNIO 10 | AR37: REVISADO 30 JUNIO | AS37: REVISADO 15 DE SEPTIEMBRE | AT37: REVISADO 15 DE NOVIEMBRE | AU37: REVISADO 31 DE DICIEMBRE | AV37: REVISADO MARZO 2026 | AW37: REVISADO JUNIO 2026
B38: Número de acciones afirmativas ejecutadas para la asistencia y la atención de mujeres víctimas del conflicto armado | C38: Ejecutar una (1) acción afirmativa anual para la asistencia y la atención de mujeres víctimas del conflicto armado | D38: SECRETARÍA DE PARTICIPACIÓN Y DESARROLLO SOCIAL | E38: 0.2 | F38: 4 | G38: 1 | H38: 1 | I38: 1 | J38: =+G38/F38 -> 0.25 | K38: =+H38/F38 -> 0.25 | L38: =+I38/F38 -> 0.25 | M38: =+(G38/F38)*E38 -> 0.05 | N38: =+(H38/F38)*E38 -> 0.05 | P38: 1 | Q38: 0 | R38: 0 | S38: 1 | T38: 0 | U38: 0 | V38: =+Q38+R38+S38+T38+U38 -> 1 | W38: =+V38+P38+AB38 -> 2.5 | X38: 0 | Y38: 0.5 | AB38: =+X38+Y38+Z38+AA38 -> 0.5 | AC38: =+(P38/G38) -> 1 | AD38: =+V38/H38 -> 1 | AE38: =+AB38/I38 -> 0.5 | AF38: =+AC38*E38 -> 0.2 | AG38: =+AD38*E38 -> 0.2 | AH38: =+AE38*E38 -> 0.1 | AI38: =+P38/F38 -> 0.25 | AJ38: 0.5 | AK38: =+W38/F38 -> 0.625 | AL38: =+AI38*E38 -> 0.05 | AM38: =+AJ38*E38 -> 0.1 | AN38: =+AK38*E38 -> 0.125 | AO38: REVISADO DIC 2024 | AP38: REVISADO MARZO 2025 | AQ38: REVISADO JUNIO 10 | AR38: REVISADO 30 JUNIO | AS38: REVISADO 15 DE SEPTIEMBRE | AT38: REVISADO 15 DE NOVIEMBRE | AU38: REVISADO 31 DE DICIEMBRE | AV38: REVISADO MARZO 2026 | AW38: REVISADO JUNIO 2026
B39: CARTAGENA AVANZA EN CONVIVENCIA | E39: 0.15 | J39: =+AVERAGE(J40:J43) -> 0.18333333 | K39: =+AVERAGE(K40:K43) -> 0.35208333 | L39: =+AVERAGE(L40:L43) -> 0.27222222 | M39: =+M40+M41+M42+M43 -> 0.18333333 | N39: =+N40+N41+N42+N43 -> 0.31458333 | AC39: =+AVERAGE(AC40:AC43) -> 1 | AD39: =+AVERAGE(AD40:AD43) -> 0.75 | AE39: =+AVERAGE(AE40:AE43) -> 0.25 | AF39: =+(AF40+AF41+AF42+AF43)*E39 -> 0.15 | AG39: =+(AG40+AG41+AG42+AG43)*E39 -> 0.1125 | AH39: =+(AH40+AH41+AH42+AH43)*E39 -> 0.0375 | AI39: =+AVERAGE(AI40:AI43) -> 0.27083333 | AJ39: 0.625 | AK39: =+AVERAGE(AK40:AK43) -> 0.6875 | AL39: =+(AL40+AL41+AL42+AL43)*E39 -> 0.036875 | AM39: =+(AM40+AM41+AM42+AM43) -> 0.575 | AN39: =+(AN40+AN41+AN42+AN43) -> 0.6375
B40: Centro de traslado para la protección inmediata de las mujeres víctimas de cualquier forma de violencias creado y en funcionamiento en el Distrito | C40: Crear y poner en funcionamiento un (1) Centro de Traslado por Protección-CTP en el Distrito | D40: SECRETARÍA DEL INTERIOR Y CONVIVENCIA CIUDADANA | E40: 0.35 | F40: 4 | G40: 1 | H40: 1 | I40: 1 | J40: =+G40/F40 -> 0.25 | K40: =+H40/F40 -> 0.25 | L40: =+I40/F40 -> 0.25 | M40: =+(G40/F40)*E40 -> 0.0875 | N40: =+(H40/F40)*E40 -> 0.0875 | P40: 1 | Q40: 0 | R40: 1 | S40: 0 | T40: 0 | U40: 0 | V40: =+Q40+R40+S40+T40+U40 -> 1 | W40: =+V40+P40+AB40 -> 2 | X40: 0 | Y40: 0 | AB40: =+X40+Y40+Z40+AA40 -> 0 | AC40: =+(P40/G40) -> 1 | AD40: =+V40/H40 -> 1 | AE40: =+AB40/I40 -> 0 | AF40: =+AC40*E40 -> 0.35 | AG40: =+AD40*E40 -> 0.35 | AH40: =+AE40*E40 -> 0 | AI40: =+P40/F40 -> 0.25 | AJ40: 0.5 | AK40: =+W40/F40 -> 0.5 | AL40: =+AI40*E40 -> 0.0875 | AM40: =+AJ40*E40 -> 0.175 | AN40: =+AK40*E40 -> 0.175 | AO40: REVISADO DIC 2024 | AP40: REVISADO MARZO 2025 | AQ40: REVISADO JUNIO 10 | AR40: REVISADO 30 JUNIO | AS40: REVISAR CON ENLACE | AT40: REVISAR CON ENLACE | AU40: REVISAR CON ENLACE | AV40: REVISAR CON ENLACE | AW40: REVISAR CON ENLACE
B41: Entornos urbanos para la convivencia recuperados y mantenidos | C41: Recuperar y mantener veinte (20) entornos urbanos para la convivencia en el Distrito | D41: SECRETARÍA DEL INTERIOR Y CONVIVENCIA CIUDADANA | E41: 0.25 | F41: 20 | G41: 3 | H41: 4 | I41: 8 | J41: =+G41/F41 -> 0.15 | K41: =+H41/F41 -> 0.2 | L41: =+I41/F41 -> 0.4 | M41: =+(G41/F41)*E41 -> 0.0375 | N41: =+(H41/F41)*E41 -> 0.05 | P41: 5 | Q41: 0 | R41: 0 | S41: 0 | T41: 0 | U41: 0 | V41: =+Q41+R41+S41+T41+U41 -> 0 | W41: =+V41+P41+AB41 -> 5 | X41: 0 | Y41: 0 | AB41: =+X41+Y41+Z41+AA41 -> 0 | AC41: 1 | AD41: =+V41/H41 -> 0 | AE41: =+AB41/I41 -> 0 | AF41: =+AC41*E41 -> 0.25 | AG41: =+AD41*E41 -> 0 | AH41: =+AE41*E41 -> 0 | AI41: =+P41/F41 -> 0.25 | AJ41: 0.25 | AK41: =+W41/F41 -> 0.25 | AL41: =+AI41*E41 -> 0.0625 | AM41: =+AJ41*E41 -> 0.0625 | AN41: =+AK41*E41 -> 0.0625 | AO41: REVISADO DIC 2024 | AP41: REVISADO MARZO 2025 | AQ41: REVISADO JUNIO 10 | AR41: REVISADO 30 JUNIO | AS41: REVISADO 15 DE SEPTIEMBRE | AT41: REVISADO 15 DE NOVIEMBRE | AU41: REVISADO 31 DE DICIEMBRE | AV41: REVISADO MARZO 2026 | AW41: REVISADO JUNIO 2026
...

Sheet Vida Digna
B2: LINEA ESTRATEGICA/COMPONENTE IMPULSOR/ PROGRAMA/ PRODUCTO (INDICADOR)/ META PRODUCTO | D2: RESPONSABLE(S) | E2: VALORACIÓN PONDERACIÓN % (PROPUESTA) | F2: META PRODUCTO (PRODUCTO NUMERICO CUATRIENIO) | G2: PROGRAMADO NUMERICO META PRODUCTO 2024 | H2: PROGRAMADO NUMERICO META PRODUCTO 2025 | I2: PROGRAMADO NUMERICO META PRODUCTO 2026 | J2: ESPERADO PORCENTUAL META PRODUCTO CUATRIENIO EN LA VIGENCIA 2024 | K2: ESPERADO PORCENTUAL META PRODUCTO CUATRIENIO EN LA VIGENCIA 2025 | L2: ESPERADO PORCENTUAL META PRODUCTO CUATRIENIO EN LA VIGENCIA 2026 | M2: ESPERADO PORCENTUAL META PRODUCTO CUATRIENIO EN LA VIGENCIA 2024 (PONDERADOR) | N2: ESPERADO PORCENTUAL META PRODUCTO CUATRIENIO EN LA VIGENCIA 2025 (PONDERADOR) | O2: ESPERADO PORCENTUAL META PRODUCTO CUATRIENIO EN LA VIGENCIA 2026 (PONDERADOR) | P2: AVANCE NUMERICO META PRODUCTO CORTE DICIEMBRE 2024 | Q2: AVANCE NUMERICO META PRODUCTO CORTE MARZO 2025 | R2: AVANCE NUMERICO META PRODUCTO CORTE JUNIO 2025 | S2: AVANCE NUMERICO META PRODUCTO CORTE SEPTIEMBRE 2025 | T2: AVANCE NUMERICO META PRODUCTO CORTE 15 DE NOVIEMBRE 2025 | U2: AVANCE NUMERICO META PRODUCTO CORTE 31 DICIEMBRE 2025 | V2: ACUMULADO PARCIAL 2025 | W2: ACUMULADO 2024 - 2025 - PARCIAL 2026 | X2: AVANCE NUMERICO META PRODUCTO CORTE 31 DE MARZO 2026 | Y2: AVANCE NUMERICO META PRODUCTO CORTE 30 DE JUNIO 2026 | Z2: AVANCE NUMERICO META PRODUCTO CORTE 3O DE SEPTIEMBRE 2026 | AA2: AVANCE NUMERICO META PRODUCTO CORTE 31 DE DICIEMBRE 2026 | AB2: ACUMUALDO PARCIAL 2026 | AC2: LOGRO (%) META PRODUCTO RESPECTO AL PROGRAMADO 2024 CORTE DICIEMBRE | AD2: LOGRO (%) META PRODUCTO RESPECTO AL PROGRAMADO 2025 CORTE DICIEMBRE | AE2: LOGRO (%) META PRODUCTO RESPECTO AL PROGRAMADO 2026 CORTE JUNIO | AF2: LOGRO (%) META PRODUCTO RESPECTO AL PROGRAMADO DICIEMBRE 2024 (PONDERADOR) | AG2: LOGRO (%) META PRODUCTO RESPECTO AL PROGRAMADO DICIEMBRE 2025 (PONDERADOR) | AH2: LOGRO (%) META PRODUCTO RESPECTO AL PROGRAMADO MARZO 2026 (PONDERADOR) | AI2: LOGRO (%) META PRODUCTO RESPECTO AL PROGRAMADO CUATRIENIO ACUMULADO DICIEMBRE 2024 | AJ2: LOGRO (%) META PRODUCTO RESPECTO AL PROGRAMADO CUATRIENIO ACUMULADO DICIEMBRE 2025 | AK2: LOGRO (%) META PRODUCTO RESPECTO AL PROGRAMADO CUATRIENIO ACUMULADO JUNIO 2026 | AL2: LOGRO (%) META PRODUCTO RESPECTO AL PROGRAMADO CUATRIENIO PARCIAL DICIEMBRE 2024 (PONDERADOR) | AM2: LOGRO (%) META PRODUCTO RESPECTO AL PROGRAMADO CUATRIENIO PARCIAL DICIEMBRE (PONDERADOR) | AN2: LOGRO (%) META PRODUCTO RESPECTO AL PROGRAMADO CUATRIENIO JUNIO 2026 (PONDERADOR) | AO2: OBSERVACIONES DICIEMBRE 2024 | AP2: OBSERVACIONES MARZO 2025 | AQ2: OBSERVACIONES 10 JUNIO 2025 | AR2: OBSERVACIONES 30 JUNIO 2025 | AS2: OBSERVACIONES SEPTIEMBRE 15 DE 2025 | AT2: OBSERVACIONES NOVIEMBRE 15 DE 2025 | AU2: OBSERVACIONES DICIEMBRE 2025 | AV2: OBSERVACIONES MARZO 2026 | AW2: OBSERVACIONES JUNIO 2026
B3: VIDA DIGNA | E3: 0.2 | J3: =+(J4+J91+J119+J130+J164+J192)/6 -> 0.25323855 | K3: =+(K4+K91+K119+K130+K164+K192)/6 -> 0.29872027 | L3: =+(L4+L91+L119+L130+L164+L192)/6 -> 0.31001232 | M3: =+(M4+M91+M119+M130+M164+M192)/6 -> 0.20215522 | N3: =+(N4+N91+N119+N130+N164+N192)/6 -> 0.2637725 | AC3: =+(AC4+AC91+AC119+AC130+AC164+AC192)/6 -> 0.86441877 | AD3: =+(AD4+AD1+AD119+AD130+AD164+AD192)/6 -> 0.71907448 | AE3: =+(AE4+AE91+AE119+AE130+AE164+AE192)/6 -> 0.53094459 | AF3: =F4+F91+F119+F130+F164+F192 -> 0.69716842 | AG3: =H4+H91+H119+H130+H164+H192 -> 0.77555896 | AH3: =I4+I91+I119+I130+I164+I192 -> 0.45749536 | AI3: =+(AI4+AI91+AI119+AI130+AI164+AI192)/6 -> 0.2180729 | AJ3: 0.51274857 | AK3: =+(AK4+AK91+AK119+AK130+AK164+AK192)/6 -> 0.63168445 | AL3: =+(AL4+AL91+AL119+AL130+AL164+AL192)/6 -> 0.179619 | AM3: =+(AM4*E4)+(AM91*E91)+(AM119*E119)+(AM130*E130)+(AM164*E164)+(AM192*E192) -> 0.48090129 | AN3: =+(AN4*E4)+(AN91*E91)+(AN119*E119)+(AN130*E130)+(AN164*E164)+(AN192*E192) -> 0.58988273
B4: Educación | E4: 0.3 | F4: =+E4*AF4 -> 0.19700365 | H4: =E4*AG4 -> 0.22922681 | I4: =E4*AH4 -> 0.13246972 | J4: =+(J5+J12+J15+J21+J29+J34+J39+J43+J49+J52+J56+J60+J68+J73+J77+J85)/15 -> 0.269819 | K4: =+(K5+K12+K15+K21+K29+K34+K39+K43+K49+K52+K56+K60+K68+K73+K77+K85)/16 -> 0.26016382 | L4: =+(L5+L12+L15+L21+L29+L34+L39+L43+L49+L52+L56+L60+L68+L73+L77+L85)/16 -> 0.2686448 | M4: =+(M5+M12+M15+M21+M29+M34+M39+M43+M49+M52+M56+M60+M68+M73+M77+M85)/15 -> 0.25378937 | N4: =+(N5+N12+N15+N21+N29+N34+N39+N43+N49+N52+N56+N60+N68+N73+N77+N85)/16 -> 0.31236382 | AC4: =+(AC5+AC12+AC15+AC21+AC29+AC34+AC39+AC43+AC49+AC52+AC56+AC60+AC68+AC73+AC77+AC85)/15 -> 0.6805133 | AD4: =+(AD5+AD12+AD15+AD21+AD29+AD34+AD39+AD43+AD49+AD52+AD56+AD60+AD68+AD73+AD77+AD85)/16 -> 0.85063193 | AE4: =+(AE5+AE12+AE15+AE21+AE29+AE34+AE39+AE43+AE49+AE52+AE56+AE60+AE68+AE73+AE77+AE85)/16 -> 0.5387389 | AF4: =+AF5+AF12+AF15+AF21+AF29+AF34+AF39+AF43+AF49+AF52+AF56+AF60+AF68+AF73+AF77+AF85 -> 0.65667882 | AG4: =+AG5+AG12+AG15+AG21+AG29+AG34+AG39+AG43+AG49+AG52+AG56+AG60+AG68+AG73+AG77+AG85 -> 0.76408935 | AH4: =+AH5+AH12+AH15+AH21+AH29+AH34+AH39+AH43+AH49+AH52+AH56+AH60+AH68+AH73+AH77+AH85 -> 0.44156572 | AI4: =(AI5+AI12+AI15+AI21+AI29+AI34+AI39+AI43+AI49+AI52+AI56+AI60+AI68+AI73+AI77+AI85)/15 -> 0.21333072 | AJ4: 0.50550379 | AK4: =(AK5+AK12+AK15+AK21+AK29+AK34+AK39+AK43+AK49+AK52+AK56+AK60+AK68+AK73+AK77+AK85)/16 -> 0.60716309 | AL4: =+AL5+AL12+AL15+AL21+AL29+AL34+AL39+AL43+AL49+AL52+AL56+AL60+AL68+AL73+AL77+AL85 -> 0.19538897 | AM4: =+(AM5*E5)+(AM12*E12)+(AM15*E15)+(AM21*E21)+(AM29*E29)+(AM34*E34)+(AM39*E39)+(AM43*E43)+(AM49*E49)+(AM52*E52)+(AM56*E56)+(AM60*E60)+(AM68*E68)+(AM73*E73)+(AM77*E77)+(AM85*E85) -> 0.44645446 | AN4: =+(AN5*E5)+(AN12*E12)+(AN15*E15)+(AN21*E21)+(AN29*E29)+(AN34*E34)+(AN39*E39)+(AN43*E43)+(AN49*E49)+(AN52*E52)+(AN56*E56)+(AN60*E60)+(AN68*E68)+(AN73*E73)+(AN77*E77)+(AN85*E85) -> 0.53869491
B5: MODERNIZACIÓN DE LA INFRAESTRUCTURA EDUCATIVA | E5: 0.25 | J5: =+AVERAGE(J6:J11) -> 0.13533333 | K5: =+AVERAGE(K6:K11) -> 0.26333333 | L5: =+AVERAGE(L6:L11) -> 0.36180556 | M5: =+M6+M7+M8+M9+M10+M11 -> 0.12433333 | N5: =+N6+N7+N8+N9+N10+N11 -> 1.2288333 | AC5: =+AVERAGE(AC6:AC11) -> 0.73125 | AD5: =+AVERAGE(AD6:AD11) -> 0.70866013 | AE5: =+AVERAGE(AE6:AE11) -> 0.26566907 | AF5: =+(AF6+AF7+AF8+AF9+AF10+AF11)*E5 -> 0.16640625 | AG5: =+(AG6+AG7+AG8+AG9+AG10+AG11)*E5 -> 0.20504902 | AH5: =+(AH6+AH7+AH8+AH9+AH10+AH11)*E5 -> 0.058146101 | AI5: =+AVERAGE(AI6:AI11) -> 0.10613333 | AJ5: 0.29002778 | AK5: =+AVERAGE(AK6:AK11) -> 0.39311111 | AL5: =+(AL6+AL7+AL8+AL9+AL10+AL11)*E5 -> 0.024725 | AM5: =+(AM6+AM7+AM8+AM9+AM10+AM11) -> 0.34426667 | AN5: =+(AN6+AN7+AN8+AN9+AN10+AN11) -> 0.42336667
B6: Plan Maestro de Infraestructura Educativa formulado e implementado | C6: Formular un (1) Plan Maestro de Infraestructura Educativa | D6: SECRETARÍA DE EDUCACIÓN - SED | E6: 0.1 | F6: 1 | H6: 0.3 | I6: 0.7 | K6: =+H6/F6 -> 0.3 | L6: =+I6/F6 -> 0.7 | N6: =+K6/H6 -> 1 | Q6: 0.1 | R6: 0 | S6: 0 | T6: 0 | U6: 0 | V6: =+Q6+R6+S6+T6+U6 -> 0.1 | W6: =+V6+P6+AB6 -> 0.3 | X6: 0 | Y6: 0.2 | AB6: =+X6+Y6+Z6+AA6 -> 0.2 | AD6: =+V6/H6 -> 0.33333333 | AE6: =+AB6/I6 -> 0.28571429 | AG6: =+AD6*E6 -> 0.033333333 | AH6: =+AE6*E6 -> 0.028571429 | AJ6: 0.1 | AK6: =+W6/F6 -> 0.3 | AM6: =+AJ6*E6 -> 0.01 | AN6: =+AK6*E6 -> 0.03 | AO6: REVISADO MARZO 2025 | AP6: REVISADO DIC 2025 | AQ6: REVISADO JUNIO 10 | AR6: REVISADO 30 DE JUNIO | AS6: REVISADO 15 DE SEPTIEMBRE 2025 | AT6: REVISADO 15 DE NOVIEMBRE 2025 | AU6: REVISADO 31 DE DICIEMBRE 2025 | AV6: REVISADO MARZO 2026 | AW6: REVISADO JUNIO 2026
B7: Número de predios de IEO legalizados | C7: Legalizar sesenta (60) predios de Instituciones Educativas Oficiales | D7: SECRETARÍA DE EDUCACIÓN - SED | E7: 0.1 | F7: 60 | G7: 5 | H7: 17 | I7: 21 | J7: =+G7/F7 -> 0.083333333 | K7: =+H7/F7 -> 0.28333333 | L7: =+I7/F7 -> 0.35 | M7: =+(G7/F7)*E7 -> 0.0083333333 | N7: =+(H7/F7)*E7 -> 0.028333333 | P7: 3 | Q7: 0 | R7: 0 | S7: 0 | T7: 0 | U7: 1 | V7: =+Q7+R7+S7+T7+U7 -> 1 | W7: =+V7+P7+AB7 -> 4 | X7: 0 | Y7: 0 | AB7: =+X7+Y7+Z7+AA7 -> 0 | AC7: =+(P7/G7) -> 0.6 | AD7: =+V7/H7 -> 0.058823529 | AE7: =+AB7/I7 -> 0 | AF7: =+AC7*E7 -> 0.06 | AG7: =+AD7*E7 -> 0.0058823529 | AH7: =+AE7*E7 -> 0 | AI7: =+P7/F7 -> 0.05 | AJ7: 0.016666667 | AK7: =+W7/F7 -> 0.066666667 | AL7: =+AI7*E7 -> 0.005 | AM7: =+AJ7*E7 -> 0.0016666667 | AN7: =+AK7*E7 -> 0.0066666667 | AO7: REVISADO DIC 2024 | AP7: REVISADO DIC 2025 | AQ7: REVISADO JUNIO 10 | AR7: REVISADO 30 DE JUNIO | AS7: REVISADO 15 DE SEPTIEMBRE 2025 | AT7: REVISADO 15 DE NOVIEMBRE 2025 | AU7: REVISADO 31 DE DICIEMBRE 2025 | AV7: REVISADO MARZO 2026 | AW7: REVISADO JUNIO 2026
B8: Número de nuevas Instituciones Educativas Oficiales construidas | C8: Construir cinco (5) nuevas Instituciones Educativas Oficiales | D8: SECRETARÍA DE EDUCACIÓN - SED | E8: 0.2 | F8: 5 | G8: 1 | H8: 1 | I8: 1.05 | J8: =+G8/F8 -> 0.2 | K8: =+H8/F8 -> 0.2 | L8: =+I8/F8 -> 0.21 | M8: =+(G8/F8)*E8 -> 0.04 | N8: =+(H8/F8)*E8 -> 0.04 | P8: 1 | Q8: 0 | R8: 0.4 | S8: 0.12 | T8: 0 | U8: 0.43 | V8: =+Q8+R8+S8+T8+U8 -> 0.95 | W8: =+V8+P8+AB8 -> 2 | X8: 0.04 | Y8: 0.01 | AB8: =+X8+Y8+Z8+AA8 -> 0.05 | AC8: =+(P8/G8) -> 1 | AD8: =+V8/H8 -> 0.95 | AE8: =+AB8/I8 -> 0.047619048 | AF8: =+AC8*E8 -> 0.2 | AG8: =+AD8*E8 -> 0.19 | AH8: =+AE8*E8 -> 0.0095238095 | AI8: =+P8/F8 -> 0.2 | AJ8: 0.39 | AK8: =+W8/F8 -> 0.4 | AL8: =+AI8*E8 -> 0.04 | AM8: =+AJ8*E8 -> 0.078 | AN8: =+AK8*E8 -> 0.08 | AO8: REVISADO DIC 2024 | AP8: REVISADO DIC 2025 | AQ8: REVISADO JUNIO 10 | AR8: REVISADO 30 DE JUNIO | AS8: REVISADO 15 DE SEPTIEMBRE 2025 | AT8: REVISADO 15 DE NOVIEMBRE 2025 | AU8: REVISADO 31 DE DICIEMBRE 2025 | AV8: REVISADO MARZO 2026 | AW8: REVISADO JUNIO 2026
B9: Número de sedes educativas reconstruidas y/o con ampliación de la infraestructura | C9: Reconstruir y/o ampliar quince (15) sedes educativas | D9: SECRETARÍA DE EDUCACIÓN - SED | E9: 0.3 | F9: 15 | G9: 2 | H9: 4 | I9: 5 | J9: =+G9/F9 -> 0.13333333 | K9: =+H9/F9 -> 0.26666667 | L9: =+I9/F9 -> 0.33333333 | M9: =+(G9/F9)*E9 -> 0.04 | N9: =+(H9/F9)*E9 -> 0.08 | P9: 1 | Q9: 1 | R9: 1 | S9: 3 | T9: 0 | U9: 0 | V9: =+Q9+R9+S9+T9+U9 -> 5 | W9: =+V9+P9+AB9 -> 6 | X9: 0 | Y9: 0 | AB9: =+X9+Y9+Z9+AA9 -> 0 | AC9: =+(P9/G9) -> 0.5 | AD9: 1 | AE9: =+AB9/I9 -> 0 | AF9: =+AC9*E9 -> 0.15 | AG9: =+AD9*E9 -> 0.3 | AH9: =+AE9*E9 -> 0 | AI9: =+P9/F9 -> 0.066666667 | AJ9: 0.4 | AK9: =+W9/F9 -> 0.4 | AL9: =+AI9*E9 -> 0.02 | AM9: =+AJ9*E9 -> 0.12 | AN9: =+AK9*E9 -> 0.12 | AO9: REVISADO DIC 2024 | AP9: REVISADO DIC 2025 | AQ9: REVISADO JUNIO 10 | AR9: REVISADO 30 DE JUNIO | AS9: REVISADO 15 DE SEPTIEMBRE 2025 | AT9: REVISADO 15 DE NOVIEMBRE 2025 | AU9: REVISADO 31 DE DICIEMBRE 2025 | AV9: REVISADO MARZO 2026 | AW9: REVISADO JUNIO 2026
B10: Número de sedes educativas mejoradas y/o adecuadas | C10: Mejorar y/o adecuar ochenta (80) sedes educativas | D10: SECRETARÍA DE EDUCACIÓN - SED | E10: 0.2 | F10: 80 | G10: 8 | H10: 22 | I10: 19 | J10: =+G10/F10 -> 0.1 | K10: =+H10/F10 -> 0.275 | L10: =+I10/F10 -> 0.2375 | M10: =+(G10/F10)*E10 -> 0.02 | N10: =+(H10/F10)*E10 -> 0.055 | P10: 10 | Q10: 10 | R10: 0 | S10: 21 | T10: 0 | U10: 0 | V10: =+Q10+R10+S10+T10+U10 -> 31 | W10: =+V10+P10+AB10 -> 54 | X10: 9 | Y10: 4 | AB10: =+X10+Y10+Z10+AA10 -> 13 | AC10: 1 | AD10: 1 | AE10: =+AB10/I10 -> 0.68421053 | AF10: =+AC10*E10 -> 0.2 | AG10: =+AD10*E10 -> 0.2 | AH10: =+AE10*E10 -> 0.13684211 | AI10: =+P10/F10 -> 0.125 | AJ10: 0.5125 | AK10: =+W10/F10 -> 0.675 | AL10: =+AI10*E10 -> 0.025 | AM10: =+AJ10*E10 -> 0.1025 | AN10: =+AK10*E10 -> 0.135 | AO10: REVISADO DIC 2024 | AP10: REVISADO DIC 2025 | AQ10: REVISADO JUNIO 10 | AR10: REVISADO 30 DE JUNIO | AS10: REVISADO 15 DE SEPTIEMBRE 2025 | AT10: REVISADO 15 DE NOVIEMBRE 2025 | AU10: REVISADO 31 DE DICIEMBRE 2025 | AV10: REVISADO MARZO 2026 | AW10: REVISADO JUNIO 2026
B11: Número de aulas con dotación de mobiliario escolar y material pedagógico | C11: Dotar mil (1.000) aulas con mobiliario escolar, aires acondicionados, abanicos y material pedagógico | D11: SECRETARÍA DE EDUCACIÓN - SED | E11: 0.1 | F11: 1000 | G11: 160 | H11: 255 | I11: 340 | J11: =+G11/F11 -> 0.16 | K11: =+H11/F11 -> 0.255 | L11: =+I11/F11 -> 0.34 | M11: =+(G11/F11)*E11 -> 0.016 | N11: =+(H11/F11)*E11 -> 0.0255 | P11: 89 | Q11: 111 | R11: 75 | S11: 17 | T11: 0 | U11: 29 | V11: =+Q11+R11+S11+T11+U11 -> 232 | W11: =+V11+P11+AB11 -> 517 | X11: 95 | Y11: 101 | AB11: =+X11+Y11+Z11+AA11 -> 196 | AC11: =+(P11/G11) -> 0.55625 | AD11: =+V11/H11 -> 0.90980392 | AE11: =+AB11/I11 -> 0.57647059 | AF11: =+AC11*E11 -> 0.055625 | AG11: =+AD11*E11 -> 0.090980392 | AH11: =+AE11*E11 -> 0.057647059 | AI11: =+P11/F11 -> 0.089 | AJ11: 0.321 | AK11: =+W11/F11 -> 0.517 | AL11: =+AI11*E11 -> 0.0089 | AM11: =+AJ11*E11 -> 0.0321 | AN11: =+AK11*E11 -> 0.0517 | AO11: REVISADO DIC 2024 | AP11: REVISADO DIC 2025 | AQ11: REVISADO JUNIO 10 | AR11: REVISADO 30 DE JUNIO | AS11: REVISADO 15 DE SEPTIEMBRE 2025 | AT11: REVISADO 15 DE NOVIEMBRE 2025 | AU11: REVISADO 31 DE DICIEMBRE 2025 | AV11: REVISADO MARZO 2026 | AW11: REVISADO JUNIO 2026
B12: AVANZANDO DESDE EL COMIENZO | E12: 0.02 | J12: =+AVERAGE(J13:J14) -> 0.33035714 | K12: =+AVERAGE(K13:K14) -> 0.43154762 | L12: =+AVERAGE(L13:L14) -> 0.24404762 | M12: =+M13+M14 -> 0.33928571 | N12: =+N13+N14 -> 0.4702381 | AC12: =+AVERAGE(AC13:AC15) -> 0.76545416 | AD12: =+AVERAGE(AD13:AD14) -> 1 | AE12: =+AVERAGE(AE13:AE14) -> 0.5 | AF12: =+(AF13+AF14)*E12 -> 0.014666667 | AG12: =+(AG13+AG14)*E12 -> 0.02 | AH12: =+(AH13+AH14)*E12 -> 0.012 | AI12: =+AVERAGE(AI13:AI14) -> 0.23511905 | AJ12: 0.57440476 | AK12: =+AVERAGE(AK13:AK14) -> 0.69940476 | AL12: =+(AL13+AL14)*E12 -> 0.0052619048 | AM12: =+(AM13+AM14) -> 0.58452381 | AN12: =+(AN13+AN14) -> 0.73452381
B13: Número de Instituciones Educativas Oficiales con oferta de educación inicial para la atención a la primera infancia implementada | C13: Implementar encuarenta (40) IEO con oferta de educación inicial para la atención de la primera infancia | D13: SECRETARÍA DE EDUCACIÓN - SED | E13: 0.6 | F13: 40 | G13: 15 | H13: 25 | I13: 10 | J13: =+G13/F13 -> 0.375 | K13: =+H13/F13 -> 0.625 | L13: =+I13/F13 -> 0.25 | M13: =+(G13/F13)*E13 -> 0.225 | N13: =+(H13/F13)*E13 -> 0.375 | P13: 15 | Q13: 10 | R13: 0 | S13: 0 | T13: 0 | U13: 0 | V13: =+Q13+R13+S13+T13+U13 -> 10 | W13: =+V13+P13+AB13 -> 35 | X13: 10 | Y13: 0 | AB13: =+X13+Y13+Z13+AA13 -> 10 | AC13: =+(P13/G13) -> 1 | AD13: =+V13/10 -> 1 | AE13: =+AB13/I13 -> 1 | AF13: =+AC13*E13 -> 0.6 | AG13: =+AD13*E13 -> 0.6 | AH13: =+AE13*E13 -> 0.6 | AI13: =+P13/F13 -> 0.375 | AJ13: 0.625 | AK13: =+W13/F13 -> 0.875 | AL13: =+AI13*E13 -> 0.225 | AM13: =+AJ13*E13 -> 0.375 | AN13: =+AK13*E13 -> 0.525 | AO13: REVISADO DIC 2024 | AP13: META CUMPLIDA MARZO 2025 | AQ13: REVISADO JUNIO 10 | AR13: REVISADO 30 DE JUNIO | AS13: REVISADO 15 DE SEPTIEMBRE 2025 | AT13: REVISADO 15 DE NOVIEMBRE 2025 | AU13: REVISADO 31 DE DICIEMBRE 2025 | AV13: REVISADO MARZO 2026 | AW13: REVISADO JUNIO 2026
B14: Número de Instituciones Educativas Oficiales asesoradas con estrategias de articulación institucional para asegurar el tránsito armónico de niños y niñas desde los programas de atención a la primera infancia del ICBF al sistema educativo oficial | C14: Asesorar a ciento cinco (105) Instituciones Educativas Oficiales con estrategias de articulación institucional para asegurar el tránsito armónico de los niños y niñas desde los programas de atención a la primera infancia del ICBF al sistema educativo oficial | D14: SECRETARÍA DE EDUCACIÓN - SED | E14: 0.4 | F14: 105 | G14: 30 | H14: 25 | I14: 25 | J14: =+G14/F14 -> 0.28571429 | K14: =+H14/F14 -> 0.23809524 | L14: =+I14/F14 -> 0.23809524 | M14: =+(G14/F14)*E14 -> 0.11428571 | N14: =+(H14/F14)*E14 -> 0.095238095 | P14: 10 | Q14: 20 | R14: 6 | S14: 19 | T14: 0 | U14: 0 | V14: =+Q14+R14+S14+T14+U14 -> 45 | W14: =+V14+P14+AB14 -> 55 | X14: 0 | Y14: 0 | AB14: =+X14+Y14+Z14+AA14 -> 0 | AC14: =+(P14/G14) -> 0.33333333 | AD14: 1 | AE14: =+AB14/I14 -> 0 | AF14: =+AC14*E14 -> 0.13333333 | AG14: =+AD14*E14 -> 0.4 | AH14: =+AE14*E14 -> 0 | AI14: =+P14/F14 -> 0.095238095 | AJ14: 0.52380952 | AK14: =+W14/F14 -> 0.52380952 | AL14: =+AI14*E14 -> 0.038095238 | AM14: =+AJ14*E14 -> 0.20952381 | AN14: =+AK14*E14 -> 0.20952381 | AO14: REVISADO DIC 2024 | AP14: REVISADO MARZO 2025 | AQ14: REVISADO JUNIO 10 | AR14: REVISADO 30 DE JUNIO | AS14: REVISADO 15 DE SEPTIEMBRE 2025 | AT14: REVISADO 15 DE NOVIEMBRE 2025 | AU14: REVISADO 31 DE DICIEMBRE 2025 | AV14: REVISADO MARZO 2026 | AW14: REVISADO JUNIO 2026
B15: ME QUEDO PORQUE ME QUEDO | E15: 0.1 | J15: =+AVERAGE(J16:J20) -> 0.24305556 | K15: =+AVERAGE(K16:K20) -> 0.26562064 | L15: =+AVERAGE(L16:L20) -> 0.29013947 | M15: =+M16+M17+M18+M19+M20 -> 0.22361111 | N15: =+N16+N17+N18+N19+N20 -> 0.25364365 | AC15: =+AVERAGE(AC16:AC20) -> 0.96302914 | AD15: =+AVERAGE(AD16:AD20) -> 0.74378182 | AE15: =+AVERAGE(AE16:AE20) -> 0.49806061 | AF15: =+(AF16+AF17+AF18+AF19+AF20)*E15 -> 0.085862845 | AG15: =+(AG16+AG17+AG18+AG19+AG20)*E15 -> 0.084378182 | AH15: =+(AH16+AH17+AH18+AH19+AH20)*E15 -> 0.057806061 | AI15: =+AVERAGE(AI16:AI20) -> 0.24497534 | AJ15: 0.39804673 | AK15: =+AVERAGE(AK16:AK20) -> 0.53033966 | AL15: =+(AL16+AL17+AL18+AL19+AL20)*E15 -> 0.022443072 | AM15: =+(AM16+AM17+AM18+AM19+AM20) -> 0.43835776 | AN15: =+(AN16+AN17+AN18+AN19+AN20) -> 0.58481736
